BEGIN:VCALENDAR
VERSION:2.0
PRODID:-//Scouts Sint-Jan Oostende - ECPv6.0.9//NONSGML v1.0//EN
CALSCALE:GREGORIAN
METHOD:PUBLISH
X-ORIGINAL-URL:https://www.scouts-sintjan.be
X-WR-CALDESC:Events for Scouts Sint-Jan Oostende
REFRESH-INTERVAL;VALUE=DURATION:PT1H
X-Robots-Tag:noindex
X-PUBLISHED-TTL:PT1H
BEGIN:VTIMEZONE
TZID:Europe/Brussels
BEGIN:DAYLIGHT
TZOFFSETFROM:+0100
TZOFFSETTO:+0200
TZNAME:CEST
DTSTART:20250330T010000
END:DAYLIGHT
BEGIN:STANDARD
TZOFFSETFROM:+0200
TZOFFSETTO:+0100
TZNAME:CET
DTSTART:20251026T010000
END:STANDARD
END:VTIMEZONE
BEGIN:VEVENT
DTSTART;TZID=Europe/Brussels:20250914T134500
DTEND;TZID=Europe/Brussels:20250914T173000
DTSTAMP:20260422T063230
CREATED:20250902T132510Z
LAST-MODIFIED:20250902T132510Z
UID:6676-1757857500-1757871000@www.scouts-sintjan.be
SUMMARY:Activiteit met oude tak
DESCRIPTION:Reunieee
URL:https://www.scouts-sintjan.be/event/activiteit-met-oude-tak/
CATEGORIES:Jongverkenners
END:VEVENT
BEGIN:VEVENT
DTSTART;TZID=Europe/Brussels:20250924T080000
DTEND;TZID=Europe/Brussels:20250924T170000
DTSTAMP:20260422T063230
CREATED:20251123T123033Z
LAST-MODIFIED:20250925T090657Z
UID:6771-1758700800-1758733200@www.scouts-sintjan.be
SUMMARY:Spetter spieter water
DESCRIPTION:51.344845\, 3.288166
URL:https://www.scouts-sintjan.be/event/spetter-spieter-water/
CATEGORIES:Verkenners
END:VEVENT
BEGIN:VEVENT
DTSTART;TZID=Europe/Brussels:20250928T133000
DTEND;TZID=Europe/Brussels:20250928T173000
DTSTAMP:20260422T063230
CREATED:20250926T164132Z
LAST-MODIFIED:20250926T164132Z
UID:6828-1759066200-1759080600@www.scouts-sintjan.be
SUMMARY:Wie zie je gie?
DESCRIPTION:Ik zien Jeaaaaan\, en wie zie je gie?
URL:https://www.scouts-sintjan.be/event/wie-zie-je-gie/
LOCATION:Scouts Sint-Jan\, Lindenlaan 30 B\, Oostende\, 8400\, België
CATEGORIES:Wolven
END:VEVENT
BEGIN:VEVENT
DTSTART;TZID=Europe/Brussels:20250928T134500
DTEND;TZID=Europe/Brussels:20250928T134500
DTSTAMP:20260422T063230
CREATED:20250927T153353Z
LAST-MODIFIED:20250927T154406Z
UID:6857-1759067100-1759067100@www.scouts-sintjan.be
SUMMARY:Wie is zij/hij/het?
DESCRIPTION:https://www.youtube.com/watch?v=bgJ_1WuhUig 
URL:https://www.scouts-sintjan.be/event/wie-is-zij-hij-het/
LOCATION:Scouts Sint-Jan\, Lindenlaan 30 B\, Oostende\, 8400\, België
CATEGORIES:Jongverkenners
END:VEVENT
BEGIN:VEVENT
DTSTART;TZID=Europe/Brussels:20250928T134500
DTEND;TZID=Europe/Brussels:20250928T173000
DTSTAMP:20260422T063230
CREATED:20250925T145109Z
LAST-MODIFIED:20250925T145943Z
UID:6811-1759067100-1759080600@www.scouts-sintjan.be
SUMMARY:Ik ben een welp en wie ben jij?
DESCRIPTION:Wij zijn de welpenleiding\, wie zie gie?
URL:https://www.scouts-sintjan.be/event/ik-ben-een-welp-en-wie-ben-jij/
LOCATION:Scouts Sint-Jan\, Lindenlaan 30 B\, Oostende\, 8400\, België
CATEGORIES:Welpen
END:VEVENT
BEGIN:VEVENT
DTSTART;TZID=Europe/Brussels:20250928T140000
DTEND;TZID=Europe/Brussels:20250928T173000
DTSTAMP:20260422T063230
CREATED:20250924T093522Z
LAST-MODIFIED:20250924T093522Z
UID:6757-1759068000-1759080600@www.scouts-sintjan.be
SUMMARY:C’est qui a l’appareil ?
DESCRIPTION:Ik\, jij\, hij of zij\, iedereen heeft iemand nodig 
URL:https://www.scouts-sintjan.be/event/cest-qui-a-lappareil/
LOCATION:Scouts Sint-Jan\, Lindenlaan 30 B\, Oostende\, 8400\, België
CATEGORIES:Verkenners
END:VEVENT
END:VCALENDAR