BEGIN:VCALENDAR
VERSION:2.0
PRODID:-//Scouts Sint-Jan Oostende - ECPv6.0.9//NONSGML v1.0//EN
CALSCALE:GREGORIAN
METHOD:PUBLISH
X-WR-CALNAME:Scouts Sint-Jan Oostende
X-ORIGINAL-URL:https://www.scouts-sintjan.be
X-WR-CALDESC:Events for Scouts Sint-Jan Oostende
REFRESH-INTERVAL;VALUE=DURATION:PT1H
X-Robots-Tag:noindex
X-PUBLISHED-TTL:PT1H
BEGIN:VTIMEZONE
TZID:Europe/Brussels
BEGIN:DAYLIGHT
TZOFFSETFROM:+0100
TZOFFSETTO:+0200
TZNAME:CEST
DTSTART:20250330T010000
END:DAYLIGHT
BEGIN:STANDARD
TZOFFSETFROM:+0200
TZOFFSETTO:+0100
TZNAME:CET
DTSTART:20251026T010000
END:STANDARD
END:VTIMEZONE
BEGIN:VEVENT
DTSTART;TZID=Europe/Brussels:20250503T140000
DTEND;TZID=Europe/Brussels:20250503T173000
DTSTAMP:20260422T124831
CREATED:20250218T080905Z
LAST-MODIFIED:20250218T080905Z
UID:6597-1746280800-1746293400@www.scouts-sintjan.be
SUMMARY:overnachting - 24u spel ca&sh me outside
DESCRIPTION:meer info volgt
URL:https://www.scouts-sintjan.be/event/overnachting-24u-spel-cash-me-outside/
CATEGORIES:Verkenners
END:VEVENT
BEGIN:VEVENT
DTSTART;TZID=Europe/Brussels:20250504T133000
DTEND;TZID=Europe/Brussels:20250504T173000
DTSTAMP:20260422T124831
CREATED:20241102T153710Z
LAST-MODIFIED:20241102T153710Z
UID:6464-1746365400-1746379800@www.scouts-sintjan.be
SUMMARY:Murder mystery
DESCRIPTION:Roblox lore where you at
URL:https://www.scouts-sintjan.be/event/murder-mystery-2/
LOCATION:Scouts Sint-Jan\, Lindenlaan 30 B\, Oostende\, 8400\, België
CATEGORIES:Jongverkenners
END:VEVENT
BEGIN:VEVENT
DTSTART;TZID=Europe/Brussels:20250504T133000
DTEND;TZID=Europe/Brussels:20250504T173000
DTSTAMP:20260422T124831
CREATED:20250122T202931Z
LAST-MODIFIED:20250122T202931Z
UID:6561-1746365400-1746379800@www.scouts-sintjan.be
SUMMARY:Creamiddag
DESCRIPTION:Wie maakt de beste creaties?
URL:https://www.scouts-sintjan.be/event/creamiddag/
LOCATION:Scouts Sint-Jan\, Lindenlaan 30 B\, Oostende\, 8400\, België
CATEGORIES:Welpen
END:VEVENT
BEGIN:VEVENT
DTSTART;TZID=Europe/Brussels:20250504T140000
DTEND;TZID=Europe/Brussels:20250504T173000
DTSTAMP:20260422T124831
CREATED:20241203T163528Z
LAST-MODIFIED:20241203T163528Z
UID:6511-1746367200-1746379800@www.scouts-sintjan.be
SUMMARY:8400
DESCRIPTION:Ik heb de zon zien zakken in de zee
URL:https://www.scouts-sintjan.be/event/8400/
LOCATION:Scouts Sint-Jan\, Lindenlaan 30 B\, Oostende\, 8400\, België
CATEGORIES:Wolven
END:VEVENT
BEGIN:VEVENT
DTSTART;TZID=Europe/Brussels:20250511T133000
DTEND;TZID=Europe/Brussels:20250511T173000
DTSTAMP:20260422T124831
CREATED:20241102T153835Z
LAST-MODIFIED:20241102T153835Z
UID:6466-1746970200-1746984600@www.scouts-sintjan.be
SUMMARY:Un vaso de agua sin gas\, por favor.
DESCRIPTION:Ola\, Chorizo
URL:https://www.scouts-sintjan.be/event/un-vaso-de-agua-sin-gas-por-favor/
LOCATION:Scouts Sint-Jan\, Lindenlaan 30 B\, Oostende\, 8400\, België
CATEGORIES:Jongverkenners
END:VEVENT
BEGIN:VEVENT
DTSTART;TZID=Europe/Brussels:20250511T133000
DTEND;TZID=Europe/Brussels:20250511T173000
DTSTAMP:20260422T124831
CREATED:20250122T203046Z
LAST-MODIFIED:20250122T203046Z
UID:6563-1746970200-1746984600@www.scouts-sintjan.be
SUMMARY:Levend ganzenbord
DESCRIPTION:Ganzenbord maar leuker!!
URL:https://www.scouts-sintjan.be/event/levend-ganzenbord/
LOCATION:Scouts Sint-Jan\, Lindenlaan 30 B\, Oostende\, 8400\, België
CATEGORIES:Welpen
END:VEVENT
BEGIN:VEVENT
DTSTART;TZID=Europe/Brussels:20250511T140000
DTEND;TZID=Europe/Brussels:20250511T173000
DTSTAMP:20260422T124831
CREATED:20241203T163612Z
LAST-MODIFIED:20241203T163612Z
UID:6513-1746972000-1746984600@www.scouts-sintjan.be
SUMMARY:Barista Sint-Jan
DESCRIPTION:Mocktails met mate(n)
URL:https://www.scouts-sintjan.be/event/barista-sint-jan-3/
LOCATION:Scouts Sint-Jan\, Lindenlaan 30 B\, Oostende\, 8400\, België
CATEGORIES:Wolven
END:VEVENT
BEGIN:VEVENT
DTSTART;TZID=Europe/Brussels:20250511T140000
DTEND;TZID=Europe/Brussels:20250511T173000
DTSTAMP:20260422T124831
CREATED:20250218T080942Z
LAST-MODIFIED:20250218T080942Z
UID:6599-1746972000-1746984600@www.scouts-sintjan.be
SUMMARY:Vlotje maken
DESCRIPTION:spetter spatter\, lekker nat
URL:https://www.scouts-sintjan.be/event/vlotje-maken/
CATEGORIES:Verkenners
END:VEVENT
BEGIN:VEVENT
DTSTART;TZID=Europe/Brussels:20250518T133000
DTEND;TZID=Europe/Brussels:20250518T173000
DTSTAMP:20260422T124831
CREATED:20241102T154007Z
LAST-MODIFIED:20241102T154007Z
UID:6468-1747575000-1747589400@www.scouts-sintjan.be
SUMMARY:Baywatch
DESCRIPTION:Neem je fiets mee want jullie gaan levens redden. Zwemkledij is ook handig.
URL:https://www.scouts-sintjan.be/event/baywatch/
LOCATION:Scouts Sint-Jan\, Lindenlaan 30 B\, Oostende\, 8400\, België
CATEGORIES:Jongverkenners
END:VEVENT
BEGIN:VEVENT
DTSTART;TZID=Europe/Brussels:20250518T133000
DTEND;TZID=Europe/Brussels:20250518T173000
DTSTAMP:20260422T124831
CREATED:20250122T203205Z
LAST-MODIFIED:20250122T203205Z
UID:6565-1747575000-1747589400@www.scouts-sintjan.be
SUMMARY:Waterspelletjes
DESCRIPTION:Hou je vast\, het zal een dag worden vol waterpret!
URL:https://www.scouts-sintjan.be/event/waterspelletjes-9/
LOCATION:Scouts Sint-Jan\, Lindenlaan 30 B\, Oostende\, 8400\, België
CATEGORIES:Welpen
END:VEVENT
BEGIN:VEVENT
DTSTART;TZID=Europe/Brussels:20250518T140000
DTEND;TZID=Europe/Brussels:20250518T173000
DTSTAMP:20260422T124831
CREATED:20241203T163740Z
LAST-MODIFIED:20241203T163740Z
UID:6515-1747576800-1747589400@www.scouts-sintjan.be
SUMMARY:Tis ma water wi
DESCRIPTION:Water Kater Flater
URL:https://www.scouts-sintjan.be/event/tis-ma-water-wi/
LOCATION:Scouts Sint-Jan\, Lindenlaan 30 B\, Oostende\, 8400\, België
CATEGORIES:Wolven
END:VEVENT
BEGIN:VEVENT
DTSTART;TZID=Europe/Brussels:20250518T140000
DTEND;TZID=Europe/Brussels:20250518T173000
DTSTAMP:20260422T124831
CREATED:20250218T081014Z
LAST-MODIFIED:20250218T081014Z
UID:6601-1747576800-1747589400@www.scouts-sintjan.be
SUMMARY:Spetter spatter PT 2
DESCRIPTION:doe kleren aan die nat mogen worden rats x
URL:https://www.scouts-sintjan.be/event/spetter-spatter-pt-2/
CATEGORIES:Verkenners
END:VEVENT
END:VCALENDAR