BEGIN:VCALENDAR
VERSION:2.0
PRODID:-//Scouts Sint-Jan Oostende - ECPv6.0.9//NONSGML v1.0//EN
CALSCALE:GREGORIAN
METHOD:PUBLISH
X-WR-CALNAME:Scouts Sint-Jan Oostende
X-ORIGINAL-URL:https://www.scouts-sintjan.be
X-WR-CALDESC:Events for Scouts Sint-Jan Oostende
REFRESH-INTERVAL;VALUE=DURATION:PT1H
X-Robots-Tag:noindex
X-PUBLISHED-TTL:PT1H
BEGIN:VTIMEZONE
TZID:Europe/Brussels
BEGIN:DAYLIGHT
TZOFFSETFROM:+0100
TZOFFSETTO:+0200
TZNAME:CEST
DTSTART:20250330T010000
END:DAYLIGHT
BEGIN:STANDARD
TZOFFSETFROM:+0200
TZOFFSETTO:+0100
TZNAME:CET
DTSTART:20251026T010000
END:STANDARD
END:VTIMEZONE
BEGIN:VEVENT
DTSTART;TZID=Europe/Brussels:20250201T134500
DTEND;TZID=Europe/Brussels:20250201T173000
DTSTAMP:20260422T170956
CREATED:20250117T153300Z
LAST-MODIFIED:20250117T153336Z
UID:6529-1738417500-1738431000@www.scouts-sintjan.be
SUMMARY:Schaatsen Brugge
DESCRIPTION:
URL:https://www.scouts-sintjan.be/event/schaatsen-brugge/
LOCATION:Boudewijn IJspiste\, Alfons De Baeckestraat 12\, Brugge
CATEGORIES:Algemeen
END:VEVENT
BEGIN:VEVENT
DTSTART;TZID=Europe/Brussels:20250209T133000
DTEND;TZID=Europe/Brussels:20250209T173000
DTSTAMP:20260422T170956
CREATED:20241102T151830Z
LAST-MODIFIED:20241102T151830Z
UID:6450-1739107800-1739122200@www.scouts-sintjan.be
SUMMARY:Eggs and bacon
DESCRIPTION:roerbak ei
URL:https://www.scouts-sintjan.be/event/eggs-and-bacon/
LOCATION:Scouts Sint-Jan\, Lindenlaan 30 B\, Oostende\, 8400\, België
CATEGORIES:Jongverkenners
END:VEVENT
BEGIN:VEVENT
DTSTART;TZID=Europe/Brussels:20250209T133000
DTEND;TZID=Europe/Brussels:20250209T173000
DTSTAMP:20260422T170956
CREATED:20250122T201026Z
LAST-MODIFIED:20250122T203403Z
UID:6538-1739107800-1739122200@www.scouts-sintjan.be
SUMMARY:Pannenkoeken spel
DESCRIPTION:Flip\, Flop\, wie houdt er ook zoveel van pannenkoeken als de welpenleiding?
URL:https://www.scouts-sintjan.be/event/pannenkoeken-spel/
LOCATION:Scouts Sint-Jan\, Lindenlaan 30 B\, Oostende\, 8400\, België
CATEGORIES:Welpen
END:VEVENT
BEGIN:VEVENT
DTSTART;TZID=Europe/Brussels:20250209T140000
DTEND;TZID=Europe/Brussels:20250209T173000
DTSTAMP:20260422T170956
CREATED:20241203T161745Z
LAST-MODIFIED:20241203T161745Z
UID:6486-1739109600-1739122200@www.scouts-sintjan.be
SUMMARY:Pamperdag
DESCRIPTION:Tis vandaag nie opt potje te doen
URL:https://www.scouts-sintjan.be/event/pamperdag/
LOCATION:Scouts Sint-Jan\, Lindenlaan 30 B\, Oostende\, 8400\, België
CATEGORIES:Wolven
END:VEVENT
BEGIN:VEVENT
DTSTART;TZID=Europe/Brussels:20250216T133000
DTEND;TZID=Europe/Brussels:20250216T173000
DTSTAMP:20260422T170956
CREATED:20241102T151936Z
LAST-MODIFIED:20241102T151936Z
UID:6452-1739712600-1739727000@www.scouts-sintjan.be
SUMMARY:live\, laugh\, love
DESCRIPTION:alleenmaar liefde
URL:https://www.scouts-sintjan.be/event/live-laugh-love-2/
LOCATION:Scouts Sint-Jan\, Lindenlaan 30 B\, Oostende\, 8400\, België
CATEGORIES:Jongverkenners
END:VEVENT
BEGIN:VEVENT
DTSTART;TZID=Europe/Brussels:20250216T133000
DTEND;TZID=Europe/Brussels:20250216T173000
DTSTAMP:20260422T170956
CREATED:20250122T201221Z
LAST-MODIFIED:20250122T201221Z
UID:6540-1739712600-1739727000@www.scouts-sintjan.be
SUMMARY:Jungle Book
DESCRIPTION:Welke welp klimt het hoogst?
URL:https://www.scouts-sintjan.be/event/jungle-book-3/
LOCATION:Scouts Sint-Jan\, Lindenlaan 30 B\, Oostende\, 8400\, België
CATEGORIES:Welpen
END:VEVENT
BEGIN:VEVENT
DTSTART;TZID=Europe/Brussels:20250216T140000
DTEND;TZID=Europe/Brussels:20250216T173000
DTSTAMP:20260422T170956
CREATED:20241203T162121Z
LAST-MODIFIED:20241203T162121Z
UID:6488-1739714400-1739727000@www.scouts-sintjan.be
SUMMARY:Het grote Luis spel
DESCRIPTION:Luis is cupido vandaag
URL:https://www.scouts-sintjan.be/event/het-grote-luis-spel/
LOCATION:Scouts Sint-Jan\, Lindenlaan 30 B\, Oostende\, 8400\, België
CATEGORIES:Wolven
END:VEVENT
BEGIN:VEVENT
DTSTART;TZID=Europe/Brussels:20250223T133000
DTEND;TZID=Europe/Brussels:20250223T173000
DTSTAMP:20260422T170956
CREATED:20241102T140532Z
LAST-MODIFIED:20241102T140532Z
UID:6447-1740317400-1740331800@www.scouts-sintjan.be
SUMMARY:Kamp Waes
DESCRIPTION:Tom Waes zegt daje je fiets moet meedoen.
URL:https://www.scouts-sintjan.be/event/kamp-waes/
LOCATION:Scouts Sint-Jan\, Lindenlaan 30 B\, Oostende\, 8400\, België
CATEGORIES:Jongverkenners
END:VEVENT
BEGIN:VEVENT
DTSTART;TZID=Europe/Brussels:20250223T133000
DTEND;TZID=Europe/Brussels:20250223T173000
DTSTAMP:20260422T170956
CREATED:20250122T201353Z
LAST-MODIFIED:20250122T201353Z
UID:6542-1740317400-1740331800@www.scouts-sintjan.be
SUMMARY:Olympische spelen
DESCRIPTION:Laat de vlam branden en strijd voor goud in onze eigen scouts olympische spelen!?
URL:https://www.scouts-sintjan.be/event/olympische-spelen/
CATEGORIES:Welpen
END:VEVENT
BEGIN:VEVENT
DTSTART;TZID=Europe/Brussels:20250223T134500
DTEND;TZID=Europe/Brussels:20250223T173000
DTSTAMP:20260422T170956
CREATED:20250218T092230Z
LAST-MODIFIED:20250218T092230Z
UID:6604-1740318300-1740331800@www.scouts-sintjan.be
SUMMARY:Sport & spel
DESCRIPTION:
URL:https://www.scouts-sintjan.be/event/sport-spel/
LOCATION:Scouts Sint-Jan\, Lindenlaan 30 B\, Oostende\, 8400\, België
CATEGORIES:Kapoenen
END:VEVENT
BEGIN:VEVENT
DTSTART;TZID=Europe/Brussels:20250223T140000
DTEND;TZID=Europe/Brussels:20250223T173000
DTSTAMP:20260422T170956
CREATED:20241203T162220Z
LAST-MODIFIED:20241203T162220Z
UID:6490-1740319200-1740331800@www.scouts-sintjan.be
SUMMARY:Athene vs Rome
DESCRIPTION:Opbouwen en afbreken
URL:https://www.scouts-sintjan.be/event/athene-vs-rome/
LOCATION:Scouts Sint-Jan\, Lindenlaan 30 B\, Oostende\, 8400\, België
CATEGORIES:Wolven
END:VEVENT
BEGIN:VEVENT
DTSTART;TZID=Europe/Brussels:20250223T140000
DTEND;TZID=Europe/Brussels:20250223T173000
DTSTAMP:20260422T170956
CREATED:20250218T080238Z
LAST-MODIFIED:20250218T080238Z
UID:6581-1740319200-1740331800@www.scouts-sintjan.be
SUMMARY:?????????????
DESCRIPTION:c’est quoi ça
URL:https://www.scouts-sintjan.be/event/%e6%8b%89%e6%8b%89%e6%8b%89%ef%bc%8c%e6%88%91%e4%bb%ac%e8%a6%81%e5%8e%bb%e5%93%aa%e4%b8%aa%e5%9b%bd%e5%ae%b6%ef%bc%9f/
CATEGORIES:Verkenners
END:VEVENT
END:VCALENDAR