BEGIN:VCALENDAR
VERSION:2.0
PRODID:-//Scouts Sint-Jan Oostende - ECPv6.0.9//NONSGML v1.0//EN
CALSCALE:GREGORIAN
METHOD:PUBLISH
X-WR-CALNAME:Scouts Sint-Jan Oostende
X-ORIGINAL-URL:https://www.scouts-sintjan.be
X-WR-CALDESC:Events for Scouts Sint-Jan Oostende
REFRESH-INTERVAL;VALUE=DURATION:PT1H
X-Robots-Tag:noindex
X-PUBLISHED-TTL:PT1H
BEGIN:VTIMEZONE
TZID:Europe/Brussels
BEGIN:DAYLIGHT
TZOFFSETFROM:+0100
TZOFFSETTO:+0200
TZNAME:CEST
DTSTART:20250330T010000
END:DAYLIGHT
BEGIN:STANDARD
TZOFFSETFROM:+0200
TZOFFSETTO:+0100
TZNAME:CET
DTSTART:20251026T010000
END:STANDARD
END:VTIMEZONE
BEGIN:VEVENT
DTSTART;TZID=Europe/Brussels:20250126T133000
DTEND;TZID=Europe/Brussels:20250126T173000
DTSTAMP:20260422T182532
CREATED:20241102T140423Z
LAST-MODIFIED:20241102T140423Z
UID:6445-1737898200-1737912600@www.scouts-sintjan.be
SUMMARY:Jeux forts
DESCRIPTION:Duwen\, trekken\, de trekker duwen en de duwer trekken.
URL:https://www.scouts-sintjan.be/event/jeux-forts/
LOCATION:Scouts Sint-Jan\, Lindenlaan 30 B\, Oostende\, 8400\, België
CATEGORIES:Jongverkenners
END:VEVENT
BEGIN:VEVENT
DTSTART;TZID=Europe/Brussels:20250126T133000
DTEND;TZID=Europe/Brussels:20250126T173000
DTSTAMP:20260422T182532
CREATED:20250122T200406Z
LAST-MODIFIED:20250122T204038Z
UID:6534-1737898200-1737912600@www.scouts-sintjan.be
SUMMARY:Nieuwjaar Spel
DESCRIPTION:Laten we 2025 goed inzetten!?
URL:https://www.scouts-sintjan.be/event/nieuwjaar-spel/
LOCATION:Scouts Sint-Jan\, Lindenlaan 30 B\, Oostende\, 8400\, België
CATEGORIES:Welpen
END:VEVENT
BEGIN:VEVENT
DTSTART;TZID=Europe/Brussels:20250126T140000
DTEND;TZID=Europe/Brussels:20250126T173000
DTSTAMP:20260422T182532
CREATED:20241203T161546Z
LAST-MODIFIED:20241203T161546Z
UID:6484-1737900000-1737912600@www.scouts-sintjan.be
SUMMARY:Geen film kijken
DESCRIPTION:Breng vooral geen popcorn mee want we gaan zeker geen film kijken!
URL:https://www.scouts-sintjan.be/event/geen-film-kijken/
LOCATION:Scouts Sint-Jan\, Lindenlaan 30 B\, Oostende\, 8400\, België
CATEGORIES:Wolven
END:VEVENT
END:VCALENDAR