BEGIN:VCALENDAR
VERSION:2.0
PRODID:-//Scouts Sint-Jan Oostende - ECPv6.0.9//NONSGML v1.0//EN
CALSCALE:GREGORIAN
METHOD:PUBLISH
X-ORIGINAL-URL:https://www.scouts-sintjan.be
X-WR-CALDESC:Events for Scouts Sint-Jan Oostende
REFRESH-INTERVAL;VALUE=DURATION:PT1H
X-Robots-Tag:noindex
X-PUBLISHED-TTL:PT1H
BEGIN:VTIMEZONE
TZID:Europe/Brussels
BEGIN:DAYLIGHT
TZOFFSETFROM:+0100
TZOFFSETTO:+0200
TZNAME:CEST
DTSTART:20240331T010000
END:DAYLIGHT
BEGIN:STANDARD
TZOFFSETFROM:+0200
TZOFFSETTO:+0100
TZNAME:CET
DTSTART:20241027T010000
END:STANDARD
END:VTIMEZONE
BEGIN:VEVENT
DTSTART;TZID=Europe/Brussels:20240915T134500
DTEND;TZID=Europe/Brussels:20240915T173000
DTSTAMP:20260422T235507
CREATED:20240827T131233Z
LAST-MODIFIED:20240827T131233Z
UID:6207-1726407900-1726421400@www.scouts-sintjan.be
SUMMARY:Laatste activiteit met de oude tak!
DESCRIPTION:Nog een laatste keer geven we het beste van ons zelf!
URL:https://www.scouts-sintjan.be/event/laatste-activiteit-met-de-oude-tak/
LOCATION:Scouts Sint-Jan\, Lindenlaan 30 B\, Oostende\, 8400\, België
CATEGORIES:Welpen
END:VEVENT
BEGIN:VEVENT
DTSTART;TZID=Europe/Brussels:20240929T134500
DTEND;TZID=Europe/Brussels:20240929T173000
DTSTAMP:20260422T235507
CREATED:20240926T074718Z
LAST-MODIFIED:20240926T074718Z
UID:6260-1727617500-1727631000@www.scouts-sintjan.be
SUMMARY:Verkoop je watermeloen hier?
DESCRIPTION:Kennis maken en maken kennis
URL:https://www.scouts-sintjan.be/event/verkoop-je-watermeloen-hier/
LOCATION:Scouts Sint-Jan\, Lindenlaan 30 B\, Oostende\, 8400\, België
CATEGORIES:Jongverkenners
END:VEVENT
BEGIN:VEVENT
DTSTART;TZID=Europe/Brussels:20240929T140000
DTEND;TZID=Europe/Brussels:20240929T173000
DTSTAMP:20260422T235507
CREATED:20240903T175321Z
LAST-MODIFIED:20240927T120143Z
UID:6220-1727618400-1727631000@www.scouts-sintjan.be
SUMMARY:Verrassingsspel
DESCRIPTION:Rarara\, wat is het?
URL:https://www.scouts-sintjan.be/event/verrassingsspel-4/
LOCATION:Scouts Sint-Jan\, Lindenlaan 30 B\, Oostende\, 8400\, België
CATEGORIES:Wolven
END:VEVENT
BEGIN:VEVENT
DTSTART;TZID=Europe/Brussels:20240929T140000
DTEND;TZID=Europe/Brussels:20240929T173000
DTSTAMP:20260422T235507
CREATED:20240926T120309Z
LAST-MODIFIED:20240926T120309Z
UID:6282-1727618400-1727631000@www.scouts-sintjan.be
SUMMARY:welkom en aangenaam
DESCRIPTION:
URL:https://www.scouts-sintjan.be/event/welkom-en-aangenaam/
CATEGORIES:Verkenners
END:VEVENT
END:VCALENDAR