BEGIN:VCALENDAR
VERSION:2.0
PRODID:-//Scouts Sint-Jan Oostende - ECPv6.0.9//NONSGML v1.0//EN
CALSCALE:GREGORIAN
METHOD:PUBLISH
X-ORIGINAL-URL:https://www.scouts-sintjan.be
X-WR-CALDESC:Events for Scouts Sint-Jan Oostende
REFRESH-INTERVAL;VALUE=DURATION:PT1H
X-Robots-Tag:noindex
X-PUBLISHED-TTL:PT1H
BEGIN:VTIMEZONE
TZID:Europe/Brussels
BEGIN:DAYLIGHT
TZOFFSETFROM:+0100
TZOFFSETTO:+0200
TZNAME:CEST
DTSTART:20230326T010000
END:DAYLIGHT
BEGIN:STANDARD
TZOFFSETFROM:+0200
TZOFFSETTO:+0100
TZNAME:CET
DTSTART:20231029T010000
END:STANDARD
END:VTIMEZONE
BEGIN:VEVENT
DTSTART;TZID=Europe/Brussels:20230129T140000
DTEND;TZID=Europe/Brussels:20230129T173000
DTSTAMP:20260424T024324
CREATED:20221226T230353Z
LAST-MODIFIED:20221226T230353Z
UID:5568-1675000800-1675013400@www.scouts-sintjan.be
SUMMARY:The dirty game
DESCRIPTION:
URL:https://www.scouts-sintjan.be/event/the-dirty-game/
LOCATION:Scouts Sint-Jan\, Lindenlaan 30 B\, Oostende\, 8400\, België
CATEGORIES:Jongverkenners
END:VEVENT
BEGIN:VEVENT
DTSTART;TZID=Europe/Brussels:20230129T140000
DTEND;TZID=Europe/Brussels:20230129T173000
DTSTAMP:20260424T024324
CREATED:20230127T161102Z
LAST-MODIFIED:20230127T162147Z
UID:5603-1675000800-1675013400@www.scouts-sintjan.be
SUMMARY:Pisquiz
DESCRIPTION:
URL:https://www.scouts-sintjan.be/event/pisquiz/
LOCATION:Scouts Sint-Jan\, Lindenlaan 30 B\, Oostende\, 8400\, België
CATEGORIES:Wolven
END:VEVENT
BEGIN:VEVENT
DTSTART;TZID=Europe/Brussels:20230129T140000
DTEND;TZID=Europe/Brussels:20230129T173000
DTSTAMP:20260424T024324
CREATED:20230129T091836Z
LAST-MODIFIED:20230129T092925Z
UID:5630-1675000800-1675013400@www.scouts-sintjan.be
SUMMARY:Kasteelspel
DESCRIPTION:
URL:https://www.scouts-sintjan.be/event/kasteelspel/
LOCATION:Scouts Sint-Jan\, Lindenlaan 30 B\, Oostende\, 8400\, België
CATEGORIES:Kapoenen
END:VEVENT
BEGIN:VEVENT
DTSTART;TZID=Europe/Brussels:20230129T140000
DTEND;TZID=Europe/Brussels:20230129T173000
DTSTAMP:20260424T024324
CREATED:20230129T091941Z
LAST-MODIFIED:20230129T092943Z
UID:5632-1675000800-1675013400@www.scouts-sintjan.be
SUMMARY:Een Kleine Welp...
DESCRIPTION:…Op een zondag.
URL:https://www.scouts-sintjan.be/event/een-kleine-welp/
LOCATION:Scouts Sint-Jan\, Lindenlaan 30 B\, Oostende\, 8400\, België
CATEGORIES:Welpen
END:VEVENT
BEGIN:VEVENT
DTSTART;TZID=Europe/Brussels:20230129T140000
DTEND;TZID=Europe/Brussels:20230129T173000
DTSTAMP:20260424T024324
CREATED:20230129T092034Z
LAST-MODIFIED:20230129T092956Z
UID:5634-1675000800-1675013400@www.scouts-sintjan.be
SUMMARY:Djarn Games
DESCRIPTION:Meer woorden hoeven we er niet vuil aan te maken…
URL:https://www.scouts-sintjan.be/event/djarn-games/
LOCATION:Scouts Sint-Jan\, Lindenlaan 30 B\, Oostende\, 8400\, België
CATEGORIES:Verkenners
END:VEVENT
END:VCALENDAR