BEGIN:VCALENDAR
VERSION:2.0
PRODID:-//Scouts Sint-Jan Oostende - ECPv6.0.9//NONSGML v1.0//EN
CALSCALE:GREGORIAN
METHOD:PUBLISH
X-ORIGINAL-URL:https://www.scouts-sintjan.be
X-WR-CALDESC:Events for Scouts Sint-Jan Oostende
REFRESH-INTERVAL;VALUE=DURATION:PT1H
X-Robots-Tag:noindex
X-PUBLISHED-TTL:PT1H
BEGIN:VTIMEZONE
TZID:Europe/Brussels
BEGIN:DAYLIGHT
TZOFFSETFROM:+0100
TZOFFSETTO:+0200
TZNAME:CEST
DTSTART:20220327T010000
END:DAYLIGHT
BEGIN:STANDARD
TZOFFSETFROM:+0200
TZOFFSETTO:+0100
TZNAME:CET
DTSTART:20221030T010000
END:STANDARD
END:VTIMEZONE
BEGIN:VEVENT
DTSTART;TZID=Europe/Brussels:20221204T080000
DTEND;TZID=Europe/Brussels:20221204T170000
DTSTAMP:20260424T040245
CREATED:20221008T144958Z
LAST-MODIFIED:20221008T144958Z
UID:5509-1670140800-1670173200@www.scouts-sintjan.be
SUMMARY:sinterklaas
DESCRIPTION:doe jullie stapschoenen aan\, jullie gaan op pad
URL:https://www.scouts-sintjan.be/event/sinterklaas-3/
LOCATION:Scouts Sint-Jan\, Lindenlaan 30 B\, Oostende\, 8400\, België
CATEGORIES:Kapoenen
END:VEVENT
BEGIN:VEVENT
DTSTART;TZID=Europe/Brussels:20221204T134500
DTEND;TZID=Europe/Brussels:20221204T173000
DTSTAMP:20260424T040245
CREATED:20220919T192531Z
LAST-MODIFIED:20220919T192531Z
UID:5387-1670161500-1670175000@www.scouts-sintjan.be
SUMMARY:Sinterklaas
DESCRIPTION:Sinterklaas jongverkennertje…
URL:https://www.scouts-sintjan.be/event/sinterklaas/
LOCATION:Scouts Sint-Jan\, Lindenlaan 30 B\, Oostende\, 8400\, België
CATEGORIES:Jongverkenners
END:VEVENT
BEGIN:VEVENT
DTSTART;TZID=Europe/Brussels:20221204T140000
DTEND;TZID=Europe/Brussels:20221204T173000
DTSTAMP:20260424T040245
CREATED:20220926T072039Z
LAST-MODIFIED:20221108T104126Z
UID:5422-1670162400-1670175000@www.scouts-sintjan.be
SUMMARY:Sint
DESCRIPTION: cadeautje hier\, cadeautje daar\, cadeautjes overal!
URL:https://www.scouts-sintjan.be/event/sint/
CATEGORIES:Verkenners
END:VEVENT
BEGIN:VEVENT
DTSTART;TZID=Europe/Brussels:20221204T140000
DTEND;TZID=Europe/Brussels:20221204T173000
DTSTAMP:20260424T040245
CREATED:20221008T144258Z
LAST-MODIFIED:20221008T144258Z
UID:5500-1670162400-1670175000@www.scouts-sintjan.be
SUMMARY:O wie klopt daar Welpen?
DESCRIPTION:Tip: het is niet de leiding.
URL:https://www.scouts-sintjan.be/event/o-wie-klopt-daar-welpen/
LOCATION:Scouts Sint-Jan\, Lindenlaan 30 B\, Oostende\, 8400\, België
CATEGORIES:Welpen
END:VEVENT
BEGIN:VEVENT
DTSTART;TZID=Europe/Brussels:20221204T150000
DTEND;TZID=Europe/Brussels:20221204T173000
DTSTAMP:20260424T040245
CREATED:20220928T180331Z
LAST-MODIFIED:20220928T180331Z
UID:5463-1670166000-1670175000@www.scouts-sintjan.be
SUMMARY:Sinterklaas
DESCRIPTION:
URL:https://www.scouts-sintjan.be/event/sinterklaas-2/
LOCATION:Scouts Sint-Jan\, Lindenlaan 30 B\, Oostende\, 8400\, België
CATEGORIES:Wolven
END:VEVENT
BEGIN:VEVENT
DTSTART;TZID=Europe/Brussels:20221211T134500
DTEND;TZID=Europe/Brussels:20221211T173000
DTSTAMP:20260424T040245
CREATED:20220917T115722Z
LAST-MODIFIED:20220917T115722Z
UID:5389-1670766300-1670779800@www.scouts-sintjan.be
SUMMARY:Slimste Jongverkenner Ter Wereld
DESCRIPTION:De eerste ronde is 3-6-9 maar de rest gaan we jullie nog niet cadeau geven.
URL:https://www.scouts-sintjan.be/event/slimste-jongverkenner-ter-wereld/
LOCATION:Scouts Sint-Jan\, Lindenlaan 30 B\, Oostende\, 8400\, België
CATEGORIES:Jongverkenners
END:VEVENT
BEGIN:VEVENT
DTSTART;TZID=Europe/Brussels:20221211T140000
DTEND;TZID=Europe/Brussels:20221211T170000
DTSTAMP:20260424T040245
CREATED:20220926T071951Z
LAST-MODIFIED:20221108T104153Z
UID:5420-1670767200-1670778000@www.scouts-sintjan.be
SUMMARY:Barista Sint-Jan
DESCRIPTION:in de scouts doen we enkel maar aan mocktails!
URL:https://www.scouts-sintjan.be/event/barista-sint-jan/
CATEGORIES:Verkenners
END:VEVENT
BEGIN:VEVENT
DTSTART;TZID=Europe/Brussels:20221211T140000
DTEND;TZID=Europe/Brussels:20221211T173000
DTSTAMP:20260424T040245
CREATED:20220928T180412Z
LAST-MODIFIED:20220928T180412Z
UID:5465-1670767200-1670779800@www.scouts-sintjan.be
SUMMARY:Home Alone
DESCRIPTION:
URL:https://www.scouts-sintjan.be/event/home-alone/
LOCATION:Scouts Sint-Jan\, Lindenlaan 30 B\, Oostende\, 8400\, België
CATEGORIES:Wolven
END:VEVENT
BEGIN:VEVENT
DTSTART;TZID=Europe/Brussels:20221211T140000
DTEND;TZID=Europe/Brussels:20221211T173000
DTSTAMP:20260424T040245
CREATED:20221008T144459Z
LAST-MODIFIED:20221008T144459Z
UID:5504-1670767200-1670779800@www.scouts-sintjan.be
SUMMARY:Scouteske namiddag
DESCRIPTION:Nog een laatste keer samen op schok daarna heeft de leiding de blok.
URL:https://www.scouts-sintjan.be/event/scouteske-namiddag/
LOCATION:Scouts Sint-Jan\, Lindenlaan 30 B\, Oostende\, 8400\, België
CATEGORIES:Welpen
END:VEVENT
BEGIN:VEVENT
DTSTART;TZID=Europe/Brussels:20221211T140000
DTEND;TZID=Europe/Brussels:20221211T173000
DTSTAMP:20260424T040245
CREATED:20221008T145240Z
LAST-MODIFIED:20221008T145240Z
UID:5513-1670767200-1670779800@www.scouts-sintjan.be
SUMMARY:minigolf
DESCRIPTION:informatie volgt
URL:https://www.scouts-sintjan.be/event/minigolf/
LOCATION:Scouts Sint-Jan\, Lindenlaan 30 B\, Oostende\, 8400\, België
CATEGORIES:Kapoenen
END:VEVENT
END:VCALENDAR