BEGIN:VCALENDAR
VERSION:2.0
PRODID:-//Scouts Sint-Jan Oostende - ECPv6.0.9//NONSGML v1.0//EN
CALSCALE:GREGORIAN
METHOD:PUBLISH
X-WR-CALNAME:Scouts Sint-Jan Oostende
X-ORIGINAL-URL:https://www.scouts-sintjan.be
X-WR-CALDESC:Events for Scouts Sint-Jan Oostende
REFRESH-INTERVAL;VALUE=DURATION:PT1H
X-Robots-Tag:noindex
X-PUBLISHED-TTL:PT1H
BEGIN:VTIMEZONE
TZID:Europe/Brussels
BEGIN:DAYLIGHT
TZOFFSETFROM:+0100
TZOFFSETTO:+0200
TZNAME:CEST
DTSTART:20220327T010000
END:DAYLIGHT
BEGIN:STANDARD
TZOFFSETFROM:+0200
TZOFFSETTO:+0100
TZNAME:CET
DTSTART:20221030T010000
END:STANDARD
END:VTIMEZONE
BEGIN:VEVENT
DTSTART;TZID=Europe/Brussels:20220924T133000
DTEND;TZID=Europe/Brussels:20220925T020000
DTSTAMP:20260424T075426
CREATED:20220911T135325Z
LAST-MODIFIED:20220911T135325Z
UID:5368-1664026200-1664071200@www.scouts-sintjan.be
SUMMARY:Début de Saison: 60 jaar Sint-Jan
DESCRIPTION:Dag ouders\,\nDag leden\,\nDag oud-leden\,\nDag vrienden\,\nDag buurtbewoners\,\nDag sympathisanten en\nDag iedereen die niet onder voorgaande vallen.\n\nZoals jullie alvast weten hebben we onze jaarlijkse startdag Début de Saison\, maar dit jaar wordt het toch een tikkeltje specialer. Het is 10 jaar geleden dat we het 50 jarige bestaan van Scouts Sint-Jan vierden\, dit wil dus zeggen dat we nu het grootse 60 jarige bestaan zullen fêteren!\n\nDe gewoonlijke activiteiten zullen weer aanwezig zijn maar misschien toch ook net iets anders\, net iets feestelijker. Meer informatie hierover volgt\, dus zet je zeker op ‘aanwezig’ voor dit evenement en blijf op de hoogte van alle updates!\n\nWat kun je alvast verwachten?\n– 13u45 Activiteit voor de leden en bar open\n– 15u Live-optreden\n– 16u30 Oversmijting\n– 17u30 Receptie met speech\n– 18u Eten foodtrucks\n– 19u Live-optreden\n– 21u Live-optreden\n– 22u Kampvuur en muziek\n– Uniforms en Merch\n– 60 jarige taferelen\n\nOm 18u is er de mogelijkheid om heerlijke pizza en pasta te komen eten. Hiervoor dien je op voorhand in te schrijven via volgende link:\nhttps://forms.gle/Bh1Mkj3S793jSk2t9\nDe inschrijving hiervoor is pas compleet nadat ook het juiste bedrag (volw: €15\, -10jaar: €10) wordt overgeschreven op het rekeningnummer BE36 7509 4937 0181 met als mededeling:\n“EtenDébut-VOORNAAM-FAMILIENAAM”.\nTot snel\,\nStay tuned\,\nEen stevige linker!
URL:https://www.scouts-sintjan.be/event/debut-de-saison-60-jaar-sint-jan/
CATEGORIES:Algemeen
END:VEVENT
END:VCALENDAR