BEGIN:VCALENDAR
VERSION:2.0
PRODID:-//Scouts Sint-Jan Oostende - ECPv6.0.9//NONSGML v1.0//EN
CALSCALE:GREGORIAN
METHOD:PUBLISH
X-WR-CALNAME:Scouts Sint-Jan Oostende
X-ORIGINAL-URL:https://www.scouts-sintjan.be
X-WR-CALDESC:Events for Scouts Sint-Jan Oostende
REFRESH-INTERVAL;VALUE=DURATION:PT1H
X-Robots-Tag:noindex
X-PUBLISHED-TTL:PT1H
BEGIN:VTIMEZONE
TZID:Europe/Brussels
BEGIN:DAYLIGHT
TZOFFSETFROM:+0100
TZOFFSETTO:+0200
TZNAME:CEST
DTSTART:20220327T010000
END:DAYLIGHT
BEGIN:STANDARD
TZOFFSETFROM:+0200
TZOFFSETTO:+0100
TZNAME:CET
DTSTART:20221030T010000
END:STANDARD
END:VTIMEZONE
BEGIN:VEVENT
DTSTART;TZID=Europe/Brussels:20221009T140000
DTEND;TZID=Europe/Brussels:20221009T173000
DTSTAMP:20260421T024512
CREATED:20221008T143552Z
LAST-MODIFIED:20221008T143552Z
UID:5489-1665324000-1665336600@www.scouts-sintjan.be
SUMMARY:zoektocht
DESCRIPTION:don’t be so salty\, be sweet instead
URL:https://www.scouts-sintjan.be/event/zoektocht/
LOCATION:Scouts Sint-Jan\, Lindenlaan 30 B\, Oostende\, 8400\, België
CATEGORIES:Kapoenen
END:VEVENT
BEGIN:VEVENT
DTSTART;TZID=Europe/Brussels:20221009T140000
DTEND;TZID=Europe/Brussels:20221009T173000
DTSTAMP:20260421T024512
CREATED:20221008T142247Z
LAST-MODIFIED:20221008T142247Z
UID:5474-1665324000-1665336600@www.scouts-sintjan.be
SUMMARY:Alle kleuren van de regenboog.
DESCRIPTION:Verzamel alle kleuren om jullie lokaal op te fleuren!
URL:https://www.scouts-sintjan.be/event/alle-kleuren-van-de-regenboog-2/
LOCATION:Scouts Sint-Jan\, Lindenlaan 30 B\, Oostende\, 8400\, België
CATEGORIES:Welpen
END:VEVENT
BEGIN:VEVENT
DTSTART;TZID=Europe/Brussels:20221009T140000
DTEND;TZID=Europe/Brussels:20221009T173000
DTSTAMP:20260421T024512
CREATED:20220928T175242Z
LAST-MODIFIED:20220928T175242Z
UID:5449-1665324000-1665336600@www.scouts-sintjan.be
SUMMARY:Heavy War Games
DESCRIPTION:
URL:https://www.scouts-sintjan.be/event/heavy-war-games-2/
LOCATION:Scouts Sint-Jan\, Lindenlaan 30 B\, Oostende\, 8400\, België
CATEGORIES:Wolven
END:VEVENT
BEGIN:VEVENT
DTSTART;TZID=Europe/Brussels:20221009T140000
DTEND;TZID=Europe/Brussels:20221009T173000
DTSTAMP:20260421T024512
CREATED:20220926T070046Z
LAST-MODIFIED:20220926T070046Z
UID:5404-1665324000-1665336600@www.scouts-sintjan.be
SUMMARY:Vijftig tinten Sint-Jan
DESCRIPTION:Zonder stereotypes!
URL:https://www.scouts-sintjan.be/event/vijftig-tinten-sint-jan/
CATEGORIES:Verkenners
END:VEVENT
BEGIN:VEVENT
DTSTART;TZID=Europe/Brussels:20221009T134500
DTEND;TZID=Europe/Brussels:20221009T173000
DTSTAMP:20260421T024512
CREATED:20220911T151847Z
LAST-MODIFIED:20220919T192056Z
UID:5372-1665323100-1665336600@www.scouts-sintjan.be
SUMMARY:Battle of the fittest
DESCRIPTION:Wie wordt sportsman of sportvrouw van het jaar.
URL:https://www.scouts-sintjan.be/event/battle-of-the-fittest/
LOCATION:Scouts Sint-Jan\, Lindenlaan 30 B\, Oostende\, 8400\, België
CATEGORIES:Jongverkenners
END:VEVENT
BEGIN:VEVENT
DTSTART;TZID=Europe/Brussels:20221002T140000
DTEND;TZID=Europe/Brussels:20221002T173000
DTSTAMP:20260421T024512
CREATED:20221008T142355Z
LAST-MODIFIED:20221008T142422Z
UID:5476-1664719200-1664731800@www.scouts-sintjan.be
SUMMARY:Wie ben ik? Wie ben jij!?
DESCRIPTION:Eindelijk de eerste officiële activiteit\, leer elkaar en de leiding beter kennen.
URL:https://www.scouts-sintjan.be/event/wie-ben-ik-wie-ben-jij/
LOCATION:Scouts Sint-Jan\, Lindenlaan 30 B\, Oostende\, 8400\, België
CATEGORIES:Welpen
END:VEVENT
BEGIN:VEVENT
DTSTART;TZID=Europe/Brussels:20221002T140000
DTEND;TZID=Europe/Brussels:20221002T173000
DTSTAMP:20260421T024512
CREATED:20220928T174925Z
LAST-MODIFIED:20220928T174925Z
UID:5443-1664719200-1664731800@www.scouts-sintjan.be
SUMMARY:First Dates
DESCRIPTION:
URL:https://www.scouts-sintjan.be/event/first-dates/
LOCATION:Scouts Sint-Jan\, Lindenlaan 30 B\, Oostende\, 8400\, België
CATEGORIES:Wolven
END:VEVENT
BEGIN:VEVENT
DTSTART;TZID=Europe/Brussels:20221002T140000
DTEND;TZID=Europe/Brussels:20221002T173000
DTSTAMP:20260421T024512
CREATED:20220926T065833Z
LAST-MODIFIED:20220926T065833Z
UID:5402-1664719200-1664731800@www.scouts-sintjan.be
SUMMARY:Stevige start
DESCRIPTION:da’s pech\, ledematen weg!
URL:https://www.scouts-sintjan.be/event/stevige-start/
CATEGORIES:Verkenners
END:VEVENT
BEGIN:VEVENT
DTSTART;TZID=Europe/Brussels:20221002T134500
DTEND;TZID=Europe/Brussels:20221002T173000
DTSTAMP:20260421T024512
CREATED:20220911T151050Z
LAST-MODIFIED:20220919T192019Z
UID:5370-1664718300-1664731800@www.scouts-sintjan.be
SUMMARY:WIE ZIEjE GIE
DESCRIPTION:Wie zijn wij? en wie ben jij?
URL:https://www.scouts-sintjan.be/event/wie-zieje-gie/
LOCATION:Scouts Sint-Jan\, Lindenlaan 30 B\, Oostende\, 8400\, België
CATEGORIES:Jongverkenners
END:VEVENT
BEGIN:VEVENT
DTSTART;TZID=Europe/Brussels:20220924T133000
DTEND;TZID=Europe/Brussels:20220925T020000
DTSTAMP:20260421T024512
CREATED:20220911T135325Z
LAST-MODIFIED:20220911T135325Z
UID:5368-1664026200-1664071200@www.scouts-sintjan.be
SUMMARY:Début de Saison: 60 jaar Sint-Jan
DESCRIPTION:Dag ouders\,\nDag leden\,\nDag oud-leden\,\nDag vrienden\,\nDag buurtbewoners\,\nDag sympathisanten en\nDag iedereen die niet onder voorgaande vallen.\n\nZoals jullie alvast weten hebben we onze jaarlijkse startdag Début de Saison\, maar dit jaar wordt het toch een tikkeltje specialer. Het is 10 jaar geleden dat we het 50 jarige bestaan van Scouts Sint-Jan vierden\, dit wil dus zeggen dat we nu het grootse 60 jarige bestaan zullen fêteren!\n\nDe gewoonlijke activiteiten zullen weer aanwezig zijn maar misschien toch ook net iets anders\, net iets feestelijker. Meer informatie hierover volgt\, dus zet je zeker op ‘aanwezig’ voor dit evenement en blijf op de hoogte van alle updates!\n\nWat kun je alvast verwachten?\n– 13u45 Activiteit voor de leden en bar open\n– 15u Live-optreden\n– 16u30 Oversmijting\n– 17u30 Receptie met speech\n– 18u Eten foodtrucks\n– 19u Live-optreden\n– 21u Live-optreden\n– 22u Kampvuur en muziek\n– Uniforms en Merch\n– 60 jarige taferelen\n\nOm 18u is er de mogelijkheid om heerlijke pizza en pasta te komen eten. Hiervoor dien je op voorhand in te schrijven via volgende link:\nhttps://forms.gle/Bh1Mkj3S793jSk2t9\nDe inschrijving hiervoor is pas compleet nadat ook het juiste bedrag (volw: €15\, -10jaar: €10) wordt overgeschreven op het rekeningnummer BE36 7509 4937 0181 met als mededeling:\n“EtenDébut-VOORNAAM-FAMILIENAAM”.\nTot snel\,\nStay tuned\,\nEen stevige linker!
URL:https://www.scouts-sintjan.be/event/debut-de-saison-60-jaar-sint-jan/
CATEGORIES:Algemeen
END:VEVENT
BEGIN:VEVENT
DTSTART;TZID=Europe/Brussels:20220508T140000
DTEND;TZID=Europe/Brussels:20220508T173000
DTSTAMP:20260421T024512
CREATED:20220316T100050Z
LAST-MODIFIED:20220316T100050Z
UID:5332-1652018400-1652031000@www.scouts-sintjan.be
SUMMARY:Waterspelletjes
DESCRIPTION:Breng allemaal zwemgerief mee!
URL:https://www.scouts-sintjan.be/event/waterspelletjes-3/
CATEGORIES:Welpen
END:VEVENT
BEGIN:VEVENT
DTSTART;TZID=Europe/Brussels:20220508T134500
DTEND;TZID=Europe/Brussels:20220508T173000
DTSTAMP:20260421T024512
CREATED:20220202T122533Z
LAST-MODIFIED:20220202T122533Z
UID:5251-1652017500-1652031000@www.scouts-sintjan.be
SUMMARY:aqualympics
DESCRIPTION:Breng zeker extra kleren mee want we worden nat!!!!
URL:https://www.scouts-sintjan.be/event/aqualympics/
LOCATION:Scouts Sint-Jan\, Lindenlaan 30 B\, Oostende\, 8400\, België
CATEGORIES:Kapoenen
END:VEVENT
BEGIN:VEVENT
DTSTART;TZID=Europe/Brussels:20220508T134500
DTEND;TZID=Europe/Brussels:20220508T173000
DTSTAMP:20260421T024512
CREATED:20220125T120243Z
LAST-MODIFIED:20220125T120243Z
UID:5195-1652017500-1652031000@www.scouts-sintjan.be
SUMMARY:Waterspelletjes
DESCRIPTION:Pief poef paf pas maar op of je bent nat.
URL:https://www.scouts-sintjan.be/event/waterspelletjes/
LOCATION:Scouts Sint-Jan\, Lindenlaan 30 B\, Oostende\, 8400\, België
CATEGORIES:Jongverkenners
END:VEVENT
BEGIN:VEVENT
DTSTART;TZID=Europe/Brussels:20220508T080000
DTEND;TZID=Europe/Brussels:20220508T170000
DTSTAMP:20260421T024512
CREATED:20220208T214133Z
LAST-MODIFIED:20220208T214133Z
UID:5284-1651996800-1652029200@www.scouts-sintjan.be
SUMMARY:WOODSTOCK '22
DESCRIPTION:FEEEEEST! Meer info volgt
URL:https://www.scouts-sintjan.be/event/woodstock-22/
CATEGORIES:Verkenners
END:VEVENT
BEGIN:VEVENT
DTSTART;TZID=Europe/Brussels:20220501T140000
DTEND;TZID=Europe/Brussels:20220501T173000
DTSTAMP:20260421T024512
CREATED:20220316T100003Z
LAST-MODIFIED:20220316T100003Z
UID:5330-1651413600-1651426200@www.scouts-sintjan.be
SUMMARY:Vuile handenspel
DESCRIPTION:En nee je moet ze niet meteen gaan wassen!
URL:https://www.scouts-sintjan.be/event/vuile-handenspel/
CATEGORIES:Welpen
END:VEVENT
BEGIN:VEVENT
DTSTART;TZID=Europe/Brussels:20220501T140000
DTEND;TZID=Europe/Brussels:20220501T173000
DTSTAMP:20260421T024512
CREATED:20220208T214055Z
LAST-MODIFIED:20220208T214055Z
UID:5282-1651413600-1651426200@www.scouts-sintjan.be
SUMMARY:Waterspelletjes
DESCRIPTION:Bikini mee? en de zunnecrème? Friscootje?
URL:https://www.scouts-sintjan.be/event/waterspelletjes-2/
LOCATION:Scouts Sint-Jan\, Lindenlaan 30 B\, Oostende\, 8400\, België
CATEGORIES:Verkenners
END:VEVENT
BEGIN:VEVENT
DTSTART;TZID=Europe/Brussels:20220501T134500
DTEND;TZID=Europe/Brussels:20220501T173000
DTSTAMP:20260421T024512
CREATED:20220202T122422Z
LAST-MODIFIED:20220202T122422Z
UID:5249-1651412700-1651426200@www.scouts-sintjan.be
SUMMARY:1 tegen allen
DESCRIPTION:Welke kapoen wordt de kapoen?
URL:https://www.scouts-sintjan.be/event/1-tegen-allen/
CATEGORIES:Kapoenen
END:VEVENT
BEGIN:VEVENT
DTSTART;TZID=Europe/Brussels:20220501T134500
DTEND;TZID=Europe/Brussels:20220501T173000
DTSTAMP:20260421T024512
CREATED:20220125T120127Z
LAST-MODIFIED:20220125T120127Z
UID:5193-1651412700-1651426200@www.scouts-sintjan.be
SUMMARY:Heavy Games
DESCRIPTION:Haal je handen uit de mouwen want we gaan serieus spelen\, \nHEAAAAVVYYY GAMESSSSSS
URL:https://www.scouts-sintjan.be/event/heavy-games/
LOCATION:Scouts Sint-Jan\, Lindenlaan 30 B\, Oostende\, 8400\, België
CATEGORIES:Jongverkenners
END:VEVENT
BEGIN:VEVENT
DTSTART;TZID=Europe/Brussels:20220424T140000
DTEND;TZID=Europe/Brussels:20220424T173000
DTSTAMP:20260421T024512
CREATED:20220316T095913Z
LAST-MODIFIED:20220316T095913Z
UID:5328-1650808800-1650821400@www.scouts-sintjan.be
SUMMARY:Tocht in het daglicht
DESCRIPTION:Tudududu\, we zijn toch niet bang dududu
URL:https://www.scouts-sintjan.be/event/tocht-in-het-daglicht/
CATEGORIES:Welpen
END:VEVENT
BEGIN:VEVENT
DTSTART;TZID=Europe/Brussels:20220424T140000
DTEND;TZID=Europe/Brussels:20220424T173000
DTSTAMP:20260421T024512
CREATED:20220208T213947Z
LAST-MODIFIED:20220208T213947Z
UID:5280-1650808800-1650821400@www.scouts-sintjan.be
SUMMARY:Smokkelspel
DESCRIPTION:LOOOPEN VOE JE LEVEEEEEN
URL:https://www.scouts-sintjan.be/event/smokkelspel-2/
LOCATION:Scouts Sint-Jan\, Lindenlaan 30 B\, Oostende\, 8400\, België
CATEGORIES:Verkenners
END:VEVENT
BEGIN:VEVENT
DTSTART;TZID=Europe/Brussels:20220424T134500
DTEND;TZID=Europe/Brussels:20220424T173000
DTSTAMP:20260421T024512
CREATED:20220202T122256Z
LAST-MODIFIED:20220202T122256Z
UID:5247-1650807900-1650821400@www.scouts-sintjan.be
SUMMARY:kinderboerderij
DESCRIPTION:we gaan de diertjes bezoeken vandaag!!! Meer info volgt
URL:https://www.scouts-sintjan.be/event/kinderboerderij/
CATEGORIES:Kapoenen
END:VEVENT
BEGIN:VEVENT
DTSTART;TZID=Europe/Brussels:20220422T134500
DTEND;TZID=Europe/Brussels:20220422T173000
DTSTAMP:20260421T024512
CREATED:20220125T114821Z
LAST-MODIFIED:20220125T115910Z
UID:5181-1650635100-1650648600@www.scouts-sintjan.be
SUMMARY:Avondspel
DESCRIPTION:In het donker zien jullie er beter uit dus avondspel(vergeet geen zakgeld er zijn versnaperingen\, tijd wordt nog gecommuniceerd)
URL:https://www.scouts-sintjan.be/event/avondspel/
LOCATION:Scouts Sint-Jan\, Lindenlaan 30 B\, Oostende\, 8400\, België
CATEGORIES:Jongverkenners
END:VEVENT
BEGIN:VEVENT
DTSTART;TZID=Europe/Brussels:20220415T193000
DTEND;TZID=Europe/Brussels:20220417T160000
DTSTAMP:20260421T024512
CREATED:20220223T140543Z
LAST-MODIFIED:20220223T140543Z
UID:5306-1650051000-1650211200@www.scouts-sintjan.be
SUMMARY:Klein kamp
DESCRIPTION:Meer info volgt
URL:https://www.scouts-sintjan.be/event/klein-kamp-4/
CATEGORIES:Jongverkenners
END:VEVENT
BEGIN:VEVENT
DTSTART;TZID=Europe/Brussels:20220415T193000
DTEND;TZID=Europe/Brussels:20220417T160000
DTSTAMP:20260421T024512
CREATED:20220223T140457Z
LAST-MODIFIED:20220223T140510Z
UID:5303-1650051000-1650211200@www.scouts-sintjan.be
SUMMARY:Klein kamp
DESCRIPTION:Meer info volgt
URL:https://www.scouts-sintjan.be/event/klein-kamp-3/
CATEGORIES:Welpen
END:VEVENT
BEGIN:VEVENT
DTSTART;TZID=Europe/Brussels:20220415T193000
DTEND;TZID=Europe/Brussels:20220417T160000
DTSTAMP:20260421T024512
CREATED:20220208T213858Z
LAST-MODIFIED:20220223T140418Z
UID:5278-1650051000-1650211200@www.scouts-sintjan.be
SUMMARY:Klein kamp
DESCRIPTION:Joepie! meer info volgt. Check zeker de mails en facebookpagina.
URL:https://www.scouts-sintjan.be/event/klein-kamp-2/
CATEGORIES:Verkenners
END:VEVENT
BEGIN:VEVENT
DTSTART;TZID=Europe/Brussels:20220415T193000
DTEND;TZID=Europe/Brussels:20220417T160000
DTSTAMP:20260421T024512
CREATED:20220202T122204Z
LAST-MODIFIED:20220223T140351Z
UID:5245-1650051000-1650211200@www.scouts-sintjan.be
SUMMARY:Klein kamp
DESCRIPTION:Meer info volgt
URL:https://www.scouts-sintjan.be/event/klein-kamp/
CATEGORIES:Kapoenen
END:VEVENT
BEGIN:VEVENT
DTSTART;TZID=Europe/Brussels:20220415T190000
DTEND;TZID=Europe/Brussels:20220417T160000
DTSTAMP:20260421T024512
CREATED:20220316T095340Z
LAST-MODIFIED:20220316T100236Z
UID:5222-1650049200-1650211200@www.scouts-sintjan.be
SUMMARY:Klein kamp
DESCRIPTION:We gaan er men zen allen nog eens een weekend op uit! Vergeet jullie “glow in the dark” verkleedkleren niet! \nJoepie!! Het is weer zo ver. Op vrijdag 15 april vertrekken we met z’n allen op klein kamp.\nOns weekend gaat door in Lokeren. Hiervoor zouden we graag beroep doen op een carpoolsysteem.\nGelieve hiervoor de forms in te vullen (terug te vinden in de mail).\nHieronder nog een korte oplijsting van alle praktische zaken.\nWaar:\n“De Landelijke Omheining”\, Hillarestraat 121\, 9160 Lokeren\, België\nWanneer:\nVrijdag: afspraak om 19u in Lokeren\nZondag: afspraak om 16u in Lokeren\nThema:\nFLUO\nKostprijs:\n€40 te storten op BE36 7509 4937 0181 \nWaslijst\n– Kleren die vuil mogen worden\n– Pyjama\n– Verkleedkledij\n– Ondergoed\n– Regenjas\n– Badhanddoek\n– Toiletzak\n– Bedovertrek\n– Slaapzak\n– Zaklamp\n– Uniform\n– Keukenhanddoek
URL:https://www.scouts-sintjan.be/event/klein-kamp-5/
LOCATION:Hillarestraat 121 9160 Lokeren\, Hillarestraat 121\, Lokeren\, 9160\, België
CATEGORIES:Welpen
END:VEVENT
BEGIN:VEVENT
DTSTART;TZID=Europe/Brussels:20220410T140000
DTEND;TZID=Europe/Brussels:20220410T173000
DTSTAMP:20260421T024512
CREATED:20220223T140301Z
LAST-MODIFIED:20220223T140301Z
UID:5301-1649599200-1649611800@www.scouts-sintjan.be
SUMMARY:Paasvakantie
DESCRIPTION:Geen Scouts 🙁
URL:https://www.scouts-sintjan.be/event/paasvakantie-4/
CATEGORIES:Jongverkenners
END:VEVENT
BEGIN:VEVENT
DTSTART;TZID=Europe/Brussels:20220410T140000
DTEND;TZID=Europe/Brussels:20220410T173000
DTSTAMP:20260421T024512
CREATED:20220223T140138Z
LAST-MODIFIED:20220223T140235Z
UID:5299-1649599200-1649611800@www.scouts-sintjan.be
SUMMARY:Paasvakantie
DESCRIPTION:Geen Scouts 🙁
URL:https://www.scouts-sintjan.be/event/paasvakantie-3/
CATEGORIES:Welpen
END:VEVENT
BEGIN:VEVENT
DTSTART;TZID=Europe/Brussels:20220410T140000
DTEND;TZID=Europe/Brussels:20220410T173000
DTSTAMP:20260421T024512
CREATED:20220202T122039Z
LAST-MODIFIED:20220223T141022Z
UID:5243-1649599200-1649611800@www.scouts-sintjan.be
SUMMARY:Paasvakantie
DESCRIPTION:Geen scouts :((((((
URL:https://www.scouts-sintjan.be/event/paasvakantie/
CATEGORIES:Kapoenen
END:VEVENT
END:VCALENDAR