BEGIN:VCALENDAR
VERSION:2.0
PRODID:-//Scouts Sint-Jan Oostende - ECPv6.0.9//NONSGML v1.0//EN
CALSCALE:GREGORIAN
METHOD:PUBLISH
X-WR-CALNAME:Scouts Sint-Jan Oostende
X-ORIGINAL-URL:https://www.scouts-sintjan.be
X-WR-CALDESC:Events for Scouts Sint-Jan Oostende
REFRESH-INTERVAL;VALUE=DURATION:PT1H
X-Robots-Tag:noindex
X-PUBLISHED-TTL:PT1H
BEGIN:VTIMEZONE
TZID:Europe/Brussels
BEGIN:DAYLIGHT
TZOFFSETFROM:+0100
TZOFFSETTO:+0200
TZNAME:CEST
DTSTART:20230326T010000
END:DAYLIGHT
BEGIN:STANDARD
TZOFFSETFROM:+0200
TZOFFSETTO:+0100
TZNAME:CET
DTSTART:20231029T010000
END:STANDARD
END:VTIMEZONE
BEGIN:VEVENT
DTSTART;TZID=Europe/Brussels:20231112T140000
DTEND;TZID=Europe/Brussels:20231112T173000
DTSTAMP:20260420T092040
CREATED:20230908T144922Z
LAST-MODIFIED:20230908T144922Z
UID:5879-1699797600-1699810200@www.scouts-sintjan.be
SUMMARY:Spol en Spert
DESCRIPTION:We moeten rennen\, springen\,…en winnen!
URL:https://www.scouts-sintjan.be/event/spol-en-spert/
CATEGORIES:Jongverkenners
END:VEVENT
BEGIN:VEVENT
DTSTART;TZID=Europe/Brussels:20231112T134500
DTEND;TZID=Europe/Brussels:20231112T173000
DTSTAMP:20260420T092040
CREATED:20230906T094558Z
LAST-MODIFIED:20230906T094558Z
UID:5856-1699796700-1699810200@www.scouts-sintjan.be
SUMMARY:Knibbel knabbel knuisje\, wie knabbelt er aan m'n huisje?
DESCRIPTION:Het grote pas op voor het heksen spel!
URL:https://www.scouts-sintjan.be/event/knibbel-knabbel-knuisje-wie-knabbelt-er-aan-mn-huisje/
LOCATION:Scouts Sint-Jan\, Lindenlaan 30 B\, Oostende\, 8400\, België
CATEGORIES:Welpen
END:VEVENT
BEGIN:VEVENT
DTSTART;TZID=Europe/Brussels:20231112T134500
DTEND;TZID=Europe/Brussels:20231112T173000
DTSTAMP:20260420T092040
CREATED:20230830T174818Z
LAST-MODIFIED:20230831T171331Z
UID:5822-1699796700-1699810200@www.scouts-sintjan.be
SUMMARY:Help\, i’m under the water
DESCRIPTION:Neem je zwembroek mee want wij gaan zwemmeeeuh. We spreken af aan het zwembad van Oostende.
URL:https://www.scouts-sintjan.be/event/help-im-under-the-water/
LOCATION:zwembad oostende (Brigitte Becue)
CATEGORIES:Wolven
END:VEVENT
BEGIN:VEVENT
DTSTART;TZID=Europe/Brussels:20231110T190000
DTEND;TZID=Europe/Brussels:20231111T103000
DTSTAMP:20260420T092040
CREATED:20230918T150852Z
LAST-MODIFIED:20230918T150852Z
UID:5932-1699642800-1699698600@www.scouts-sintjan.be
SUMMARY:overnachting
DESCRIPTION:doe je griezeligste outfit aan!
URL:https://www.scouts-sintjan.be/event/overnachting-5/
LOCATION:Scouts Sint-Jan\, Lindenlaan 30 B\, Oostende\, 8400\, België
CATEGORIES:Kapoenen
END:VEVENT
BEGIN:VEVENT
DTSTART;VALUE=DATE:20231105
DTEND;VALUE=DATE:20231106
DTSTAMP:20260420T092040
CREATED:20230906T094257Z
LAST-MODIFIED:20230906T094257Z
UID:5854-1699142400-1699228799@www.scouts-sintjan.be
SUMMARY:Geen activiteit
DESCRIPTION:Jullie liefste leiding is de rest van het jaar aan het voorbereiden en plannen!
URL:https://www.scouts-sintjan.be/event/geen-activiteit-3/
CATEGORIES:Welpen
END:VEVENT
BEGIN:VEVENT
DTSTART;TZID=Europe/Brussels:20231029T140000
DTEND;TZID=Europe/Brussels:20231029T173000
DTSTAMP:20260420T092040
CREATED:20230908T144812Z
LAST-MODIFIED:20230908T144812Z
UID:5877-1698588000-1698600600@www.scouts-sintjan.be
SUMMARY:Murder Mystery
DESCRIPTION:Wie is Watson en wie is Holmes?
URL:https://www.scouts-sintjan.be/event/murder-mystery/
CATEGORIES:Jongverkenners
END:VEVENT
BEGIN:VEVENT
DTSTART;TZID=Europe/Brussels:20231029T134500
DTEND;TZID=Europe/Brussels:20231029T173000
DTSTAMP:20260420T092040
CREATED:20230918T150357Z
LAST-MODIFIED:20230918T150357Z
UID:5927-1698587100-1698600600@www.scouts-sintjan.be
SUMMARY:snel\, sneller\, snelst
DESCRIPTION:doe maar jullie sportiefste kleren aan
URL:https://www.scouts-sintjan.be/event/snel-sneller-snelst/
LOCATION:Scouts Sint-Jan\, Lindenlaan 30 B\, Oostende\, 8400\, België
CATEGORIES:Kapoenen
END:VEVENT
BEGIN:VEVENT
DTSTART;TZID=Europe/Brussels:20231029T134500
DTEND;TZID=Europe/Brussels:20231029T173000
DTSTAMP:20260420T092040
CREATED:20230830T173914Z
LAST-MODIFIED:20230830T173914Z
UID:5816-1698587100-1698600600@www.scouts-sintjan.be
SUMMARY:Wie lust er graag frietjes?
DESCRIPTION:ik\, jij \, iedereen ?
URL:https://www.scouts-sintjan.be/event/wie-lust-er-graag-frietjes/
CATEGORIES:Wolven
END:VEVENT
BEGIN:VEVENT
DTSTART;TZID=Europe/Brussels:20231028T193000
DTEND;TZID=Europe/Brussels:20231029T103000
DTSTAMP:20260420T092040
CREATED:20231025T102858Z
LAST-MODIFIED:20231025T102858Z
UID:5984-1698521400-1698575400@www.scouts-sintjan.be
SUMMARY:overnachting
DESCRIPTION:Meer info volgt
URL:https://www.scouts-sintjan.be/event/overnachting-6/
LOCATION:Scouts Sint-Jan\, Lindenlaan 30 B\, Oostende\, 8400\, België
CATEGORIES:Verkenners
END:VEVENT
BEGIN:VEVENT
DTSTART;TZID=Europe/Brussels:20231027T190000
DTEND;TZID=Europe/Brussels:20231028T103000
DTSTAMP:20260420T092040
CREATED:20230906T085935Z
LAST-MODIFIED:20230906T085935Z
UID:5852-1698433200-1698489000@www.scouts-sintjan.be
SUMMARY:Hi Ha Halloween / overnachting
DESCRIPTION:Trick or sleep?\nKom in je griezeligste outfit en breng je mooiste pyjama mee.
URL:https://www.scouts-sintjan.be/event/hi-ha-halloween-overnachting/
LOCATION:Scouts Sint-Jan\, Lindenlaan 30 B\, Oostende\, 8400\, België
CATEGORIES:Welpen
END:VEVENT
BEGIN:VEVENT
DTSTART;TZID=Europe/Brussels:20231022T143000
DTEND;TZID=Europe/Brussels:20231022T173000
DTSTAMP:20260420T092040
CREATED:20230915T102841Z
LAST-MODIFIED:20230915T102841Z
UID:5904-1697985000-1697995800@www.scouts-sintjan.be
SUMMARY:Kerrewie?
DESCRIPTION:Misschien gaan we naar de mis of nie
URL:https://www.scouts-sintjan.be/event/kerrewie/
CATEGORIES:Verkenners
END:VEVENT
BEGIN:VEVENT
DTSTART;TZID=Europe/Brussels:20231022T140000
DTEND;TZID=Europe/Brussels:20231022T173000
DTSTAMP:20260420T092040
CREATED:20230908T144516Z
LAST-MODIFIED:20230908T144516Z
UID:5875-1697983200-1697995800@www.scouts-sintjan.be
SUMMARY:stadspel
DESCRIPTION:Na fore\, na links of na rechts?
URL:https://www.scouts-sintjan.be/event/stadspel/
CATEGORIES:Jongverkenners
END:VEVENT
BEGIN:VEVENT
DTSTART;TZID=Europe/Brussels:20231022T134500
DTEND;TZID=Europe/Brussels:20231022T173000
DTSTAMP:20260420T092040
CREATED:20230918T150306Z
LAST-MODIFIED:20230918T150306Z
UID:5925-1697982300-1697995800@www.scouts-sintjan.be
SUMMARY:pizzeria à la kapoen
DESCRIPTION:Waar zijn al die chef koks?
URL:https://www.scouts-sintjan.be/event/pizzeria-a-la-kapoen/
LOCATION:Scouts Sint-Jan\, Lindenlaan 30 B\, Oostende\, 8400\, België
CATEGORIES:Kapoenen
END:VEVENT
BEGIN:VEVENT
DTSTART;TZID=Europe/Brussels:20231022T134500
DTEND;TZID=Europe/Brussels:20231022T173000
DTSTAMP:20260420T092040
CREATED:20230906T085641Z
LAST-MODIFIED:20230906T085641Z
UID:5850-1697982300-1697995800@www.scouts-sintjan.be
SUMMARY:De slimste welp ter wereld
DESCRIPTION:Zupen tot we krupen
URL:https://www.scouts-sintjan.be/event/de-slimste-welp-ter-wereld-2/
LOCATION:Scouts Sint-Jan\, Lindenlaan 30 B\, Oostende\, 8400\, België
CATEGORIES:Welpen
END:VEVENT
BEGIN:VEVENT
DTSTART;TZID=Europe/Brussels:20231022T134500
DTEND;TZID=Europe/Brussels:20231022T173000
DTSTAMP:20260420T092040
CREATED:20230830T173808Z
LAST-MODIFIED:20230830T173808Z
UID:5814-1697982300-1697995800@www.scouts-sintjan.be
SUMMARY:tis rond en plat\, rara wat is het?
DESCRIPTION:Pannenkoeken ij dikke mulle!
URL:https://www.scouts-sintjan.be/event/tis-rond-en-plat-rara-wat-is-het/
CATEGORIES:Wolven
END:VEVENT
BEGIN:VEVENT
DTSTART;TZID=Europe/Brussels:20231021T203000
DTEND;TZID=Europe/Brussels:20231021T233000
DTSTAMP:20260420T092040
CREATED:20230914T095308Z
LAST-MODIFIED:20230915T102723Z
UID:5897-1697920200-1697931000@www.scouts-sintjan.be
SUMMARY:Open bar avond
DESCRIPTION:Open bar avond tvv buitenlands kamp! Pak je matjes mee\, tis ier te doen!!
URL:https://www.scouts-sintjan.be/event/open-bar-avond/
CATEGORIES:Verkenners
END:VEVENT
BEGIN:VEVENT
DTSTART;TZID=Europe/Brussels:20231015T140000
DTEND;TZID=Europe/Brussels:20231015T173000
DTSTAMP:20260420T092040
CREATED:20230908T144335Z
LAST-MODIFIED:20230908T144335Z
UID:5873-1697378400-1697391000@www.scouts-sintjan.be
SUMMARY:Pablo scoutescobar
DESCRIPTION:Wie heeft er de groenste vingers?
URL:https://www.scouts-sintjan.be/event/pablo-scoutescobar/
CATEGORIES:Jongverkenners
END:VEVENT
BEGIN:VEVENT
DTSTART;TZID=Europe/Brussels:20231015T134500
DTEND;TZID=Europe/Brussels:20231015T173000
DTSTAMP:20260420T092040
CREATED:20230918T150211Z
LAST-MODIFIED:20230918T150211Z
UID:5923-1697377500-1697391000@www.scouts-sintjan.be
SUMMARY:jungle book
DESCRIPTION:als je van beren leren kan
URL:https://www.scouts-sintjan.be/event/jungle-book-2/
LOCATION:Scouts Sint-Jan\, Lindenlaan 30 B\, Oostende\, 8400\, België
CATEGORIES:Kapoenen
END:VEVENT
BEGIN:VEVENT
DTSTART;TZID=Europe/Brussels:20231015T134500
DTEND;TZID=Europe/Brussels:20231015T173000
DTSTAMP:20260420T092040
CREATED:20230906T085139Z
LAST-MODIFIED:20230906T085139Z
UID:5848-1697377500-1697391000@www.scouts-sintjan.be
SUMMARY:Estafruite
DESCRIPTION:Aardbei citroen meloen
URL:https://www.scouts-sintjan.be/event/estafruite/
LOCATION:Scouts Sint-Jan\, Lindenlaan 30 B\, Oostende\, 8400\, België
CATEGORIES:Welpen
END:VEVENT
BEGIN:VEVENT
DTSTART;TZID=Europe/Brussels:20231015T134500
DTEND;TZID=Europe/Brussels:20231015T173000
DTSTAMP:20260420T092040
CREATED:20230830T173514Z
LAST-MODIFIED:20230830T173514Z
UID:5812-1697377500-1697391000@www.scouts-sintjan.be
SUMMARY:Tis water trutt!
DESCRIPTION:bereid je voor om veel te drinken en veel te thinken
URL:https://www.scouts-sintjan.be/event/tis-water-trutt/
CATEGORIES:Wolven
END:VEVENT
BEGIN:VEVENT
DTSTART;TZID=Europe/Brussels:20231015T080000
DTEND;TZID=Europe/Brussels:20231015T173000
DTSTAMP:20260420T092040
CREATED:20230914T095208Z
LAST-MODIFIED:20230915T102621Z
UID:5895-1697356800-1697391000@www.scouts-sintjan.be
SUMMARY:Dagje Brugge
DESCRIPTION:Verrassing in Brugge voor buitenlands kamp ;)) \nMeer info volgt…
URL:https://www.scouts-sintjan.be/event/dagje-brugge/
CATEGORIES:Verkenners
END:VEVENT
BEGIN:VEVENT
DTSTART;TZID=Europe/Brussels:20231008T140000
DTEND;TZID=Europe/Brussels:20231008T173000
DTSTAMP:20260420T092040
CREATED:20230914T095121Z
LAST-MODIFIED:20230915T102557Z
UID:5893-1696773600-1696786200@www.scouts-sintjan.be
SUMMARY:Samen op kot
DESCRIPTION:Hebben jullie last van claustrofobie? Hopelijk nie!
URL:https://www.scouts-sintjan.be/event/samen-op-kot/
LOCATION:Scouts Sint-Jan\, Lindenlaan 30 B\, Oostende\, 8400\, België
CATEGORIES:Verkenners
END:VEVENT
BEGIN:VEVENT
DTSTART;TZID=Europe/Brussels:20231008T140000
DTEND;TZID=Europe/Brussels:20231008T173000
DTSTAMP:20260420T092040
CREATED:20230908T144055Z
LAST-MODIFIED:20230908T144055Z
UID:5871-1696773600-1696786200@www.scouts-sintjan.be
SUMMARY:Alles butn e velo
DESCRIPTION:Skeelers\, step of skate zolang het maar geen fiets is waarmee je rijdt!
URL:https://www.scouts-sintjan.be/event/alles-butn-e-velo/
CATEGORIES:Jongverkenners
END:VEVENT
BEGIN:VEVENT
DTSTART;TZID=Europe/Brussels:20231008T134500
DTEND;TZID=Europe/Brussels:20231008T173000
DTSTAMP:20260420T092040
CREATED:20230918T150105Z
LAST-MODIFIED:20230918T150706Z
UID:5921-1696772700-1696786200@www.scouts-sintjan.be
SUMMARY:kings and queens
DESCRIPTION:welke kapoen maakt het mooiste kasteel?
URL:https://www.scouts-sintjan.be/event/kings-and-queens-%f0%9f%91%91/
LOCATION:Scouts Sint-Jan\, Lindenlaan 30 B\, Oostende\, 8400\, België
CATEGORIES:Kapoenen
END:VEVENT
BEGIN:VEVENT
DTSTART;TZID=Europe/Brussels:20231008T134500
DTEND;TZID=Europe/Brussels:20231008T173000
DTSTAMP:20260420T092040
CREATED:20230906T084413Z
LAST-MODIFIED:20230906T084509Z
UID:5846-1696772700-1696786200@www.scouts-sintjan.be
SUMMARY:Vorte spelletjes
DESCRIPTION:We spelen heavy games\, neem je VUILSTE kledij mee.
URL:https://www.scouts-sintjan.be/event/vorte-spelletjes/
LOCATION:Scouts Sint-Jan\, Lindenlaan 30 B\, Oostende\, 8400\, België
CATEGORIES:Welpen
END:VEVENT
BEGIN:VEVENT
DTSTART;TZID=Europe/Brussels:20231008T134500
DTEND;TZID=Europe/Brussels:20231008T173000
DTSTAMP:20260420T092040
CREATED:20230830T173316Z
LAST-MODIFIED:20230830T173316Z
UID:5810-1696772700-1696786200@www.scouts-sintjan.be
SUMMARY:How to become parra
DESCRIPTION:Geef acht en maak je klaar voor je inlijving in leger Sint-Jan
URL:https://www.scouts-sintjan.be/event/how-to-become-parra/
CATEGORIES:Wolven
END:VEVENT
BEGIN:VEVENT
DTSTART;TZID=Europe/Brussels:20231001T140000
DTEND;TZID=Europe/Brussels:20231001T173000
DTSTAMP:20260420T092040
CREATED:20230914T095009Z
LAST-MODIFIED:20230915T102523Z
UID:5891-1696168800-1696181400@www.scouts-sintjan.be
SUMMARY:Wie ben jij?
DESCRIPTION:Heb ik een baard?
URL:https://www.scouts-sintjan.be/event/wie-ben-jij/
LOCATION:Scouts Sint-Jan\, Lindenlaan 30 B\, Oostende\, 8400\, België
CATEGORIES:Verkenners
END:VEVENT
BEGIN:VEVENT
DTSTART;TZID=Europe/Brussels:20231001T140000
DTEND;TZID=Europe/Brussels:20231001T173000
DTSTAMP:20260420T092040
CREATED:20230908T143805Z
LAST-MODIFIED:20230908T143805Z
UID:5869-1696168800-1696181400@www.scouts-sintjan.be
SUMMARY:Dingsje & Dingsje
DESCRIPTION:Wie is Wie\, Wie zijn Wij?
URL:https://www.scouts-sintjan.be/event/dingsje-dingsje/
CATEGORIES:Jongverkenners
END:VEVENT
BEGIN:VEVENT
DTSTART;TZID=Europe/Brussels:20231001T134500
DTEND;TZID=Europe/Brussels:20231001T173000
DTSTAMP:20260420T092040
CREATED:20230918T145829Z
LAST-MODIFIED:20230918T145925Z
UID:5919-1696167900-1696181400@www.scouts-sintjan.be
SUMMARY:wie zieje gie?
DESCRIPTION:en wie is jullie leiding??
URL:https://www.scouts-sintjan.be/event/wie-zieje-gie-2/
LOCATION:Scouts Sint-Jan\, Lindenlaan 30 B\, Oostende\, 8400\, België
CATEGORIES:Kapoenen
END:VEVENT
BEGIN:VEVENT
DTSTART;TZID=Europe/Brussels:20231001T134500
DTEND;TZID=Europe/Brussels:20231001T173000
DTSTAMP:20260420T092040
CREATED:20230906T084102Z
LAST-MODIFIED:20230906T084556Z
UID:5844-1696167900-1696181400@www.scouts-sintjan.be
SUMMARY:Wie ben jij? Ik ben een God.
DESCRIPTION:Wie\, wat\, waar\, hoe\, wanneer en waarom?
URL:https://www.scouts-sintjan.be/event/wie-ben-jij-ik-ben-een-god/
LOCATION:Scouts Sint-Jan\, Lindenlaan 30 B\, Oostende\, 8400\, België
CATEGORIES:Welpen
END:VEVENT
END:VCALENDAR