BEGIN:VCALENDAR
VERSION:2.0
PRODID:-//Scouts Sint-Jan Oostende - ECPv6.0.9//NONSGML v1.0//EN
CALSCALE:GREGORIAN
METHOD:PUBLISH
X-WR-CALNAME:Scouts Sint-Jan Oostende
X-ORIGINAL-URL:https://www.scouts-sintjan.be
X-WR-CALDESC:Events for Scouts Sint-Jan Oostende
REFRESH-INTERVAL;VALUE=DURATION:PT1H
X-Robots-Tag:noindex
X-PUBLISHED-TTL:PT1H
BEGIN:VTIMEZONE
TZID:Europe/Brussels
BEGIN:DAYLIGHT
TZOFFSETFROM:+0100
TZOFFSETTO:+0200
TZNAME:CEST
DTSTART:20230326T010000
END:DAYLIGHT
BEGIN:STANDARD
TZOFFSETFROM:+0200
TZOFFSETTO:+0100
TZNAME:CET
DTSTART:20231029T010000
END:STANDARD
END:VTIMEZONE
BEGIN:VEVENT
DTSTART;TZID=Europe/Brussels:20230430T140000
DTEND;TZID=Europe/Brussels:20230430T173000
DTSTAMP:20260420T090629
CREATED:20230206T193401Z
LAST-MODIFIED:20230206T193401Z
UID:5717-1682863200-1682875800@www.scouts-sintjan.be
SUMMARY:vlaggenroof
DESCRIPTION:camoufleer je maar goed\, we gaan kampen bouwen !!!!
URL:https://www.scouts-sintjan.be/event/vlaggenroof-2/
LOCATION:de schorre
CATEGORIES:Kapoenen
END:VEVENT
BEGIN:VEVENT
DTSTART;TZID=Europe/Brussels:20230430T140000
DTEND;TZID=Europe/Brussels:20230430T173000
DTSTAMP:20260420T090629
CREATED:20230203T153716Z
LAST-MODIFIED:20230203T153716Z
UID:5690-1682863200-1682875800@www.scouts-sintjan.be
SUMMARY:sport en spel
DESCRIPTION:trek je sportiefste lolbroek aan om er helemaal tegenaan te gaan!
URL:https://www.scouts-sintjan.be/event/sport-en-spel-3/
CATEGORIES:Welpen
END:VEVENT
BEGIN:VEVENT
DTSTART;TZID=Europe/Brussels:20230430T140000
DTEND;TZID=Europe/Brussels:20230430T173000
DTSTAMP:20260420T090629
CREATED:20230127T161920Z
LAST-MODIFIED:20230127T161920Z
UID:5623-1682863200-1682875800@www.scouts-sintjan.be
SUMMARY:Strangspel
DESCRIPTION:
URL:https://www.scouts-sintjan.be/event/strangspel/
CATEGORIES:Wolven
END:VEVENT
BEGIN:VEVENT
DTSTART;TZID=Europe/Brussels:20230430T134500
DTEND;TZID=Europe/Brussels:20230430T173000
DTSTAMP:20260420T090629
CREATED:20230131T210714Z
LAST-MODIFIED:20230131T210714Z
UID:5669-1682862300-1682875800@www.scouts-sintjan.be
SUMMARY:Barista Sint-Jan
DESCRIPTION:In de scouts doen we enkel maar aan mocktails
URL:https://www.scouts-sintjan.be/event/barista-sint-jan-2/
CATEGORIES:Verkenners
END:VEVENT
BEGIN:VEVENT
DTSTART;TZID=Europe/Brussels:20230428T140000
DTEND;TZID=Europe/Brussels:20230428T173000
DTSTAMP:20260420T090629
CREATED:20221226T231152Z
LAST-MODIFIED:20221226T231653Z
UID:5586-1682690400-1682703000@www.scouts-sintjan.be
SUMMARY:Overnachting
DESCRIPTION:
URL:https://www.scouts-sintjan.be/event/overnachting-4/
LOCATION:Scouts Sint-Jan\, Lindenlaan 30 B\, Oostende\, 8400\, België
CATEGORIES:Jongverkenners
END:VEVENT
BEGIN:VEVENT
DTSTART;TZID=Europe/Brussels:20230423T140000
DTEND;TZID=Europe/Brussels:20230423T173000
DTSTAMP:20260420T090629
CREATED:20230206T192701Z
LAST-MODIFIED:20230206T192701Z
UID:5715-1682258400-1682271000@www.scouts-sintjan.be
SUMMARY:reuze zeeslag
DESCRIPTION:boem plons blub blub \nwelke boten zullen zinken en welke zullen de oceanen overmeesteren ??
URL:https://www.scouts-sintjan.be/event/reuze-zeeslag/
CATEGORIES:Kapoenen
END:VEVENT
BEGIN:VEVENT
DTSTART;TZID=Europe/Brussels:20230423T140000
DTEND;TZID=Europe/Brussels:20230423T173000
DTSTAMP:20260420T090629
CREATED:20230127T161835Z
LAST-MODIFIED:20230127T162422Z
UID:5621-1682258400-1682271000@www.scouts-sintjan.be
SUMMARY:Hogwarts
DESCRIPTION:
URL:https://www.scouts-sintjan.be/event/hogwarts/
LOCATION:Scouts Sint-Jan\, Lindenlaan 30 B\, Oostende\, 8400\, België
CATEGORIES:Wolven
END:VEVENT
BEGIN:VEVENT
DTSTART;TZID=Europe/Brussels:20230423T140000
DTEND;TZID=Europe/Brussels:20230423T173000
DTSTAMP:20260420T090629
CREATED:20221226T231105Z
LAST-MODIFIED:20230419T210356Z
UID:5584-1682258400-1682271000@www.scouts-sintjan.be
SUMMARY:Homo universalis
DESCRIPTION:
URL:https://www.scouts-sintjan.be/event/sint-jan-in-de-mix/
LOCATION:Scouts Sint-Jan\, Lindenlaan 30 B\, Oostende\, 8400\, België
CATEGORIES:Jongverkenners
END:VEVENT
BEGIN:VEVENT
DTSTART;TZID=Europe/Brussels:20230423T134500
DTEND;TZID=Europe/Brussels:20230423T173000
DTSTAMP:20260420T090629
CREATED:20230131T210609Z
LAST-MODIFIED:20230131T210609Z
UID:5667-1682257500-1682271000@www.scouts-sintjan.be
SUMMARY:Black Berry
DESCRIPTION:Fiets voorzien\, anders moe je schooien misschien
URL:https://www.scouts-sintjan.be/event/black-berry/
CATEGORIES:Verkenners
END:VEVENT
BEGIN:VEVENT
DTSTART;TZID=Europe/Brussels:20230421T183000
DTEND;TZID=Europe/Brussels:20230421T213000
DTSTAMP:20260420T090629
CREATED:20230203T153541Z
LAST-MODIFIED:20230315T104802Z
UID:5688-1682101800-1682112600@www.scouts-sintjan.be
SUMMARY:avondspel
DESCRIPTION:
URL:https://www.scouts-sintjan.be/event/zingwafel/
CATEGORIES:Welpen
END:VEVENT
BEGIN:VEVENT
DTSTART;TZID=Europe/Brussels:20230414T160000
DTEND;TZID=Europe/Brussels:20230416T160000
DTSTAMP:20260420T090629
CREATED:20230131T210502Z
LAST-MODIFIED:20230131T210502Z
UID:5665-1681488000-1681660800@www.scouts-sintjan.be
SUMMARY:Verkennersweekend
DESCRIPTION:Meer informatie volgt. Hou je mailbox in de gaten!
URL:https://www.scouts-sintjan.be/event/verkennersweekend/
CATEGORIES:Verkenners
END:VEVENT
BEGIN:VEVENT
DTSTART;TZID=Europe/Brussels:20230331T193000
DTEND;TZID=Europe/Brussels:20230402T133000
DTSTAMP:20260420T090629
CREATED:20230325T185252Z
LAST-MODIFIED:20230325T185252Z
UID:5747-1680291000-1680442200@www.scouts-sintjan.be
SUMMARY:Klein Kamp
DESCRIPTION:Meer info via mail
URL:https://www.scouts-sintjan.be/event/klein-kamp-10/
LOCATION:De Haan\, Chat Bottée
CATEGORIES:Verkenners
END:VEVENT
BEGIN:VEVENT
DTSTART;TZID=Europe/Brussels:20230331T193000
DTEND;TZID=Europe/Brussels:20230402T133000
DTSTAMP:20260420T090629
CREATED:20230325T185206Z
LAST-MODIFIED:20230325T185206Z
UID:5745-1680291000-1680442200@www.scouts-sintjan.be
SUMMARY:Klein Kamp
DESCRIPTION:Meer info via mail
URL:https://www.scouts-sintjan.be/event/klein-kamp-9/
LOCATION:De Haan\, Chat Bottée
CATEGORIES:Jongverkenners
END:VEVENT
BEGIN:VEVENT
DTSTART;TZID=Europe/Brussels:20230331T180000
DTEND;TZID=Europe/Brussels:20230402T160000
DTSTAMP:20260420T090629
CREATED:20230131T210337Z
LAST-MODIFIED:20230131T210337Z
UID:5663-1680285600-1680451200@www.scouts-sintjan.be
SUMMARY:Klein kamp
DESCRIPTION:
URL:https://www.scouts-sintjan.be/event/klein-kamp-7/
CATEGORIES:Jongverkenners,Kapoenen,Verkenners,Welpen
END:VEVENT
BEGIN:VEVENT
DTSTART;TZID=Europe/Brussels:20230331T080000
DTEND;TZID=Europe/Brussels:20230402T170000
DTSTAMP:20260420T090629
CREATED:20230206T192438Z
LAST-MODIFIED:20230206T192438Z
UID:5712-1680249600-1680454800@www.scouts-sintjan.be
SUMMARY:klein kamp
DESCRIPTION:een weekendje vol leuke spelletjes :)) \n 
URL:https://www.scouts-sintjan.be/event/klein-kamp-8/
LOCATION:De Haan\, Chat Bottée
CATEGORIES:Kapoenen
END:VEVENT
BEGIN:VEVENT
DTSTART;VALUE=DATE:20230331
DTEND;VALUE=DATE:20230403
DTSTAMP:20260420T090629
CREATED:20230127T161754Z
LAST-MODIFIED:20230127T161754Z
UID:5619-1680220800-1680479999@www.scouts-sintjan.be
SUMMARY:Klein Kamp
DESCRIPTION:
URL:https://www.scouts-sintjan.be/event/klein-kamp-6/
CATEGORIES:Wolven
END:VEVENT
BEGIN:VEVENT
DTSTART;TZID=Europe/Brussels:20230326T140000
DTEND;TZID=Europe/Brussels:20230326T173000
DTSTAMP:20260420T090629
CREATED:20230127T161713Z
LAST-MODIFIED:20230127T162356Z
UID:5617-1679839200-1679851800@www.scouts-sintjan.be
SUMMARY:Holbewoner
DESCRIPTION:
URL:https://www.scouts-sintjan.be/event/holbewoner/
LOCATION:Scouts Sint-Jan\, Lindenlaan 30 B\, Oostende\, 8400\, België
CATEGORIES:Wolven
END:VEVENT
BEGIN:VEVENT
DTSTART;TZID=Europe/Brussels:20230326T140000
DTEND;TZID=Europe/Brussels:20230326T173000
DTSTAMP:20260420T090629
CREATED:20221226T231030Z
LAST-MODIFIED:20221226T231030Z
UID:5582-1679839200-1679851800@www.scouts-sintjan.be
SUMMARY:Strandspel
DESCRIPTION:
URL:https://www.scouts-sintjan.be/event/strandspel/
LOCATION:Scouts Sint-Jan\, Lindenlaan 30 B\, Oostende\, 8400\, België
CATEGORIES:Jongverkenners
END:VEVENT
BEGIN:VEVENT
DTSTART;TZID=Europe/Brussels:20230326T134500
DTEND;TZID=Europe/Brussels:20230326T173000
DTSTAMP:20260420T090629
CREATED:20230131T205942Z
LAST-MODIFIED:20230131T205942Z
UID:5661-1679838300-1679851800@www.scouts-sintjan.be
SUMMARY:De ronde van Sint-Jan
DESCRIPTION:Pomp je banden op\, smeer je ketting (& kieten) in. We trotseren alle bergen van Oostende.
URL:https://www.scouts-sintjan.be/event/de-ronde-van-sint-jan/
CATEGORIES:Verkenners
END:VEVENT
BEGIN:VEVENT
DTSTART;TZID=Europe/Brussels:20230326T100000
DTEND;TZID=Europe/Brussels:20230326T160000
DTSTAMP:20260420T090629
CREATED:20230315T102031Z
LAST-MODIFIED:20230320T150650Z
UID:5736-1679824800-1679846400@www.scouts-sintjan.be
SUMMARY:Takdag
DESCRIPTION:We spelen samen met alle kapoenen en welpen van scoutsgroepen uit ons District.
URL:https://www.scouts-sintjan.be/event/takdag-4/
LOCATION:‘t eilandje – Spuikom
CATEGORIES:Welpen
END:VEVENT
BEGIN:VEVENT
DTSTART;TZID=Europe/Brussels:20230326T100000
DTEND;TZID=Europe/Brussels:20230326T160000
DTSTAMP:20260420T090629
CREATED:20230206T192001Z
LAST-MODIFIED:20230320T150557Z
UID:5710-1679824800-1679846400@www.scouts-sintjan.be
SUMMARY:Takdag
DESCRIPTION:We spelen samen met alle kapoenen en welpen van scoutsgroepen uit ons District.
URL:https://www.scouts-sintjan.be/event/ganzenbord-spel/
LOCATION:‘t eilandje – Spuikom
CATEGORIES:Kapoenen
END:VEVENT
BEGIN:VEVENT
DTSTART;TZID=Europe/Brussels:20230319T140000
DTEND;TZID=Europe/Brussels:20230319T173000
DTSTAMP:20260420T090629
CREATED:20230315T100529Z
LAST-MODIFIED:20230315T100529Z
UID:5734-1679234400-1679247000@www.scouts-sintjan.be
SUMMARY:4 op 1 rij
DESCRIPTION:Wie zal er in deze extreme versie de eerste zijn met vier op een rij?
URL:https://www.scouts-sintjan.be/event/4-op-1-rij/
CATEGORIES:Welpen
END:VEVENT
BEGIN:VEVENT
DTSTART;TZID=Europe/Brussels:20230319T140000
DTEND;TZID=Europe/Brussels:20230319T173000
DTSTAMP:20260420T090629
CREATED:20230127T161640Z
LAST-MODIFIED:20230127T162328Z
UID:5615-1679234400-1679247000@www.scouts-sintjan.be
SUMMARY:Scarface
DESCRIPTION:
URL:https://www.scouts-sintjan.be/event/scarface/
LOCATION:Scouts Sint-Jan\, Lindenlaan 30 B\, Oostende\, 8400\, België
CATEGORIES:Wolven
END:VEVENT
BEGIN:VEVENT
DTSTART;TZID=Europe/Brussels:20230319T140000
DTEND;TZID=Europe/Brussels:20230319T173000
DTSTAMP:20260420T090629
CREATED:20221226T230931Z
LAST-MODIFIED:20221226T230931Z
UID:5580-1679234400-1679247000@www.scouts-sintjan.be
SUMMARY:Homo universalis
DESCRIPTION:
URL:https://www.scouts-sintjan.be/event/homo-universalis/
LOCATION:Scouts Sint-Jan\, Lindenlaan 30 B\, Oostende\, 8400\, België
CATEGORIES:Jongverkenners
END:VEVENT
BEGIN:VEVENT
DTSTART;TZID=Europe/Brussels:20230319T135000
DTEND;TZID=Europe/Brussels:20230319T173000
DTSTAMP:20260420T090629
CREATED:20230206T191439Z
LAST-MODIFIED:20230319T122430Z
UID:5705-1679233800-1679247000@www.scouts-sintjan.be
SUMMARY:Het Grote Smurfenspel
DESCRIPTION:lach je een smurf \nspeel als echte smurfen
URL:https://www.scouts-sintjan.be/event/zwemmen-5/
LOCATION:Scouts Sint-Jan\, Lindenlaan 30 B\, Oostende\, 8400\, België
CATEGORIES:Kapoenen
END:VEVENT
BEGIN:VEVENT
DTSTART;TZID=Europe/Brussels:20230319T134500
DTEND;TZID=Europe/Brussels:20230319T173000
DTSTAMP:20260420T090629
CREATED:20230131T205857Z
LAST-MODIFIED:20230131T205857Z
UID:5659-1679233500-1679247000@www.scouts-sintjan.be
SUMMARY:Komen eten
DESCRIPTION:Vuur\, fret en moaten
URL:https://www.scouts-sintjan.be/event/komen-eten-2/
CATEGORIES:Verkenners
END:VEVENT
BEGIN:VEVENT
DTSTART;TZID=Europe/Brussels:20230312T140000
DTEND;TZID=Europe/Brussels:20230312T173000
DTSTAMP:20260420T090629
CREATED:20230206T191900Z
LAST-MODIFIED:20230312T103754Z
UID:5708-1678629600-1678642200@www.scouts-sintjan.be
SUMMARY:Zwemmen
DESCRIPTION:Meer info in de mail
URL:https://www.scouts-sintjan.be/event/het-grote-smurfenspel/
CATEGORIES:Kapoenen
END:VEVENT
BEGIN:VEVENT
DTSTART;TZID=Europe/Brussels:20230312T140000
DTEND;TZID=Europe/Brussels:20230312T173000
DTSTAMP:20260420T090629
CREATED:20230203T152912Z
LAST-MODIFIED:20230203T152912Z
UID:5682-1678629600-1678642200@www.scouts-sintjan.be
SUMMARY:pizzeria à la welp
DESCRIPTION:Wat is het beste recept voor en leuke namiddag?
URL:https://www.scouts-sintjan.be/event/pizzeria-a-la-welp/
CATEGORIES:Welpen
END:VEVENT
BEGIN:VEVENT
DTSTART;TZID=Europe/Brussels:20230312T140000
DTEND;TZID=Europe/Brussels:20230312T173000
DTSTAMP:20260420T090629
CREATED:20230127T161520Z
LAST-MODIFIED:20230127T162304Z
UID:5613-1678629600-1678642200@www.scouts-sintjan.be
SUMMARY:Down the Road
DESCRIPTION:
URL:https://www.scouts-sintjan.be/event/down-the-road/
LOCATION:Scouts Sint-Jan\, Lindenlaan 30 B\, Oostende\, 8400\, België
CATEGORIES:Wolven
END:VEVENT
BEGIN:VEVENT
DTSTART;TZID=Europe/Brussels:20230312T140000
DTEND;TZID=Europe/Brussels:20230312T173000
DTSTAMP:20260420T090629
CREATED:20221226T230849Z
LAST-MODIFIED:20221226T230849Z
UID:5578-1678629600-1678642200@www.scouts-sintjan.be
SUMMARY:Sport en spel Ravelijn
DESCRIPTION:
URL:https://www.scouts-sintjan.be/event/sport-en-spel-ravelijn/
LOCATION:Scouts Sint-Jan\, Lindenlaan 30 B\, Oostende\, 8400\, België
CATEGORIES:Jongverkenners
END:VEVENT
END:VCALENDAR