BEGIN:VCALENDAR
VERSION:2.0
PRODID:-//Scouts Sint-Jan Oostende - ECPv6.0.9//NONSGML v1.0//EN
CALSCALE:GREGORIAN
METHOD:PUBLISH
X-WR-CALNAME:Scouts Sint-Jan Oostende
X-ORIGINAL-URL:https://www.scouts-sintjan.be
X-WR-CALDESC:Events for Scouts Sint-Jan Oostende
REFRESH-INTERVAL;VALUE=DURATION:PT1H
X-Robots-Tag:noindex
X-PUBLISHED-TTL:PT1H
BEGIN:VTIMEZONE
TZID:Europe/Brussels
BEGIN:DAYLIGHT
TZOFFSETFROM:+0100
TZOFFSETTO:+0200
TZNAME:CEST
DTSTART:20230326T010000
END:DAYLIGHT
BEGIN:STANDARD
TZOFFSETFROM:+0200
TZOFFSETTO:+0100
TZNAME:CET
DTSTART:20231029T010000
END:STANDARD
END:VTIMEZONE
BEGIN:VEVENT
DTSTART;TZID=Europe/Brussels:20231210T140000
DTEND;TZID=Europe/Brussels:20231210T173000
DTSTAMP:20260420T083217
CREATED:20230908T145723Z
LAST-MODIFIED:20230908T145723Z
UID:5887-1702216800-1702229400@www.scouts-sintjan.be
SUMMARY:TomTom Tour
DESCRIPTION:kort door de bocht\, t’is een zoektocht!
URL:https://www.scouts-sintjan.be/event/tomtom-tour/
CATEGORIES:Jongverkenners
END:VEVENT
BEGIN:VEVENT
DTSTART;TZID=Europe/Brussels:20231210T134500
DTEND;TZID=Europe/Brussels:20231210T173000
DTSTAMP:20260420T083217
CREATED:20230918T151045Z
LAST-MODIFIED:20230918T151045Z
UID:5936-1702215900-1702229400@www.scouts-sintjan.be
SUMMARY:pisquiz
DESCRIPTION:geen pampers toegelaten!
URL:https://www.scouts-sintjan.be/event/pisquiz-2/
LOCATION:Scouts Sint-Jan\, Lindenlaan 30 B\, Oostende\, 8400\, België
CATEGORIES:Kapoenen
END:VEVENT
BEGIN:VEVENT
DTSTART;TZID=Europe/Brussels:20231210T134500
DTEND;TZID=Europe/Brussels:20231210T173000
DTSTAMP:20260420T083217
CREATED:20230906T095944Z
LAST-MODIFIED:20230906T095944Z
UID:5865-1702215900-1702229400@www.scouts-sintjan.be
SUMMARY:HI HI HI HI Hwumba wumba he - Wie is de welpenkoning?
DESCRIPTION:Welke welp wint van alle welpen…
URL:https://www.scouts-sintjan.be/event/hi-hi-hi-hi-hwumba-wumba-he-wie-is-de-welpenkoning/
LOCATION:Scouts Sint-Jan\, Lindenlaan 30 B\, Oostende\, 8400\, België
CATEGORIES:Welpen
END:VEVENT
BEGIN:VEVENT
DTSTART;TZID=Europe/Brussels:20231210T134500
DTEND;TZID=Europe/Brussels:20231210T173000
DTSTAMP:20260420T083217
CREATED:20230830T175116Z
LAST-MODIFIED:20230830T175116Z
UID:5826-1702215900-1702229400@www.scouts-sintjan.be
SUMMARY:Don’t eat the yellow snow
DESCRIPTION:Wijze levenslessen van wijze mensen
URL:https://www.scouts-sintjan.be/event/dont-eat-the-yellow-snow/
LOCATION:Scouts Sint-Jan\, Lindenlaan 30 B\, Oostende\, 8400\, België
CATEGORIES:Wolven
END:VEVENT
BEGIN:VEVENT
DTSTART;TZID=Europe/Brussels:20231203T140000
DTEND;TZID=Europe/Brussels:20231203T173000
DTSTAMP:20260420T083217
CREATED:20231120T202826Z
LAST-MODIFIED:20231120T202826Z
UID:6038-1701612000-1701624600@www.scouts-sintjan.be
SUMMARY:Sinterklaas Kapoentje
DESCRIPTION:
URL:https://www.scouts-sintjan.be/event/sinterklaas-kapoentje/
CATEGORIES:Kapoenen
END:VEVENT
BEGIN:VEVENT
DTSTART;TZID=Europe/Brussels:20231203T140000
DTEND;TZID=Europe/Brussels:20231203T173000
DTSTAMP:20260420T083217
CREATED:20230915T103326Z
LAST-MODIFIED:20230915T103404Z
UID:5911-1701612000-1701624600@www.scouts-sintjan.be
SUMMARY:Sint
DESCRIPTION:Zijn jullie wel braaf geweest?
URL:https://www.scouts-sintjan.be/event/ratten-int-slijk/
CATEGORIES:Verkenners
END:VEVENT
BEGIN:VEVENT
DTSTART;TZID=Europe/Brussels:20231203T140000
DTEND;TZID=Europe/Brussels:20231203T173000
DTSTAMP:20260420T083217
CREATED:20230908T145537Z
LAST-MODIFIED:20230908T145537Z
UID:5885-1701612000-1701624600@www.scouts-sintjan.be
SUMMARY:sinterklaas jongverkennertje
DESCRIPTION:
URL:https://www.scouts-sintjan.be/event/sinterklaas-jongverkennertje/
CATEGORIES:Jongverkenners
END:VEVENT
BEGIN:VEVENT
DTSTART;TZID=Europe/Brussels:20231203T134500
DTEND;TZID=Europe/Brussels:20231203T173000
DTSTAMP:20260420T083217
CREATED:20230906T095817Z
LAST-MODIFIED:20230906T095817Z
UID:5863-1701611100-1701624600@www.scouts-sintjan.be
SUMMARY:Sinterklaas Kapoentje ?
DESCRIPTION:We laten nog weten hoe deze activiteit zal verlopen.
URL:https://www.scouts-sintjan.be/event/sinterklaas-kapoentje-%f0%9f%8e%b5-2/
LOCATION:Scouts Sint-Jan\, Lindenlaan 30 B\, Oostende\, 8400\, België
CATEGORIES:Welpen
END:VEVENT
BEGIN:VEVENT
DTSTART;TZID=Europe/Brussels:20231203T134500
DTEND;TZID=Europe/Brussels:20231203T173000
DTSTAMP:20260420T083217
CREATED:20230830T174934Z
LAST-MODIFIED:20230830T175201Z
UID:5824-1701611100-1701624600@www.scouts-sintjan.be
SUMMARY:Sinterklaas kapoentje ?
DESCRIPTION:
URL:https://www.scouts-sintjan.be/event/sinterklaas-kapoentje-%f0%9f%8e%b5/
LOCATION:Scouts Sint-Jan\, Lindenlaan 30 B\, Oostende\, 8400\, België
CATEGORIES:Wolven
END:VEVENT
BEGIN:VEVENT
DTSTART;TZID=Europe/Brussels:20231126T140000
DTEND;TZID=Europe/Brussels:20231126T173000
DTSTAMP:20260420T083217
CREATED:20230915T103436Z
LAST-MODIFIED:20230915T103436Z
UID:5914-1701007200-1701019800@www.scouts-sintjan.be
SUMMARY:Ratjes int slijk
DESCRIPTION:spetter\, spatter\, modder (ma dan heavy)
URL:https://www.scouts-sintjan.be/event/ratjes-int-slijk/
CATEGORIES:Verkenners
END:VEVENT
BEGIN:VEVENT
DTSTART;TZID=Europe/Brussels:20231126T134500
DTEND;TZID=Europe/Brussels:20231126T173000
DTSTAMP:20260420T083217
CREATED:20230918T150947Z
LAST-MODIFIED:20230918T150947Z
UID:5934-1701006300-1701019800@www.scouts-sintjan.be
SUMMARY:zwemmen
DESCRIPTION:spieter spetter spater
URL:https://www.scouts-sintjan.be/event/zwemmen-6/
LOCATION:zwembad oostende (Brigitte Becue)
CATEGORIES:Kapoenen
END:VEVENT
BEGIN:VEVENT
DTSTART;TZID=Europe/Brussels:20231126T134500
DTEND;TZID=Europe/Brussels:20231126T173000
DTSTAMP:20260420T083217
CREATED:20230906T095602Z
LAST-MODIFIED:20230906T095617Z
UID:5860-1701006300-1701019800@www.scouts-sintjan.be
SUMMARY:Zie ginds komt de stoomboot er BIJNA aan
DESCRIPTION:Welke welp haalt zijn innerlijke kunstenaar uit voor Sinterklaas en zet zijn beste schoentje voor?
URL:https://www.scouts-sintjan.be/event/zie-ginds-komt-de-stoomboot-er-bijna-aan/
LOCATION:Scouts Sint-Jan\, Lindenlaan 30 B\, Oostende\, 8400\, België
CATEGORIES:Welpen
END:VEVENT
BEGIN:VEVENT
DTSTART;TZID=Europe/Brussels:20231126T134500
DTEND;TZID=Europe/Brussels:20231126T173000
DTSTAMP:20260420T083217
CREATED:20230830T174123Z
LAST-MODIFIED:20230831T171433Z
UID:5818-1701006300-1701019800@www.scouts-sintjan.be
SUMMARY:Age of Empires
DESCRIPTION:Build your Empire and capture the flag. Neem zeker je fiets mee
URL:https://www.scouts-sintjan.be/event/age-of-empires/
LOCATION:Scouts Sint-Jan\, Lindenlaan 30 B\, Oostende\, 8400\, België
CATEGORIES:Wolven
END:VEVENT
BEGIN:VEVENT
DTSTART;TZID=Europe/Brussels:20231125T190000
DTEND;TZID=Europe/Brussels:20231125T230000
DTSTAMP:20260420T083217
CREATED:20230908T145156Z
LAST-MODIFIED:20230908T145156Z
UID:5883-1700938800-1700953200@www.scouts-sintjan.be
SUMMARY:Gyals night
DESCRIPTION:wie brengt er de gossip en wie brengt er de nagellak?
URL:https://www.scouts-sintjan.be/event/gyals-night/
CATEGORIES:Jongverkenners
END:VEVENT
BEGIN:VEVENT
DTSTART;TZID=Europe/Brussels:20231119T140000
DTEND;TZID=Europe/Brussels:20231119T173000
DTSTAMP:20260420T083217
CREATED:20230915T103244Z
LAST-MODIFIED:20230915T103244Z
UID:5909-1700402400-1700415000@www.scouts-sintjan.be
SUMMARY:Dilfs en Milfs
DESCRIPTION:Laat de kids maar thuis tis papa en mama dag
URL:https://www.scouts-sintjan.be/event/dilfs-en-milfs/
CATEGORIES:Verkenners
END:VEVENT
BEGIN:VEVENT
DTSTART;TZID=Europe/Brussels:20231119T140000
DTEND;TZID=Europe/Brussels:20231119T173000
DTSTAMP:20260420T083217
CREATED:20230908T145026Z
LAST-MODIFIED:20230908T145342Z
UID:5881-1700402400-1700415000@www.scouts-sintjan.be
SUMMARY:Quiztet nie meer
DESCRIPTION:Wit je gie et wel?
URL:https://www.scouts-sintjan.be/event/quiztet-nie-meer/
CATEGORIES:Jongverkenners
END:VEVENT
BEGIN:VEVENT
DTSTART;TZID=Europe/Brussels:20231119T140000
DTEND;TZID=Europe/Brussels:20231119T170000
DTSTAMP:20260420T083217
CREATED:20230906T095022Z
LAST-MODIFIED:20231011T112458Z
UID:5858-1700402400-1700413200@www.scouts-sintjan.be
SUMMARY:Niet-verdrinkingsspel
DESCRIPTION:We gaan ZWEMMEN! \nOm 14u spreken we af aan het zwembad van Oostende\, be there or be square.
URL:https://www.scouts-sintjan.be/event/niet-verdrinkingsspel/
LOCATION:zwembad oostende (Brigitte Becue)
CATEGORIES:Welpen
END:VEVENT
BEGIN:VEVENT
DTSTART;TZID=Europe/Brussels:20231119T134500
DTEND;TZID=Europe/Brussels:20231119T173000
DTSTAMP:20260420T083217
CREATED:20230918T150623Z
LAST-MODIFIED:20230918T150623Z
UID:5929-1700401500-1700415000@www.scouts-sintjan.be
SUMMARY:clownspel
DESCRIPTION:rode neus en brede smile
URL:https://www.scouts-sintjan.be/event/clownspel/
LOCATION:Scouts Sint-Jan\, Lindenlaan 30 B\, Oostende\, 8400\, België
CATEGORIES:Kapoenen
END:VEVENT
BEGIN:VEVENT
DTSTART;TZID=Europe/Brussels:20231117T193000
DTEND;TZID=Europe/Brussels:20231118T100000
DTSTAMP:20260420T083217
CREATED:20230830T174536Z
LAST-MODIFIED:20230830T174536Z
UID:5820-1700249400-1700301600@www.scouts-sintjan.be
SUMMARY:De nacht van Sint-Jan // overnachting
DESCRIPTION:Port of Antwerp simulator
URL:https://www.scouts-sintjan.be/event/de-nacht-van-sint-jan-overnachting/
CATEGORIES:Wolven
END:VEVENT
BEGIN:VEVENT
DTSTART;TZID=Europe/Brussels:20231112T140000
DTEND;TZID=Europe/Brussels:20231112T173000
DTSTAMP:20260420T083217
CREATED:20231025T103214Z
LAST-MODIFIED:20231025T103214Z
UID:5986-1699797600-1699810200@www.scouts-sintjan.be
SUMMARY:Chocolade verkoop
DESCRIPTION:
URL:https://www.scouts-sintjan.be/event/chocolade-verkoop/
CATEGORIES:Verkenners
END:VEVENT
BEGIN:VEVENT
DTSTART;TZID=Europe/Brussels:20231112T140000
DTEND;TZID=Europe/Brussels:20231112T173000
DTSTAMP:20260420T083217
CREATED:20230908T144922Z
LAST-MODIFIED:20230908T144922Z
UID:5879-1699797600-1699810200@www.scouts-sintjan.be
SUMMARY:Spol en Spert
DESCRIPTION:We moeten rennen\, springen\,…en winnen!
URL:https://www.scouts-sintjan.be/event/spol-en-spert/
CATEGORIES:Jongverkenners
END:VEVENT
BEGIN:VEVENT
DTSTART;TZID=Europe/Brussels:20231112T134500
DTEND;TZID=Europe/Brussels:20231112T173000
DTSTAMP:20260420T083217
CREATED:20230906T094558Z
LAST-MODIFIED:20230906T094558Z
UID:5856-1699796700-1699810200@www.scouts-sintjan.be
SUMMARY:Knibbel knabbel knuisje\, wie knabbelt er aan m'n huisje?
DESCRIPTION:Het grote pas op voor het heksen spel!
URL:https://www.scouts-sintjan.be/event/knibbel-knabbel-knuisje-wie-knabbelt-er-aan-mn-huisje/
LOCATION:Scouts Sint-Jan\, Lindenlaan 30 B\, Oostende\, 8400\, België
CATEGORIES:Welpen
END:VEVENT
BEGIN:VEVENT
DTSTART;TZID=Europe/Brussels:20231112T134500
DTEND;TZID=Europe/Brussels:20231112T173000
DTSTAMP:20260420T083217
CREATED:20230830T174818Z
LAST-MODIFIED:20230831T171331Z
UID:5822-1699796700-1699810200@www.scouts-sintjan.be
SUMMARY:Help\, i’m under the water
DESCRIPTION:Neem je zwembroek mee want wij gaan zwemmeeeuh. We spreken af aan het zwembad van Oostende.
URL:https://www.scouts-sintjan.be/event/help-im-under-the-water/
LOCATION:zwembad oostende (Brigitte Becue)
CATEGORIES:Wolven
END:VEVENT
BEGIN:VEVENT
DTSTART;TZID=Europe/Brussels:20231110T190000
DTEND;TZID=Europe/Brussels:20231111T103000
DTSTAMP:20260420T083217
CREATED:20230918T150852Z
LAST-MODIFIED:20230918T150852Z
UID:5932-1699642800-1699698600@www.scouts-sintjan.be
SUMMARY:overnachting
DESCRIPTION:doe je griezeligste outfit aan!
URL:https://www.scouts-sintjan.be/event/overnachting-5/
LOCATION:Scouts Sint-Jan\, Lindenlaan 30 B\, Oostende\, 8400\, België
CATEGORIES:Kapoenen
END:VEVENT
BEGIN:VEVENT
DTSTART;VALUE=DATE:20231105
DTEND;VALUE=DATE:20231106
DTSTAMP:20260420T083217
CREATED:20230906T094257Z
LAST-MODIFIED:20230906T094257Z
UID:5854-1699142400-1699228799@www.scouts-sintjan.be
SUMMARY:Geen activiteit
DESCRIPTION:Jullie liefste leiding is de rest van het jaar aan het voorbereiden en plannen!
URL:https://www.scouts-sintjan.be/event/geen-activiteit-3/
CATEGORIES:Welpen
END:VEVENT
BEGIN:VEVENT
DTSTART;TZID=Europe/Brussels:20231029T140000
DTEND;TZID=Europe/Brussels:20231029T173000
DTSTAMP:20260420T083217
CREATED:20230908T144812Z
LAST-MODIFIED:20230908T144812Z
UID:5877-1698588000-1698600600@www.scouts-sintjan.be
SUMMARY:Murder Mystery
DESCRIPTION:Wie is Watson en wie is Holmes?
URL:https://www.scouts-sintjan.be/event/murder-mystery/
CATEGORIES:Jongverkenners
END:VEVENT
BEGIN:VEVENT
DTSTART;TZID=Europe/Brussels:20231029T134500
DTEND;TZID=Europe/Brussels:20231029T173000
DTSTAMP:20260420T083217
CREATED:20230918T150357Z
LAST-MODIFIED:20230918T150357Z
UID:5927-1698587100-1698600600@www.scouts-sintjan.be
SUMMARY:snel\, sneller\, snelst
DESCRIPTION:doe maar jullie sportiefste kleren aan
URL:https://www.scouts-sintjan.be/event/snel-sneller-snelst/
LOCATION:Scouts Sint-Jan\, Lindenlaan 30 B\, Oostende\, 8400\, België
CATEGORIES:Kapoenen
END:VEVENT
BEGIN:VEVENT
DTSTART;TZID=Europe/Brussels:20231029T134500
DTEND;TZID=Europe/Brussels:20231029T173000
DTSTAMP:20260420T083217
CREATED:20230830T173914Z
LAST-MODIFIED:20230830T173914Z
UID:5816-1698587100-1698600600@www.scouts-sintjan.be
SUMMARY:Wie lust er graag frietjes?
DESCRIPTION:ik\, jij \, iedereen ?
URL:https://www.scouts-sintjan.be/event/wie-lust-er-graag-frietjes/
CATEGORIES:Wolven
END:VEVENT
BEGIN:VEVENT
DTSTART;TZID=Europe/Brussels:20231028T193000
DTEND;TZID=Europe/Brussels:20231029T103000
DTSTAMP:20260420T083217
CREATED:20231025T102858Z
LAST-MODIFIED:20231025T102858Z
UID:5984-1698521400-1698575400@www.scouts-sintjan.be
SUMMARY:overnachting
DESCRIPTION:Meer info volgt
URL:https://www.scouts-sintjan.be/event/overnachting-6/
LOCATION:Scouts Sint-Jan\, Lindenlaan 30 B\, Oostende\, 8400\, België
CATEGORIES:Verkenners
END:VEVENT
BEGIN:VEVENT
DTSTART;TZID=Europe/Brussels:20231027T190000
DTEND;TZID=Europe/Brussels:20231028T103000
DTSTAMP:20260420T083217
CREATED:20230906T085935Z
LAST-MODIFIED:20230906T085935Z
UID:5852-1698433200-1698489000@www.scouts-sintjan.be
SUMMARY:Hi Ha Halloween / overnachting
DESCRIPTION:Trick or sleep?\nKom in je griezeligste outfit en breng je mooiste pyjama mee.
URL:https://www.scouts-sintjan.be/event/hi-ha-halloween-overnachting/
LOCATION:Scouts Sint-Jan\, Lindenlaan 30 B\, Oostende\, 8400\, België
CATEGORIES:Welpen
END:VEVENT
END:VCALENDAR