BEGIN:VCALENDAR
VERSION:2.0
PRODID:-//Scouts Sint-Jan Oostende - ECPv6.0.9//NONSGML v1.0//EN
CALSCALE:GREGORIAN
METHOD:PUBLISH
X-ORIGINAL-URL:https://www.scouts-sintjan.be
X-WR-CALDESC:Events for Scouts Sint-Jan Oostende
REFRESH-INTERVAL;VALUE=DURATION:PT1H
X-Robots-Tag:noindex
X-PUBLISHED-TTL:PT1H
BEGIN:VTIMEZONE
TZID:Europe/Brussels
BEGIN:DAYLIGHT
TZOFFSETFROM:+0100
TZOFFSETTO:+0200
TZNAME:CEST
DTSTART:20250330T010000
END:DAYLIGHT
BEGIN:STANDARD
TZOFFSETFROM:+0200
TZOFFSETTO:+0100
TZNAME:CET
DTSTART:20251026T010000
END:STANDARD
END:VTIMEZONE
BEGIN:VEVENT
DTSTART;TZID=Europe/Brussels:20251220T200000
DTEND;TZID=Europe/Brussels:20251221T020000
DTSTAMP:20260420T192213
CREATED:20250925T085934Z
LAST-MODIFIED:20250925T085934Z
UID:6789-1766260800-1766282400@www.scouts-sintjan.be
SUMMARY:Jenever avond!!!
DESCRIPTION:
URL:https://www.scouts-sintjan.be/event/jenever-avond-2/
CATEGORIES:Verkenners
END:VEVENT
END:VCALENDAR