BEGIN:VCALENDAR
VERSION:2.0
PRODID:-//Scouts Sint-Jan Oostende - ECPv6.0.9//NONSGML v1.0//EN
CALSCALE:GREGORIAN
METHOD:PUBLISH
X-WR-CALNAME:Scouts Sint-Jan Oostende
X-ORIGINAL-URL:https://www.scouts-sintjan.be
X-WR-CALDESC:Events for Scouts Sint-Jan Oostende
REFRESH-INTERVAL;VALUE=DURATION:PT1H
X-Robots-Tag:noindex
X-PUBLISHED-TTL:PT1H
BEGIN:VTIMEZONE
TZID:Europe/Brussels
BEGIN:DAYLIGHT
TZOFFSETFROM:+0100
TZOFFSETTO:+0200
TZNAME:CEST
DTSTART:20250330T010000
END:DAYLIGHT
BEGIN:STANDARD
TZOFFSETFROM:+0200
TZOFFSETTO:+0100
TZNAME:CET
DTSTART:20251026T010000
END:STANDARD
END:VTIMEZONE
BEGIN:VEVENT
DTSTART;TZID=Europe/Brussels:20251130T133000
DTEND;TZID=Europe/Brussels:20251130T170000
DTSTAMP:20260422T015908
CREATED:20250925T085653Z
LAST-MODIFIED:20250925T085653Z
UID:6781-1764509400-1764522000@www.scouts-sintjan.be
SUMMARY:rebus
DESCRIPTION:
URL:https://www.scouts-sintjan.be/event/rebus/
CATEGORIES:Verkenners
END:VEVENT
BEGIN:VEVENT
DTSTART;TZID=Europe/Brussels:20251130T133000
DTEND;TZID=Europe/Brussels:20251130T173000
DTSTAMP:20260422T015908
CREATED:20250926T171032Z
LAST-MODIFIED:20250926T171032Z
UID:6847-1764509400-1764523800@www.scouts-sintjan.be
SUMMARY:love island
DESCRIPTION:Drama\, dates en nieuwe koppels!
URL:https://www.scouts-sintjan.be/event/love-island-2/
LOCATION:Scouts Sint-Jan\, Lindenlaan 30 B\, Oostende\, 8400\, België
CATEGORIES:Wolven
END:VEVENT
BEGIN:VEVENT
DTSTART;TZID=Europe/Brussels:20251130T134500
DTEND;TZID=Europe/Brussels:20251130T173000
DTSTAMP:20260422T015908
CREATED:20250927T201621Z
LAST-MODIFIED:20250927T201621Z
UID:6877-1764510300-1764523800@www.scouts-sintjan.be
SUMMARY:Hunger games: Catching fire
DESCRIPTION:Water\, aarde\, vuur\, wind
URL:https://www.scouts-sintjan.be/event/hunger-games-catching-fire/
LOCATION:Scouts Sint-Jan\, Lindenlaan 30 B\, Oostende\, 8400\, België
CATEGORIES:Jongverkenners
END:VEVENT
BEGIN:VEVENT
DTSTART;TZID=Europe/Brussels:20251130T140000
DTEND;TZID=Europe/Brussels:20251130T173000
DTSTAMP:20260422T015908
CREATED:20251115T111135Z
LAST-MODIFIED:20251115T111533Z
UID:6957-1764511200-1764523800@www.scouts-sintjan.be
SUMMARY:Cinema Sint Jan
DESCRIPTION:
URL:https://www.scouts-sintjan.be/event/cinema-sint-jan-2/
LOCATION:Scouts Sint-Jan\, Lindenlaan 30 B\, Oostende\, 8400\, België
CATEGORIES:Kapoenen
END:VEVENT
BEGIN:VEVENT
DTSTART;TZID=Europe/Brussels:20251130T140000
DTEND;TZID=Europe/Brussels:20251130T173000
DTSTAMP:20260422T015908
CREATED:20251128T201053Z
LAST-MODIFIED:20251128T201053Z
UID:6964-1764511200-1764523800@www.scouts-sintjan.be
SUMMARY:Verassings spel
DESCRIPTION:
URL:https://www.scouts-sintjan.be/event/verassings-spel/
LOCATION:Scouts Sint-Jan\, Lindenlaan 30 B\, Oostende\, 8400\, België
CATEGORIES:Welpen
END:VEVENT
END:VCALENDAR