BEGIN:VCALENDAR
VERSION:2.0
PRODID:-//Scouts Sint-Jan Oostende - ECPv6.0.9//NONSGML v1.0//EN
CALSCALE:GREGORIAN
METHOD:PUBLISH
X-WR-CALNAME:Scouts Sint-Jan Oostende
X-ORIGINAL-URL:https://www.scouts-sintjan.be
X-WR-CALDESC:Events for Scouts Sint-Jan Oostende
REFRESH-INTERVAL;VALUE=DURATION:PT1H
X-Robots-Tag:noindex
X-PUBLISHED-TTL:PT1H
BEGIN:VTIMEZONE
TZID:Europe/Brussels
BEGIN:DAYLIGHT
TZOFFSETFROM:+0100
TZOFFSETTO:+0200
TZNAME:CEST
DTSTART:20250330T010000
END:DAYLIGHT
BEGIN:STANDARD
TZOFFSETFROM:+0200
TZOFFSETTO:+0100
TZNAME:CET
DTSTART:20251026T010000
END:STANDARD
END:VTIMEZONE
BEGIN:VEVENT
DTSTART;TZID=Europe/Brussels:20251115T190000
DTEND;TZID=Europe/Brussels:20251116T100000
DTSTAMP:20260422T045802
CREATED:20250924T094202Z
LAST-MODIFIED:20250924T094202Z
UID:6769-1763233200-1763287200@www.scouts-sintjan.be
SUMMARY:girls night
DESCRIPTION:haal je beste giechelmeisje naar boven.
URL:https://www.scouts-sintjan.be/event/girls-night/
CATEGORIES:Verkenners
END:VEVENT
BEGIN:VEVENT
DTSTART;TZID=Europe/Brussels:20251116T133000
DTEND;TZID=Europe/Brussels:20251116T173000
DTSTAMP:20260422T045802
CREATED:20250926T170726Z
LAST-MODIFIED:20250926T171429Z
UID:6843-1763299800-1763314200@www.scouts-sintjan.be
SUMMARY:hunger games
DESCRIPTION:Are you coming to the tree…..
URL:https://www.scouts-sintjan.be/event/hunger-games/
LOCATION:Scouts Sint-Jan\, Lindenlaan 30 B\, Oostende\, 8400\, België
CATEGORIES:Wolven
END:VEVENT
BEGIN:VEVENT
DTSTART;TZID=Europe/Brussels:20251116T134500
DTEND;TZID=Europe/Brussels:20251116T173000
DTSTAMP:20260422T045802
CREATED:20250925T150555Z
LAST-MODIFIED:20250925T150555Z
UID:6825-1763300700-1763314200@www.scouts-sintjan.be
SUMMARY:olympische spelen
DESCRIPTION:Hebben we een Usain Bolt in de welpen?
URL:https://www.scouts-sintjan.be/event/olympische-spelen-2/
LOCATION:Scouts Sint-Jan\, Lindenlaan 30 B\, Oostende\, 8400\, België
CATEGORIES:Welpen
END:VEVENT
BEGIN:VEVENT
DTSTART;TZID=Europe/Brussels:20251116T134500
DTEND;TZID=Europe/Brussels:20251116T173000
DTSTAMP:20260422T045802
CREATED:20250927T201340Z
LAST-MODIFIED:20250927T201340Z
UID:6873-1763300700-1763314200@www.scouts-sintjan.be
SUMMARY:Expeditie Robinson
DESCRIPTION:We moeten rennen\, springen\, vliegen\, duiken\, vallen\, opstaan en weer doorgaan…
URL:https://www.scouts-sintjan.be/event/expeditie-robinson/
LOCATION:Scouts Sint-Jan\, Lindenlaan 30 B\, Oostende\, 8400\, België
CATEGORIES:Jongverkenners
END:VEVENT
BEGIN:VEVENT
DTSTART;TZID=Europe/Brussels:20251116T140000
DTEND;TZID=Europe/Brussels:20251116T173000
DTSTAMP:20260422T045802
CREATED:20251115T110609Z
LAST-MODIFIED:20251115T110609Z
UID:6953-1763301600-1763314200@www.scouts-sintjan.be
SUMMARY:Eierspel
DESCRIPTION:
URL:https://www.scouts-sintjan.be/event/eierspel-4/
LOCATION:Scouts Sint-Jan\, Lindenlaan 30 B\, Oostende\, 8400\, België
CATEGORIES:Kapoenen
END:VEVENT
END:VCALENDAR