BEGIN:VCALENDAR
VERSION:2.0
PRODID:-//Scouts Sint-Jan Oostende - ECPv6.0.9//NONSGML v1.0//EN
CALSCALE:GREGORIAN
METHOD:PUBLISH
X-ORIGINAL-URL:https://www.scouts-sintjan.be
X-WR-CALDESC:Events for Scouts Sint-Jan Oostende
REFRESH-INTERVAL;VALUE=DURATION:PT1H
X-Robots-Tag:noindex
X-PUBLISHED-TTL:PT1H
BEGIN:VTIMEZONE
TZID:Europe/Brussels
BEGIN:DAYLIGHT
TZOFFSETFROM:+0100
TZOFFSETTO:+0200
TZNAME:CEST
DTSTART:20250330T010000
END:DAYLIGHT
BEGIN:STANDARD
TZOFFSETFROM:+0200
TZOFFSETTO:+0100
TZNAME:CET
DTSTART:20251026T010000
END:STANDARD
END:VTIMEZONE
BEGIN:VEVENT
DTSTART;TZID=Europe/Brussels:20251109T133000
DTEND;TZID=Europe/Brussels:20251109T170000
DTSTAMP:20260422T050401
CREATED:20250924T094104Z
LAST-MODIFIED:20250924T094104Z
UID:6767-1762695000-1762707600@www.scouts-sintjan.be
SUMMARY:Rapper sjors
DESCRIPTION:Yeah\, let’s go! 
URL:https://www.scouts-sintjan.be/event/rapper-sjors/
CATEGORIES:Verkenners
END:VEVENT
BEGIN:VEVENT
DTSTART;TZID=Europe/Brussels:20251109T133000
DTEND;TZID=Europe/Brussels:20251109T170000
DTSTAMP:20260422T050401
CREATED:20250926T171849Z
LAST-MODIFIED:20250926T171849Z
UID:6854-1762695000-1762707600@www.scouts-sintjan.be
SUMMARY:Haut cuisine a la crépe
DESCRIPTION:Flip\, Flop\, wie houdt er ook zoveel van pannenkoeken als de wolvenleiding?
URL:https://www.scouts-sintjan.be/event/haut-cuisine-a-la-crepe-2/
LOCATION:Scouts Sint-Jan\, Lindenlaan 30 B\, Oostende\, 8400\, België
CATEGORIES:Wolven
END:VEVENT
BEGIN:VEVENT
DTSTART;TZID=Europe/Brussels:20251109T134500
DTEND;TZID=Europe/Brussels:20251109T173000
DTSTAMP:20260422T050401
CREATED:20250925T150329Z
LAST-MODIFIED:20250925T150329Z
UID:6821-1762695900-1762709400@www.scouts-sintjan.be
SUMMARY:egg wars
DESCRIPTION:GEEF ACHT!!
URL:https://www.scouts-sintjan.be/event/egg-wars/
CATEGORIES:Welpen
END:VEVENT
BEGIN:VEVENT
DTSTART;TZID=Europe/Brussels:20251109T134500
DTEND;TZID=Europe/Brussels:20251109T173000
DTSTAMP:20260422T050401
CREATED:20250927T201206Z
LAST-MODIFIED:20250927T201206Z
UID:6871-1762695900-1762709400@www.scouts-sintjan.be
SUMMARY:Eetgolf
DESCRIPTION:Zet je grote mond maar op
URL:https://www.scouts-sintjan.be/event/eetgolf/
LOCATION:Scouts Sint-Jan\, Lindenlaan 30 B\, Oostende\, 8400\, België
CATEGORIES:Jongverkenners
END:VEVENT
END:VCALENDAR