BEGIN:VCALENDAR
VERSION:2.0
PRODID:-//Scouts Sint-Jan Oostende - ECPv6.0.9//NONSGML v1.0//EN
CALSCALE:GREGORIAN
METHOD:PUBLISH
X-ORIGINAL-URL:https://www.scouts-sintjan.be
X-WR-CALDESC:Events for Scouts Sint-Jan Oostende
REFRESH-INTERVAL;VALUE=DURATION:PT1H
X-Robots-Tag:noindex
X-PUBLISHED-TTL:PT1H
BEGIN:VTIMEZONE
TZID:Europe/Brussels
BEGIN:DAYLIGHT
TZOFFSETFROM:+0100
TZOFFSETTO:+0200
TZNAME:CEST
DTSTART:20250330T010000
END:DAYLIGHT
BEGIN:STANDARD
TZOFFSETFROM:+0200
TZOFFSETTO:+0100
TZNAME:CET
DTSTART:20251026T010000
END:STANDARD
END:VTIMEZONE
BEGIN:VEVENT
DTSTART;TZID=Europe/Brussels:20251102T080000
DTEND;TZID=Europe/Brussels:20251102T170000
DTSTAMP:20260422T050402
CREATED:20250926T170542Z
LAST-MODIFIED:20250926T171713Z
UID:6838-1762070400-1762102800@www.scouts-sintjan.be
SUMMARY:geen activiteit
DESCRIPTION:Jullie liefste leiding is de rest van het jaar aan het voorbereiden en plannen!
URL:https://www.scouts-sintjan.be/event/geen-activiteit-9/
CATEGORIES:Wolven
END:VEVENT
BEGIN:VEVENT
DTSTART;TZID=Europe/Brussels:20251102T134500
DTEND;TZID=Europe/Brussels:20251102T173000
DTSTAMP:20260422T050402
CREATED:20250925T150234Z
LAST-MODIFIED:20251030T182337Z
UID:6819-1762091100-1762104600@www.scouts-sintjan.be
SUMMARY:geen activiteit
DESCRIPTION:Wat krijg jij allemaal over de grens?
URL:https://www.scouts-sintjan.be/event/smokkelspel-3/
LOCATION:Scouts Sint-Jan\, Lindenlaan 30 B\, Oostende\, 8400\, België
CATEGORIES:Welpen
END:VEVENT
BEGIN:VEVENT
DTSTART;TZID=Europe/Brussels:20251102T134500
DTEND;TZID=Europe/Brussels:20251102T173000
DTSTAMP:20260422T050402
CREATED:20250927T200838Z
LAST-MODIFIED:20250927T200925Z
UID:6869-1762091100-1762104600@www.scouts-sintjan.be
SUMMARY:Geen activiteit
DESCRIPTION:Jullie liefste leiding is de rest van het jaar aan het voorbereiden en plannen!
URL:https://www.scouts-sintjan.be/event/geen-activiteit-10/
LOCATION:Scouts Sint-Jan\, Lindenlaan 30 B\, Oostende\, 8400\, België
CATEGORIES:Jongverkenners
END:VEVENT
END:VCALENDAR