BEGIN:VCALENDAR
VERSION:2.0
PRODID:-//Scouts Sint-Jan Oostende - ECPv6.0.9//NONSGML v1.0//EN
CALSCALE:GREGORIAN
METHOD:PUBLISH
X-ORIGINAL-URL:https://www.scouts-sintjan.be
X-WR-CALDESC:Events for Scouts Sint-Jan Oostende
REFRESH-INTERVAL;VALUE=DURATION:PT1H
X-Robots-Tag:noindex
X-PUBLISHED-TTL:PT1H
BEGIN:VTIMEZONE
TZID:Europe/Brussels
BEGIN:DAYLIGHT
TZOFFSETFROM:+0100
TZOFFSETTO:+0200
TZNAME:CEST
DTSTART:20250330T010000
END:DAYLIGHT
BEGIN:STANDARD
TZOFFSETFROM:+0200
TZOFFSETTO:+0100
TZNAME:CET
DTSTART:20251026T010000
END:STANDARD
END:VTIMEZONE
BEGIN:VEVENT
DTSTART;TZID=Europe/Brussels:20251024T133000
DTEND;TZID=Europe/Brussels:20251024T173000
DTSTAMP:20260422T063120
CREATED:20250926T170501Z
LAST-MODIFIED:20250926T172001Z
UID:6836-1761312600-1761327000@www.scouts-sintjan.be
SUMMARY:overnachting
DESCRIPTION:The big bad wolf
URL:https://www.scouts-sintjan.be/event/overnachting-12/
CATEGORIES:Wolven
END:VEVENT
END:VCALENDAR