BEGIN:VCALENDAR
VERSION:2.0
PRODID:-//Scouts Sint-Jan Oostende - ECPv6.0.9//NONSGML v1.0//EN
CALSCALE:GREGORIAN
METHOD:PUBLISH
X-WR-CALNAME:Scouts Sint-Jan Oostende
X-ORIGINAL-URL:https://www.scouts-sintjan.be
X-WR-CALDESC:Events for Scouts Sint-Jan Oostende
REFRESH-INTERVAL;VALUE=DURATION:PT1H
X-Robots-Tag:noindex
X-PUBLISHED-TTL:PT1H
BEGIN:VTIMEZONE
TZID:Europe/Brussels
BEGIN:DAYLIGHT
TZOFFSETFROM:+0100
TZOFFSETTO:+0200
TZNAME:CEST
DTSTART:20250330T010000
END:DAYLIGHT
BEGIN:STANDARD
TZOFFSETFROM:+0200
TZOFFSETTO:+0100
TZNAME:CET
DTSTART:20251026T010000
END:STANDARD
END:VTIMEZONE
BEGIN:VEVENT
DTSTART;TZID=Europe/Brussels:20251012T133000
DTEND;TZID=Europe/Brussels:20251012T170000
DTSTAMP:20260422T063054
CREATED:20250924T093758Z
LAST-MODIFIED:20250924T093758Z
UID:6761-1760275800-1760288400@www.scouts-sintjan.be
SUMMARY:Chef jantje
DESCRIPTION:Haal de beste (jamie) oliver in je naar boven. 
URL:https://www.scouts-sintjan.be/event/chef-jantje/
CATEGORIES:Verkenners
END:VEVENT
BEGIN:VEVENT
DTSTART;TZID=Europe/Brussels:20251012T133000
DTEND;TZID=Europe/Brussels:20251012T173000
DTSTAMP:20260422T063054
CREATED:20250926T170325Z
LAST-MODIFIED:20250926T170325Z
UID:6832-1760275800-1760290200@www.scouts-sintjan.be
SUMMARY:levensloop
DESCRIPTION:Van pamper tot pamper ?
URL:https://www.scouts-sintjan.be/event/levensloop/
LOCATION:Scouts Sint-Jan\, Lindenlaan 30 B\, Oostende\, 8400\, België
CATEGORIES:Wolven
END:VEVENT
BEGIN:VEVENT
DTSTART;TZID=Europe/Brussels:20251012T133000
DTEND;TZID=Europe/Brussels:20251012T173000
DTSTAMP:20260422T063054
CREATED:20250926T170630Z
LAST-MODIFIED:20250926T170649Z
UID:6840-1760275800-1760290200@www.scouts-sintjan.be
SUMMARY:Haut cuisine a la crépe
DESCRIPTION:Flip\, Flop\, wie houdt er ook zoveel van pannenkoeken als de wolvenleiding?
URL:https://www.scouts-sintjan.be/event/6840/
LOCATION:Scouts Sint-Jan\, Lindenlaan 30 B\, Oostende\, 8400\, België
CATEGORIES:Wolven
END:VEVENT
BEGIN:VEVENT
DTSTART;TZID=Europe/Brussels:20251012T134500
DTEND;TZID=Europe/Brussels:20251012T173000
DTSTAMP:20260422T063054
CREATED:20250925T145737Z
LAST-MODIFIED:20250925T145737Z
UID:6815-1760276700-1760290200@www.scouts-sintjan.be
SUMMARY:Vlaggenroof
DESCRIPTION:Ronaldo VS Messi
URL:https://www.scouts-sintjan.be/event/vlaggenroof-3/
LOCATION:Scouts Sint-Jan\, Lindenlaan 30 B\, Oostende\, 8400\, België
CATEGORIES:Welpen
END:VEVENT
BEGIN:VEVENT
DTSTART;TZID=Europe/Brussels:20251012T134500
DTEND;TZID=Europe/Brussels:20251012T173000
DTSTAMP:20260422T063054
CREATED:20250927T154937Z
LAST-MODIFIED:20250927T155016Z
UID:6863-1760276700-1760290200@www.scouts-sintjan.be
SUMMARY:Bestemming X
DESCRIPTION:Sponsored by Dunkin’ Donuts 
URL:https://www.scouts-sintjan.be/event/bestemming-x/
LOCATION:Scouts Sint-Jan\, Lindenlaan 30 B\, Oostende\, 8400\, België
CATEGORIES:Jongverkenners
END:VEVENT
END:VCALENDAR