BEGIN:VCALENDAR
VERSION:2.0
PRODID:-//Scouts Sint-Jan Oostende - ECPv6.0.9//NONSGML v1.0//EN
CALSCALE:GREGORIAN
METHOD:PUBLISH
X-ORIGINAL-URL:https://www.scouts-sintjan.be
X-WR-CALDESC:Events for Scouts Sint-Jan Oostende
REFRESH-INTERVAL;VALUE=DURATION:PT1H
X-Robots-Tag:noindex
X-PUBLISHED-TTL:PT1H
BEGIN:VTIMEZONE
TZID:Europe/Brussels
BEGIN:DAYLIGHT
TZOFFSETFROM:+0100
TZOFFSETTO:+0200
TZNAME:CEST
DTSTART:20250330T010000
END:DAYLIGHT
BEGIN:STANDARD
TZOFFSETFROM:+0200
TZOFFSETTO:+0100
TZNAME:CET
DTSTART:20251026T010000
END:STANDARD
END:VTIMEZONE
BEGIN:VEVENT
DTSTART;TZID=Europe/Brussels:20251005T133000
DTEND;TZID=Europe/Brussels:20251005T170000
DTSTAMP:20260422T063113
CREATED:20250924T093628Z
LAST-MODIFIED:20250924T093652Z
UID:6759-1759671000-1759683600@www.scouts-sintjan.be
SUMMARY:Quizzen zonder vragen
DESCRIPTION:Het is gebeurd …
URL:https://www.scouts-sintjan.be/event/quizzen-zonder-vragen/
LOCATION:Scouts Sint-Jan\, Lindenlaan 30 B\, Oostende\, 8400\, België
CATEGORIES:Verkenners
END:VEVENT
BEGIN:VEVENT
DTSTART;TZID=Europe/Brussels:20251005T133000
DTEND;TZID=Europe/Brussels:20251005T173000
DTSTAMP:20260422T063113
CREATED:20250926T164235Z
LAST-MODIFIED:20250926T164235Z
UID:6830-1759671000-1759685400@www.scouts-sintjan.be
SUMMARY:jachtseizoen
DESCRIPTION:Trek je loopschoenen aan\, want jullie moeten ontsnappen!!!!!!
URL:https://www.scouts-sintjan.be/event/jachtseizoen/
LOCATION:Scouts Sint-Jan\, Lindenlaan 30 B\, Oostende\, 8400\, België
CATEGORIES:Wolven
END:VEVENT
BEGIN:VEVENT
DTSTART;TZID=Europe/Brussels:20251005T134500
DTEND;TZID=Europe/Brussels:20251005T173000
DTSTAMP:20260422T063113
CREATED:20250925T145317Z
LAST-MODIFIED:20250925T145317Z
UID:6813-1759671900-1759685400@www.scouts-sintjan.be
SUMMARY:Heavy games
DESCRIPTION:Smeer jullie kieten maar al in want we gaan KNALLEN (vuile kledij is zeker een must!!)
URL:https://www.scouts-sintjan.be/event/heavy-games-5/
CATEGORIES:Welpen
END:VEVENT
BEGIN:VEVENT
DTSTART;TZID=Europe/Brussels:20251005T134500
DTEND;TZID=Europe/Brussels:20251005T173000
DTSTAMP:20260422T063113
CREATED:20250927T154627Z
LAST-MODIFIED:20250927T154627Z
UID:6861-1759671900-1759685400@www.scouts-sintjan.be
SUMMARY:Framboosspel
DESCRIPTION:Tommeke\, Tommeke\, Tommeke\, wat doe je nu? TOM BOONEN IS WERELDKAMPIOEN!!!
URL:https://www.scouts-sintjan.be/event/framboosspel/
LOCATION:Scouts Sint-Jan\, Lindenlaan 30 B\, Oostende\, 8400\, België
CATEGORIES:Jongverkenners
END:VEVENT
END:VCALENDAR