BEGIN:VCALENDAR
VERSION:2.0
PRODID:-//Scouts Sint-Jan Oostende - ECPv6.0.9//NONSGML v1.0//EN
CALSCALE:GREGORIAN
METHOD:PUBLISH
X-WR-CALNAME:Scouts Sint-Jan Oostende
X-ORIGINAL-URL:https://www.scouts-sintjan.be
X-WR-CALDESC:Events for Scouts Sint-Jan Oostende
REFRESH-INTERVAL;VALUE=DURATION:PT1H
X-Robots-Tag:noindex
X-PUBLISHED-TTL:PT1H
BEGIN:VTIMEZONE
TZID:Europe/Brussels
BEGIN:DAYLIGHT
TZOFFSETFROM:+0100
TZOFFSETTO:+0200
TZNAME:CEST
DTSTART:20250330T010000
END:DAYLIGHT
BEGIN:STANDARD
TZOFFSETFROM:+0200
TZOFFSETTO:+0100
TZNAME:CET
DTSTART:20251026T010000
END:STANDARD
END:VTIMEZONE
BEGIN:VEVENT
DTSTART;TZID=Europe/Brussels:20250914T134500
DTEND;TZID=Europe/Brussels:20250914T173000
DTSTAMP:20260422T075607
CREATED:20250902T132510Z
LAST-MODIFIED:20250902T132510Z
UID:6676-1757857500-1757871000@www.scouts-sintjan.be
SUMMARY:Activiteit met oude tak
DESCRIPTION:Reunieee
URL:https://www.scouts-sintjan.be/event/activiteit-met-oude-tak/
CATEGORIES:Jongverkenners
END:VEVENT
END:VCALENDAR