BEGIN:VCALENDAR
VERSION:2.0
PRODID:-//Scouts Sint-Jan Oostende - ECPv6.0.9//NONSGML v1.0//EN
CALSCALE:GREGORIAN
METHOD:PUBLISH
X-ORIGINAL-URL:https://www.scouts-sintjan.be
X-WR-CALDESC:Events for Scouts Sint-Jan Oostende
REFRESH-INTERVAL;VALUE=DURATION:PT1H
X-Robots-Tag:noindex
X-PUBLISHED-TTL:PT1H
BEGIN:VTIMEZONE
TZID:Europe/Brussels
BEGIN:DAYLIGHT
TZOFFSETFROM:+0100
TZOFFSETTO:+0200
TZNAME:CEST
DTSTART:20250330T010000
END:DAYLIGHT
BEGIN:STANDARD
TZOFFSETFROM:+0200
TZOFFSETTO:+0100
TZNAME:CET
DTSTART:20251026T010000
END:STANDARD
END:VTIMEZONE
BEGIN:VEVENT
DTSTART;TZID=Europe/Brussels:20250426T133000
DTEND;TZID=Europe/Brussels:20250426T170000
DTSTAMP:20260422T154718
CREATED:20250325T152239Z
LAST-MODIFIED:20250325T152239Z
UID:6635-1745674200-1745686800@www.scouts-sintjan.be
SUMMARY:Activiteit kinderboerderij
DESCRIPTION:We spreken af om 13:45 aan de kinderboerderij. Latere info volgt!
URL:https://www.scouts-sintjan.be/event/activiteit-kinderboerderij/
LOCATION:kinderboerderij
CATEGORIES:Welpen
END:VEVENT
BEGIN:VEVENT
DTSTART;TZID=Europe/Brussels:20250426T190000
DTEND;TZID=Europe/Brussels:20250426T223000
DTSTAMP:20260422T154718
CREATED:20241102T153542Z
LAST-MODIFIED:20241102T153542Z
UID:6462-1745694000-1745706600@www.scouts-sintjan.be
SUMMARY:Avondspel: In the streets we al Famm
DESCRIPTION:Spelletje in donker
URL:https://www.scouts-sintjan.be/event/avondspel-in-the-streets-we-al-famm/
LOCATION:Scouts Sint-Jan\, Lindenlaan 30 B\, Oostende\, 8400\, België
CATEGORIES:Jongverkenners
END:VEVENT
END:VCALENDAR