BEGIN:VCALENDAR
VERSION:2.0
PRODID:-//Scouts Sint-Jan Oostende - ECPv6.0.9//NONSGML v1.0//EN
CALSCALE:GREGORIAN
METHOD:PUBLISH
X-ORIGINAL-URL:https://www.scouts-sintjan.be
X-WR-CALDESC:Events for Scouts Sint-Jan Oostende
REFRESH-INTERVAL;VALUE=DURATION:PT1H
X-Robots-Tag:noindex
X-PUBLISHED-TTL:PT1H
BEGIN:VTIMEZONE
TZID:Europe/Brussels
BEGIN:DAYLIGHT
TZOFFSETFROM:+0100
TZOFFSETTO:+0200
TZNAME:CEST
DTSTART:20250330T010000
END:DAYLIGHT
BEGIN:STANDARD
TZOFFSETFROM:+0200
TZOFFSETTO:+0100
TZNAME:CET
DTSTART:20251026T010000
END:STANDARD
END:VTIMEZONE
BEGIN:VEVENT
DTSTART;VALUE=DATE:20250406
DTEND;VALUE=DATE:20250407
DTSTAMP:20260422T154718
CREATED:20241203T163107Z
LAST-MODIFIED:20241203T163107Z
UID:6503-1743897600-1743983999@www.scouts-sintjan.be
SUMMARY:Paasvakantie
DESCRIPTION:Geen scouts deze week ??
URL:https://www.scouts-sintjan.be/event/paasvakantie-5/
CATEGORIES:Wolven
END:VEVENT
BEGIN:VEVENT
DTSTART;TZID=Europe/Brussels:20250406T080000
DTEND;TZID=Europe/Brussels:20250406T170000
DTSTAMP:20260422T154718
CREATED:20250313T115151Z
LAST-MODIFIED:20250313T115151Z
UID:6628-1743926400-1743958800@www.scouts-sintjan.be
SUMMARY:Geen activiteit
DESCRIPTION:
URL:https://www.scouts-sintjan.be/event/geen-activiteit-7/
CATEGORIES:Kapoenen
END:VEVENT
BEGIN:VEVENT
DTSTART;TZID=Europe/Brussels:20250406T080000
DTEND;TZID=Europe/Brussels:20250413T170000
DTSTAMP:20260422T154718
CREATED:20250122T202422Z
LAST-MODIFIED:20250122T202422Z
UID:6555-1743926400-1744563600@www.scouts-sintjan.be
SUMMARY:paasvakantie
DESCRIPTION:het is vakantieeeeeee 🙂
URL:https://www.scouts-sintjan.be/event/paasvakantie-7/
LOCATION:thuis
CATEGORIES:Welpen
END:VEVENT
END:VCALENDAR