BEGIN:VCALENDAR
VERSION:2.0
PRODID:-//Scouts Sint-Jan Oostende - ECPv6.0.9//NONSGML v1.0//EN
CALSCALE:GREGORIAN
METHOD:PUBLISH
X-WR-CALNAME:Scouts Sint-Jan Oostende
X-ORIGINAL-URL:https://www.scouts-sintjan.be
X-WR-CALDESC:Events for Scouts Sint-Jan Oostende
REFRESH-INTERVAL;VALUE=DURATION:PT1H
X-Robots-Tag:noindex
X-PUBLISHED-TTL:PT1H
BEGIN:VTIMEZONE
TZID:Europe/Brussels
BEGIN:DAYLIGHT
TZOFFSETFROM:+0100
TZOFFSETTO:+0200
TZNAME:CEST
DTSTART:20250330T010000
END:DAYLIGHT
BEGIN:STANDARD
TZOFFSETFROM:+0200
TZOFFSETTO:+0100
TZNAME:CET
DTSTART:20251026T010000
END:STANDARD
END:VTIMEZONE
BEGIN:VEVENT
DTSTART;TZID=Europe/Brussels:20250321T080000
DTEND;TZID=Europe/Brussels:20250323T170000
DTSTAMP:20260422T173115
CREATED:20241102T154141Z
LAST-MODIFIED:20241102T154141Z
UID:6470-1742544000-1742749200@www.scouts-sintjan.be
SUMMARY:Klein kamp
DESCRIPTION:
URL:https://www.scouts-sintjan.be/event/klein-kamp-14/
CATEGORIES:Jongverkenners
END:VEVENT
BEGIN:VEVENT
DTSTART;TZID=Europe/Brussels:20250321T133000
DTEND;TZID=Europe/Brussels:20250323T173000
DTSTAMP:20260422T173115
CREATED:20250122T202208Z
LAST-MODIFIED:20250122T203610Z
UID:6550-1742563800-1742751000@www.scouts-sintjan.be
SUMMARY:klein kamp
DESCRIPTION:Yeaaaah\, het leukste weekend van 2025
URL:https://www.scouts-sintjan.be/event/klein-kamp-16/
LOCATION:op verplaatsing
CATEGORIES:Welpen
END:VEVENT
BEGIN:VEVENT
DTSTART;TZID=Europe/Brussels:20250321T180000
DTEND;TZID=Europe/Brussels:20250323T120000
DTSTAMP:20260422T173115
CREATED:20241203T162938Z
LAST-MODIFIED:20241203T162938Z
UID:6498-1742580000-1742731200@www.scouts-sintjan.be
SUMMARY:Klein kamp
DESCRIPTION:Een soort van groot kamp maar dan korter.
URL:https://www.scouts-sintjan.be/event/klein-kamp-15/
LOCATION:De Bosgeus (Heuvelland)\, Dranouterstraat 24\, Heuvelland\, West-Vlaanderen\, 8950\, België
CATEGORIES:Wolven
END:VEVENT
BEGIN:VEVENT
DTSTART;TZID=Europe/Brussels:20250321T190000
DTEND;TZID=Europe/Brussels:20250323T130000
DTSTAMP:20260422T173115
CREATED:20250313T114523Z
LAST-MODIFIED:20250313T114523Z
UID:6624-1742583600-1742734800@www.scouts-sintjan.be
SUMMARY:Klein kamp
DESCRIPTION:
URL:https://www.scouts-sintjan.be/event/klein-kamp-17/
CATEGORIES:Kapoenen
END:VEVENT
END:VCALENDAR