BEGIN:VCALENDAR
VERSION:2.0
PRODID:-//Scouts Sint-Jan Oostende - ECPv6.0.9//NONSGML v1.0//EN
CALSCALE:GREGORIAN
METHOD:PUBLISH
X-WR-CALNAME:Scouts Sint-Jan Oostende
X-ORIGINAL-URL:https://www.scouts-sintjan.be
X-WR-CALDESC:Events for Scouts Sint-Jan Oostende
REFRESH-INTERVAL;VALUE=DURATION:PT1H
X-Robots-Tag:noindex
X-PUBLISHED-TTL:PT1H
BEGIN:VTIMEZONE
TZID:Europe/Brussels
BEGIN:DAYLIGHT
TZOFFSETFROM:+0100
TZOFFSETTO:+0200
TZNAME:CEST
DTSTART:20250330T010000
END:DAYLIGHT
BEGIN:STANDARD
TZOFFSETFROM:+0200
TZOFFSETTO:+0100
TZNAME:CET
DTSTART:20251026T010000
END:STANDARD
END:VTIMEZONE
BEGIN:VEVENT
DTSTART;TZID=Europe/Brussels:20250316T133000
DTEND;TZID=Europe/Brussels:20250316T173000
DTSTAMP:20260422T173115
CREATED:20241102T153004Z
LAST-MODIFIED:20241102T153004Z
UID:6456-1742131800-1742146200@www.scouts-sintjan.be
SUMMARY:Oei mama\, ik ben zwanger!
DESCRIPTION:Meisje? Jongen? iets anders?
URL:https://www.scouts-sintjan.be/event/oei-mama-ik-ben-zwanger/
LOCATION:Scouts Sint-Jan\, Lindenlaan 30 B\, Oostende\, 8400\, België
CATEGORIES:Jongverkenners
END:VEVENT
BEGIN:VEVENT
DTSTART;TZID=Europe/Brussels:20250316T133000
DTEND;TZID=Europe/Brussels:20250316T173000
DTSTAMP:20260422T173115
CREATED:20250122T202028Z
LAST-MODIFIED:20250122T202028Z
UID:6548-1742131800-1742146200@www.scouts-sintjan.be
SUMMARY:Slijmspel
DESCRIPTION:Het zou wel eens slijmerig kunnen worden ?
URL:https://www.scouts-sintjan.be/event/slijmspel/
LOCATION:Scouts Sint-Jan\, Lindenlaan 30 B\, Oostende\, 8400\, België
CATEGORIES:Welpen
END:VEVENT
BEGIN:VEVENT
DTSTART;TZID=Europe/Brussels:20250316T134500
DTEND;TZID=Europe/Brussels:20250316T173000
DTSTAMP:20260422T173115
CREATED:20250218T092657Z
LAST-MODIFIED:20250218T092657Z
UID:6610-1742132700-1742146200@www.scouts-sintjan.be
SUMMARY:Ganzenbordspel
DESCRIPTION:
URL:https://www.scouts-sintjan.be/event/ganzenbordspel/
LOCATION:Scouts Sint-Jan\, Lindenlaan 30 B\, Oostende\, 8400\, België
CATEGORIES:Kapoenen
END:VEVENT
BEGIN:VEVENT
DTSTART;TZID=Europe/Brussels:20250316T140000
DTEND;TZID=Europe/Brussels:20250316T173000
DTSTAMP:20260422T173115
CREATED:20241203T162545Z
LAST-MODIFIED:20241203T162545Z
UID:6496-1742133600-1742146200@www.scouts-sintjan.be
SUMMARY:Onder ons
DESCRIPTION:Etwa met taken en doden op e ruimteschip
URL:https://www.scouts-sintjan.be/event/onder-ons/
LOCATION:Scouts Sint-Jan\, Lindenlaan 30 B\, Oostende\, 8400\, België
CATEGORIES:Wolven
END:VEVENT
BEGIN:VEVENT
DTSTART;TZID=Europe/Brussels:20250316T140000
DTEND;TZID=Europe/Brussels:20250316T173000
DTSTAMP:20260422T173115
CREATED:20250218T080526Z
LAST-MODIFIED:20250218T081130Z
UID:6589-1742133600-1742146200@www.scouts-sintjan.be
SUMMARY:Bloem\, ei en melk
DESCRIPTION:En een fiets
URL:https://www.scouts-sintjan.be/event/bloem-ei-en-melk/
CATEGORIES:Verkenners
END:VEVENT
END:VCALENDAR