BEGIN:VCALENDAR
VERSION:2.0
PRODID:-//Scouts Sint-Jan Oostende - ECPv6.0.9//NONSGML v1.0//EN
CALSCALE:GREGORIAN
METHOD:PUBLISH
X-ORIGINAL-URL:https://www.scouts-sintjan.be
X-WR-CALDESC:Events for Scouts Sint-Jan Oostende
REFRESH-INTERVAL;VALUE=DURATION:PT1H
X-Robots-Tag:noindex
X-PUBLISHED-TTL:PT1H
BEGIN:VTIMEZONE
TZID:Europe/Brussels
BEGIN:DAYLIGHT
TZOFFSETFROM:+0100
TZOFFSETTO:+0200
TZNAME:CEST
DTSTART:20250330T010000
END:DAYLIGHT
BEGIN:STANDARD
TZOFFSETFROM:+0200
TZOFFSETTO:+0100
TZNAME:CET
DTSTART:20251026T010000
END:STANDARD
END:VTIMEZONE
BEGIN:VEVENT
DTSTART;TZID=Europe/Brussels:20250302T133000
DTEND;TZID=Europe/Brussels:20250302T173000
DTSTAMP:20260422T171037
CREATED:20241102T152825Z
LAST-MODIFIED:20241102T152825Z
UID:6454-1740922200-1740936600@www.scouts-sintjan.be
SUMMARY:Vraagjes en volle maagjes
DESCRIPTION:ready\, set\, EET!
URL:https://www.scouts-sintjan.be/event/vraagjes-en-volle-maagjes/
LOCATION:Scouts Sint-Jan\, Lindenlaan 30 B\, Oostende\, 8400\, België
CATEGORIES:Jongverkenners
END:VEVENT
BEGIN:VEVENT
DTSTART;TZID=Europe/Brussels:20250302T133000
DTEND;TZID=Europe/Brussels:20250302T173000
DTSTAMP:20260422T171037
CREATED:20250122T201616Z
LAST-MODIFIED:20250122T201616Z
UID:6544-1740922200-1740936600@www.scouts-sintjan.be
SUMMARY:Zwemmen
DESCRIPTION:Spieter spetter spaaaaaaaaater
URL:https://www.scouts-sintjan.be/event/zwemmen-8/
LOCATION:Scouts Sint-Jan\, Lindenlaan 30 B\, Oostende\, 8400\, België
CATEGORIES:Welpen
END:VEVENT
BEGIN:VEVENT
DTSTART;TZID=Europe/Brussels:20250302T134500
DTEND;TZID=Europe/Brussels:20250302T173000
DTSTAMP:20260422T171037
CREATED:20250218T092448Z
LAST-MODIFIED:20250218T092448Z
UID:6606-1740923100-1740936600@www.scouts-sintjan.be
SUMMARY:Stratego
DESCRIPTION:
URL:https://www.scouts-sintjan.be/event/stratego-2/
LOCATION:op verplaatsing
CATEGORIES:Kapoenen
END:VEVENT
BEGIN:VEVENT
DTSTART;TZID=Europe/Brussels:20250302T140000
DTEND;TZID=Europe/Brussels:20250302T173000
DTSTAMP:20260422T171037
CREATED:20241203T162333Z
LAST-MODIFIED:20241203T163925Z
UID:6492-1740924000-1740936600@www.scouts-sintjan.be
SUMMARY:In mei legt elke vogel een ei
DESCRIPTION:En in maart legt elke vogel een paard
URL:https://www.scouts-sintjan.be/event/in-mei-legt-elke-vogel-een-ei/
LOCATION:Scouts Sint-Jan\, Lindenlaan 30 B\, Oostende\, 8400\, België
CATEGORIES:Wolven
END:VEVENT
BEGIN:VEVENT
DTSTART;TZID=Europe/Brussels:20250302T140000
DTEND;TZID=Europe/Brussels:20250302T173000
DTSTAMP:20260422T171037
CREATED:20250218T080402Z
LAST-MODIFIED:20250218T080402Z
UID:6585-1740924000-1740936600@www.scouts-sintjan.be
SUMMARY:Proppen en Blazen
DESCRIPTION:Avec le velo svp
URL:https://www.scouts-sintjan.be/event/proppen-en-blazen/
CATEGORIES:Verkenners
END:VEVENT
END:VCALENDAR