BEGIN:VCALENDAR
VERSION:2.0
PRODID:-//Scouts Sint-Jan Oostende - ECPv6.0.9//NONSGML v1.0//EN
CALSCALE:GREGORIAN
METHOD:PUBLISH
X-ORIGINAL-URL:https://www.scouts-sintjan.be
X-WR-CALDESC:Events for Scouts Sint-Jan Oostende
REFRESH-INTERVAL;VALUE=DURATION:PT1H
X-Robots-Tag:noindex
X-PUBLISHED-TTL:PT1H
BEGIN:VTIMEZONE
TZID:Europe/Brussels
BEGIN:DAYLIGHT
TZOFFSETFROM:+0100
TZOFFSETTO:+0200
TZNAME:CEST
DTSTART:20240331T010000
END:DAYLIGHT
BEGIN:STANDARD
TZOFFSETFROM:+0200
TZOFFSETTO:+0100
TZNAME:CET
DTSTART:20241027T010000
END:STANDARD
END:VTIMEZONE
BEGIN:VEVENT
DTSTART;TZID=Europe/Brussels:20241208T134500
DTEND;TZID=Europe/Brussels:20241208T163000
DTSTAMP:20260422T210806
CREATED:20241204T225632Z
LAST-MODIFIED:20241204T225746Z
UID:6518-1733665500-1733675400@www.scouts-sintjan.be
SUMMARY:Sinterklaas
DESCRIPTION:De activiteit eindigt om 16u30
URL:https://www.scouts-sintjan.be/event/sinterklaas-6/
LOCATION:Scouts Sint-Jan\, Lindenlaan 30 B\, Oostende\, 8400\, België
CATEGORIES:Kapoenen
END:VEVENT
BEGIN:VEVENT
DTSTART;TZID=Europe/Brussels:20241208T134500
DTEND;TZID=Europe/Brussels:20241208T173000
DTSTAMP:20260422T210806
CREATED:20240926T081303Z
LAST-MODIFIED:20240926T081303Z
UID:6279-1733665500-1733679000@www.scouts-sintjan.be
SUMMARY:SUNNEKLAAS
DESCRIPTION:#indestoutezak
URL:https://www.scouts-sintjan.be/event/sunneklaas/
LOCATION:Scouts Sint-Jan\, Lindenlaan 30 B\, Oostende\, 8400\, België
CATEGORIES:Jongverkenners
END:VEVENT
BEGIN:VEVENT
DTSTART;TZID=Europe/Brussels:20241208T134500
DTEND;TZID=Europe/Brussels:20241208T174500
DTSTAMP:20260422T210806
CREATED:20241021T063254Z
LAST-MODIFIED:20241021T075033Z
UID:6434-1733665500-1733679900@www.scouts-sintjan.be
SUMMARY:Sinterklaas
DESCRIPTION:Een oude bekende is terug uit Spanje. Wie zal dat zijn?????
URL:https://www.scouts-sintjan.be/event/sinterklaas-5/
LOCATION:Scouts Sint-Jan\, Lindenlaan 30 B\, Oostende\, 8400\, België
CATEGORIES:Welpen
END:VEVENT
BEGIN:VEVENT
DTSTART;TZID=Europe/Brussels:20241208T140000
DTEND;TZID=Europe/Brussels:20241208T173000
DTSTAMP:20260422T210806
CREATED:20240903T181118Z
LAST-MODIFIED:20240927T115444Z
UID:6242-1733666400-1733679000@www.scouts-sintjan.be
SUMMARY:Sinterklaas
DESCRIPTION:We hopen dat jullie flink zijn geweest dit jaar
URL:https://www.scouts-sintjan.be/event/sinterklaas-4/
LOCATION:Scouts Sint-Jan\, Lindenlaan 30 B\, Oostende\, 8400\, België
CATEGORIES:Wolven
END:VEVENT
BEGIN:VEVENT
DTSTART;TZID=Europe/Brussels:20241208T140000
DTEND;TZID=Europe/Brussels:20241208T173000
DTSTAMP:20260422T210806
CREATED:20240926T123746Z
LAST-MODIFIED:20240926T123746Z
UID:6307-1733666400-1733679000@www.scouts-sintjan.be
SUMMARY:sint Jan
DESCRIPTION:
URL:https://www.scouts-sintjan.be/event/sint-jan/
CATEGORIES:Verkenners
END:VEVENT
END:VCALENDAR