BEGIN:VCALENDAR
VERSION:2.0
PRODID:-//Scouts Sint-Jan Oostende - ECPv6.0.9//NONSGML v1.0//EN
CALSCALE:GREGORIAN
METHOD:PUBLISH
X-ORIGINAL-URL:https://www.scouts-sintjan.be
X-WR-CALDESC:Events for Scouts Sint-Jan Oostende
REFRESH-INTERVAL;VALUE=DURATION:PT1H
X-Robots-Tag:noindex
X-PUBLISHED-TTL:PT1H
BEGIN:VTIMEZONE
TZID:Europe/Brussels
BEGIN:DAYLIGHT
TZOFFSETFROM:+0100
TZOFFSETTO:+0200
TZNAME:CEST
DTSTART:20240331T010000
END:DAYLIGHT
BEGIN:STANDARD
TZOFFSETFROM:+0200
TZOFFSETTO:+0100
TZNAME:CET
DTSTART:20241027T010000
END:STANDARD
END:VTIMEZONE
BEGIN:VEVENT
DTSTART;TZID=Europe/Brussels:20241201T134500
DTEND;TZID=Europe/Brussels:20241201T173000
DTSTAMP:20260422T210806
CREATED:20240926T081148Z
LAST-MODIFIED:20240926T081148Z
UID:6277-1733060700-1733074200@www.scouts-sintjan.be
SUMMARY:Hunger games: Cathing fire
DESCRIPTION:Wie Vuurt het langst?
URL:https://www.scouts-sintjan.be/event/hunger-games-cathing-fire/
LOCATION:Scouts Sint-Jan\, Lindenlaan 30 B\, Oostende\, 8400\, België
CATEGORIES:Jongverkenners
END:VEVENT
BEGIN:VEVENT
DTSTART;TZID=Europe/Brussels:20241201T134500
DTEND;TZID=Europe/Brussels:20241201T173000
DTSTAMP:20260422T210806
CREATED:20241021T063108Z
LAST-MODIFIED:20241021T075545Z
UID:6432-1733060700-1733074200@www.scouts-sintjan.be
SUMMARY:De slimste welp
DESCRIPTION:Wie o wie is de slimste van de welpen?
URL:https://www.scouts-sintjan.be/event/de-slimste-welp/
LOCATION:Scouts Sint-Jan\, Lindenlaan 30 B\, Oostende\, 8400\, België
CATEGORIES:Welpen
END:VEVENT
BEGIN:VEVENT
DTSTART;TZID=Europe/Brussels:20241201T134500
DTEND;TZID=Europe/Brussels:20241201T173000
DTSTAMP:20260422T210806
CREATED:20241104T205243Z
LAST-MODIFIED:20241104T205243Z
UID:6481-1733060700-1733074200@www.scouts-sintjan.be
SUMMARY:Cinema Sint-Jan
DESCRIPTION:
URL:https://www.scouts-sintjan.be/event/cinema-sint-jan/
LOCATION:Scouts Sint-Jan\, Lindenlaan 30 B\, Oostende\, 8400\, België
CATEGORIES:Kapoenen
END:VEVENT
BEGIN:VEVENT
DTSTART;TZID=Europe/Brussels:20241201T140000
DTEND;TZID=Europe/Brussels:20241201T173000
DTSTAMP:20260422T210806
CREATED:20240903T180719Z
LAST-MODIFIED:20240927T115515Z
UID:6240-1733061600-1733074200@www.scouts-sintjan.be
SUMMARY:ctrl C ctrl V
DESCRIPTION:‘T is in computertaal
URL:https://www.scouts-sintjan.be/event/ctrl-c-ctrl-v/
LOCATION:Scouts Sint-Jan\, Lindenlaan 30 B\, Oostende\, 8400\, België
CATEGORIES:Wolven
END:VEVENT
BEGIN:VEVENT
DTSTART;TZID=Europe/Brussels:20241201T140000
DTEND;TZID=Europe/Brussels:20241201T173000
DTSTAMP:20260422T210806
CREATED:20240926T123528Z
LAST-MODIFIED:20240926T124140Z
UID:6305-1733061600-1733074200@www.scouts-sintjan.be
SUMMARY:verrassingsactivi
DESCRIPTION:
URL:https://www.scouts-sintjan.be/event/verrassingsactivi/
CATEGORIES:Verkenners
END:VEVENT
END:VCALENDAR