BEGIN:VCALENDAR
VERSION:2.0
PRODID:-//Scouts Sint-Jan Oostende - ECPv6.0.9//NONSGML v1.0//EN
CALSCALE:GREGORIAN
METHOD:PUBLISH
X-ORIGINAL-URL:https://www.scouts-sintjan.be
X-WR-CALDESC:Events for Scouts Sint-Jan Oostende
REFRESH-INTERVAL;VALUE=DURATION:PT1H
X-Robots-Tag:noindex
X-PUBLISHED-TTL:PT1H
BEGIN:VTIMEZONE
TZID:Europe/Brussels
BEGIN:DAYLIGHT
TZOFFSETFROM:+0100
TZOFFSETTO:+0200
TZNAME:CEST
DTSTART:20240331T010000
END:DAYLIGHT
BEGIN:STANDARD
TZOFFSETFROM:+0200
TZOFFSETTO:+0100
TZNAME:CET
DTSTART:20241027T010000
END:STANDARD
END:VTIMEZONE
BEGIN:VEVENT
DTSTART;TZID=Europe/Brussels:20241117T134500
DTEND;TZID=Europe/Brussels:20241117T173000
DTSTAMP:20260422T222606
CREATED:20240926T080533Z
LAST-MODIFIED:20240926T080533Z
UID:6272-1731851100-1731864600@www.scouts-sintjan.be
SUMMARY:Ow no i hope I don’t FALL
DESCRIPTION:Herfst appreciation post – pom en poem
URL:https://www.scouts-sintjan.be/event/ow-no-i-hope-i-dont-fall/
LOCATION:Scouts Sint-Jan\, Lindenlaan 30 B\, Oostende\, 8400\, België
CATEGORIES:Jongverkenners
END:VEVENT
BEGIN:VEVENT
DTSTART;TZID=Europe/Brussels:20241117T134500
DTEND;TZID=Europe/Brussels:20241117T173000
DTSTAMP:20260422T222606
CREATED:20241021T062150Z
LAST-MODIFIED:20241021T075545Z
UID:6424-1731851100-1731864600@www.scouts-sintjan.be
SUMMARY:Sint jan in the mix
DESCRIPTION:Jullie waren al eens koks nu zijn jullie bartenders ?
URL:https://www.scouts-sintjan.be/event/sint-jan-in-the-mix/
CATEGORIES:Welpen
END:VEVENT
BEGIN:VEVENT
DTSTART;TZID=Europe/Brussels:20241117T134500
DTEND;TZID=Europe/Brussels:20241117T173000
DTSTAMP:20260422T222606
CREATED:20241104T205019Z
LAST-MODIFIED:20241104T205019Z
UID:6477-1731851100-1731864600@www.scouts-sintjan.be
SUMMARY:Pannenkoekenspel
DESCRIPTION:
URL:https://www.scouts-sintjan.be/event/pannenkoekenspel-4/
LOCATION:Scouts Sint-Jan\, Lindenlaan 30 B\, Oostende\, 8400\, België
CATEGORIES:Kapoenen
END:VEVENT
BEGIN:VEVENT
DTSTART;TZID=Europe/Brussels:20241117T140000
DTEND;TZID=Europe/Brussels:20241117T173000
DTSTAMP:20260422T222606
CREATED:20240903T180509Z
LAST-MODIFIED:20240927T115618Z
UID:6235-1731852000-1731864600@www.scouts-sintjan.be
SUMMARY:Vorte spelen
DESCRIPTION:kruipen en vuil worden
URL:https://www.scouts-sintjan.be/event/das-pech-levensweg/
LOCATION:Scouts Sint-Jan\, Lindenlaan 30 B\, Oostende\, 8400\, België
CATEGORIES:Wolven
END:VEVENT
END:VCALENDAR