BEGIN:VCALENDAR
VERSION:2.0
PRODID:-//Scouts Sint-Jan Oostende - ECPv6.0.9//NONSGML v1.0//EN
CALSCALE:GREGORIAN
METHOD:PUBLISH
X-ORIGINAL-URL:https://www.scouts-sintjan.be
X-WR-CALDESC:Events for Scouts Sint-Jan Oostende
REFRESH-INTERVAL;VALUE=DURATION:PT1H
X-Robots-Tag:noindex
X-PUBLISHED-TTL:PT1H
BEGIN:VTIMEZONE
TZID:Europe/Brussels
BEGIN:DAYLIGHT
TZOFFSETFROM:+0100
TZOFFSETTO:+0200
TZNAME:CEST
DTSTART:20240331T010000
END:DAYLIGHT
BEGIN:STANDARD
TZOFFSETFROM:+0200
TZOFFSETTO:+0100
TZNAME:CET
DTSTART:20241027T010000
END:STANDARD
END:VTIMEZONE
BEGIN:VEVENT
DTSTART;TZID=Europe/Brussels:20241020T134500
DTEND;TZID=Europe/Brussels:20241020T173000
DTSTAMP:20260422T235509
CREATED:20240926T075814Z
LAST-MODIFIED:20240926T075814Z
UID:6266-1729431900-1729445400@www.scouts-sintjan.be
SUMMARY:Dit is m’n STAD\, m’n SQUAD \, JE WEET DAT
DESCRIPTION:Gouden bandjes en volle handjes –> Breng je fiets mee!
URL:https://www.scouts-sintjan.be/event/dit-is-mn-stad-mn-squad-je-weet-dat/
CATEGORIES:Jongverkenners
END:VEVENT
BEGIN:VEVENT
DTSTART;TZID=Europe/Brussels:20241020T134500
DTEND;TZID=Europe/Brussels:20241020T173000
DTSTAMP:20260422T235509
CREATED:20241011T080351Z
LAST-MODIFIED:20241011T080351Z
UID:6399-1729431900-1729445400@www.scouts-sintjan.be
SUMMARY:Schip ahoy piraatjes!
DESCRIPTION:Ga jij mee op zoek naar de schatkist? Maar pas op: er zijn kapers op de kust.
URL:https://www.scouts-sintjan.be/event/schip-ahoy-piraatjes/
LOCATION:Scouts Sint-Jan\, Lindenlaan 30 B\, Oostende\, 8400\, België
CATEGORIES:Kapoenen
END:VEVENT
BEGIN:VEVENT
DTSTART;TZID=Europe/Brussels:20241020T134500
DTEND;TZID=Europe/Brussels:20241020T173000
DTSTAMP:20260422T235509
CREATED:20241013T143748Z
LAST-MODIFIED:20241013T143748Z
UID:6408-1729431900-1729445400@www.scouts-sintjan.be
SUMMARY:Een kleine vampier
DESCRIPTION:Kom lekker mee griezelen
URL:https://www.scouts-sintjan.be/event/een-kleine-vampier/
LOCATION:Scouts Sint-Jan\, Lindenlaan 30 B\, Oostende\, 8400\, België
CATEGORIES:Welpen
END:VEVENT
BEGIN:VEVENT
DTSTART;TZID=Europe/Brussels:20241020T140000
DTEND;TZID=Europe/Brussels:20241020T173000
DTSTAMP:20260422T235509
CREATED:20240903T175717Z
LAST-MODIFIED:20240927T115904Z
UID:6226-1729432800-1729445400@www.scouts-sintjan.be
SUMMARY:Stadsspel
DESCRIPTION:Verwacht op je actie maar een reactie
URL:https://www.scouts-sintjan.be/event/stadsspel/
LOCATION:Scouts Sint-Jan\, Lindenlaan 30 B\, Oostende\, 8400\, België
CATEGORIES:Wolven
END:VEVENT
BEGIN:VEVENT
DTSTART;TZID=Europe/Brussels:20241020T140000
DTEND;TZID=Europe/Brussels:20241020T173000
DTSTAMP:20260422T235509
CREATED:20240926T121710Z
LAST-MODIFIED:20240926T121710Z
UID:6289-1729432800-1729445400@www.scouts-sintjan.be
SUMMARY:stadspel
DESCRIPTION:
URL:https://www.scouts-sintjan.be/event/stadspel-2/
CATEGORIES:Verkenners
END:VEVENT
END:VCALENDAR