BEGIN:VCALENDAR
VERSION:2.0
PRODID:-//Scouts Sint-Jan Oostende - ECPv6.0.9//NONSGML v1.0//EN
CALSCALE:GREGORIAN
METHOD:PUBLISH
X-ORIGINAL-URL:https://www.scouts-sintjan.be
X-WR-CALDESC:Events for Scouts Sint-Jan Oostende
REFRESH-INTERVAL;VALUE=DURATION:PT1H
X-Robots-Tag:noindex
X-PUBLISHED-TTL:PT1H
BEGIN:VTIMEZONE
TZID:Europe/Brussels
BEGIN:DAYLIGHT
TZOFFSETFROM:+0100
TZOFFSETTO:+0200
TZNAME:CEST
DTSTART:20240331T010000
END:DAYLIGHT
BEGIN:STANDARD
TZOFFSETFROM:+0200
TZOFFSETTO:+0100
TZNAME:CET
DTSTART:20241027T010000
END:STANDARD
END:VTIMEZONE
BEGIN:VEVENT
DTSTART;VALUE=DATE:20241013
DTEND;VALUE=DATE:20241014
DTSTAMP:20260422T235507
CREATED:20241011T080610Z
LAST-MODIFIED:20241011T080610Z
UID:6403-1728777600-1728863999@www.scouts-sintjan.be
SUMMARY:Geen activiteit!
DESCRIPTION:Onze kleine beesten mogen vandaag thuisblijven na vrijdag al dat feesten.
URL:https://www.scouts-sintjan.be/event/geen-activiteit-4/
CATEGORIES:Kapoenen
END:VEVENT
BEGIN:VEVENT
DTSTART;TZID=Europe/Brussels:20241013T133000
DTEND;TZID=Europe/Brussels:20241013T170000
DTSTAMP:20260422T235507
CREATED:20240926T121516Z
LAST-MODIFIED:20240926T121516Z
UID:6287-1728826200-1728838800@www.scouts-sintjan.be
SUMMARY:zwemtjeee
DESCRIPTION:locatie nog te bepalen en wordt dan door gegeven
URL:https://www.scouts-sintjan.be/event/zwemtjeee/
CATEGORIES:Verkenners
END:VEVENT
BEGIN:VEVENT
DTSTART;TZID=Europe/Brussels:20241013T134500
DTEND;TZID=Europe/Brussels:20241013T173000
DTSTAMP:20260422T235507
CREATED:20240926T075315Z
LAST-MODIFIED:20240926T081623Z
UID:6264-1728827100-1728840600@www.scouts-sintjan.be
SUMMARY:Haut cuisine a la crépe
DESCRIPTION:Drinken\, bloemen\, bakken en snoepen
URL:https://www.scouts-sintjan.be/event/haut-cuisine-a-la-crepe/
LOCATION:Scouts Sint-Jan\, Lindenlaan 30 B\, Oostende\, 8400\, België
CATEGORIES:Jongverkenners
END:VEVENT
BEGIN:VEVENT
DTSTART;TZID=Europe/Brussels:20241013T140000
DTEND;TZID=Europe/Brussels:20241013T173000
DTSTAMP:20260422T235507
CREATED:20240903T175624Z
LAST-MODIFIED:20240927T115942Z
UID:6224-1728828000-1728840600@www.scouts-sintjan.be
SUMMARY:Schipbreukeling
DESCRIPTION:Schipbreukeling\, vloer is lava\, … gewoon de voetjes van de grond houden.
URL:https://www.scouts-sintjan.be/event/schipbreukeling/
LOCATION:Scouts Sint-Jan\, Lindenlaan 30 B\, Oostende\, 8400\, België
CATEGORIES:Wolven
END:VEVENT
END:VCALENDAR