BEGIN:VCALENDAR
VERSION:2.0
PRODID:-//Scouts Sint-Jan Oostende - ECPv6.0.9//NONSGML v1.0//EN
CALSCALE:GREGORIAN
METHOD:PUBLISH
X-ORIGINAL-URL:https://www.scouts-sintjan.be
X-WR-CALDESC:Events for Scouts Sint-Jan Oostende
REFRESH-INTERVAL;VALUE=DURATION:PT1H
X-Robots-Tag:noindex
X-PUBLISHED-TTL:PT1H
BEGIN:VTIMEZONE
TZID:Europe/Brussels
BEGIN:DAYLIGHT
TZOFFSETFROM:+0100
TZOFFSETTO:+0200
TZNAME:CEST
DTSTART:20240331T010000
END:DAYLIGHT
BEGIN:STANDARD
TZOFFSETFROM:+0200
TZOFFSETTO:+0100
TZNAME:CET
DTSTART:20241027T010000
END:STANDARD
END:VTIMEZONE
BEGIN:VEVENT
DTSTART;TZID=Europe/Brussels:20241006T000000
DTEND;TZID=Europe/Brussels:20241006T233000
DTSTAMP:20260422T235509
CREATED:20240926T121111Z
LAST-MODIFIED:20240926T121111Z
UID:6285-1728172800-1728257400@www.scouts-sintjan.be
SUMMARY:marathon en centjes
DESCRIPTION:alle info volgt nog
URL:https://www.scouts-sintjan.be/event/marathon-en-centjes/
CATEGORIES:Verkenners
END:VEVENT
BEGIN:VEVENT
DTSTART;TZID=Europe/Brussels:20241006T134500
DTEND;TZID=Europe/Brussels:20241006T173000
DTSTAMP:20260422T235509
CREATED:20240926T074957Z
LAST-MODIFIED:20240926T074957Z
UID:6262-1728222300-1728235800@www.scouts-sintjan.be
SUMMARY:Bicycletta con parmigano
DESCRIPTION:Van punt A naar punt B = W’s in de Chat –> Breng je fiets mee!
URL:https://www.scouts-sintjan.be/event/bicycletta-con-parmigano/
LOCATION:Scouts Sint-Jan\, Lindenlaan 30 B\, Oostende\, 8400\, België
CATEGORIES:Jongverkenners
END:VEVENT
BEGIN:VEVENT
DTSTART;TZID=Europe/Brussels:20241006T140000
DTEND;TZID=Europe/Brussels:20241006T173000
DTSTAMP:20260422T235509
CREATED:20240903T175500Z
LAST-MODIFIED:20240927T120013Z
UID:6222-1728223200-1728235800@www.scouts-sintjan.be
SUMMARY:Wie is de alphawolf?
DESCRIPTION:AN tegen Ellen
URL:https://www.scouts-sintjan.be/event/wie-is-de-alphawolf/
LOCATION:Scouts Sint-Jan\, Lindenlaan 30 B\, Oostende\, 8400\, België
CATEGORIES:Wolven
END:VEVENT
END:VCALENDAR