BEGIN:VCALENDAR
VERSION:2.0
PRODID:-//Scouts Sint-Jan Oostende - ECPv6.0.9//NONSGML v1.0//EN
CALSCALE:GREGORIAN
METHOD:PUBLISH
X-ORIGINAL-URL:https://www.scouts-sintjan.be
X-WR-CALDESC:Events for Scouts Sint-Jan Oostende
REFRESH-INTERVAL;VALUE=DURATION:PT1H
X-Robots-Tag:noindex
X-PUBLISHED-TTL:PT1H
BEGIN:VTIMEZONE
TZID:Europe/Brussels
BEGIN:DAYLIGHT
TZOFFSETFROM:+0100
TZOFFSETTO:+0200
TZNAME:CEST
DTSTART:20240331T010000
END:DAYLIGHT
BEGIN:STANDARD
TZOFFSETFROM:+0200
TZOFFSETTO:+0100
TZNAME:CET
DTSTART:20241027T010000
END:STANDARD
END:VTIMEZONE
BEGIN:VEVENT
DTSTART;TZID=Europe/Brussels:20240519T130000
DTEND;TZID=Europe/Brussels:20240519T173000
DTSTAMP:20260423T061024
CREATED:20240131T102934Z
LAST-MODIFIED:20240131T102934Z
UID:6119-1716123600-1716139800@www.scouts-sintjan.be
SUMMARY:reis rond de scouts
DESCRIPTION:geen afscheid\, maar tot op kamp (;
URL:https://www.scouts-sintjan.be/event/reis-rond-de-scouts/
LOCATION:Scouts Sint-Jan\, Lindenlaan 30 B\, Oostende\, 8400\, België
CATEGORIES:Kapoenen
END:VEVENT
BEGIN:VEVENT
DTSTART;TZID=Europe/Brussels:20240519T134500
DTEND;TZID=Europe/Brussels:20240519T173000
DTSTAMP:20260423T061024
CREATED:20231107T111437Z
LAST-MODIFIED:20231107T111437Z
UID:6034-1716126300-1716139800@www.scouts-sintjan.be
SUMMARY:Mannen en minnen van de zeemeer
DESCRIPTION:Splish splesh splash
URL:https://www.scouts-sintjan.be/event/mannen-en-minnen-van-de-zeemeer/
LOCATION:Scouts Sint-Jan\, Lindenlaan 30 B\, Oostende\, 8400\, België
CATEGORIES:Welpen
END:VEVENT
BEGIN:VEVENT
DTSTART;TZID=Europe/Brussels:20240519T134500
DTEND;TZID=Europe/Brussels:20240519T173000
DTSTAMP:20260423T061024
CREATED:20240206T113258Z
LAST-MODIFIED:20240206T113258Z
UID:6139-1716126300-1716139800@www.scouts-sintjan.be
SUMMARY:Wie is de grappenmaker van de Bingo club
DESCRIPTION:
URL:https://www.scouts-sintjan.be/event/wie-is-de-grappenmaker-van-de-bingo-club/
LOCATION:Scouts Sint-Jan\, Lindenlaan 30 B\, Oostende\, 8400\, België
CATEGORIES:Wolven
END:VEVENT
BEGIN:VEVENT
DTSTART;TZID=Europe/Brussels:20240519T140000
DTEND;TZID=Europe/Brussels:20240519T173000
DTSTAMP:20260423T061024
CREATED:20240126T150456Z
LAST-MODIFIED:20240126T150456Z
UID:6088-1716127200-1716139800@www.scouts-sintjan.be
SUMMARY:Aqualympics
DESCRIPTION:fret zweet
URL:https://www.scouts-sintjan.be/event/aqualympics-2/
LOCATION:Scouts Sint-Jan\, Lindenlaan 30 B\, Oostende\, 8400\, België
CATEGORIES:Verkenners
END:VEVENT
BEGIN:VEVENT
DTSTART;TZID=Europe/Brussels:20240519T140000
DTEND;TZID=Europe/Brussels:20240519T173000
DTSTAMP:20260423T061024
CREATED:20240210T160352Z
LAST-MODIFIED:20240210T160352Z
UID:6170-1716127200-1716139800@www.scouts-sintjan.be
SUMMARY:Waterspelletjes
DESCRIPTION:On joue avec l’eau car il fait très chaud
URL:https://www.scouts-sintjan.be/event/waterspelletjes-8/
CATEGORIES:Jongverkenners
END:VEVENT
END:VCALENDAR