BEGIN:VCALENDAR
VERSION:2.0
PRODID:-//Scouts Sint-Jan Oostende - ECPv6.0.9//NONSGML v1.0//EN
CALSCALE:GREGORIAN
METHOD:PUBLISH
X-ORIGINAL-URL:https://www.scouts-sintjan.be
X-WR-CALDESC:Events for Scouts Sint-Jan Oostende
REFRESH-INTERVAL;VALUE=DURATION:PT1H
X-Robots-Tag:noindex
X-PUBLISHED-TTL:PT1H
BEGIN:VTIMEZONE
TZID:Europe/Brussels
BEGIN:DAYLIGHT
TZOFFSETFROM:+0100
TZOFFSETTO:+0200
TZNAME:CEST
DTSTART:20240331T010000
END:DAYLIGHT
BEGIN:STANDARD
TZOFFSETFROM:+0200
TZOFFSETTO:+0100
TZNAME:CET
DTSTART:20241027T010000
END:STANDARD
END:VTIMEZONE
BEGIN:VEVENT
DTSTART;TZID=Europe/Brussels:20240512T130000
DTEND;TZID=Europe/Brussels:20240512T173000
DTSTAMP:20260423T061024
CREATED:20240131T102856Z
LAST-MODIFIED:20240131T102856Z
UID:6117-1715518800-1715535000@www.scouts-sintjan.be
SUMMARY:waterspelletjes
DESCRIPTION:spieter spetter spater
URL:https://www.scouts-sintjan.be/event/waterspelletjes-7/
LOCATION:Scouts Sint-Jan\, Lindenlaan 30 B\, Oostende\, 8400\, België
CATEGORIES:Kapoenen
END:VEVENT
BEGIN:VEVENT
DTSTART;TZID=Europe/Brussels:20240512T134500
DTEND;TZID=Europe/Brussels:20240512T173000
DTSTAMP:20260423T061024
CREATED:20231107T111347Z
LAST-MODIFIED:20231107T111347Z
UID:6032-1715521500-1715535000@www.scouts-sintjan.be
SUMMARY:Verfballetjes en blaaspijpen
DESCRIPTION:Piew Piew
URL:https://www.scouts-sintjan.be/event/verfballetjes-en-blaaspijpen/
LOCATION:Scouts Sint-Jan\, Lindenlaan 30 B\, Oostende\, 8400\, België
CATEGORIES:Welpen
END:VEVENT
BEGIN:VEVENT
DTSTART;TZID=Europe/Brussels:20240512T134500
DTEND;TZID=Europe/Brussels:20240512T173000
DTSTAMP:20260423T061024
CREATED:20240206T113105Z
LAST-MODIFIED:20240206T113105Z
UID:6137-1715521500-1715535000@www.scouts-sintjan.be
SUMMARY:Aakwadjiem time
DESCRIPTION:
URL:https://www.scouts-sintjan.be/event/aakwadjiem-time/
LOCATION:Scouts Sint-Jan\, Lindenlaan 30 B\, Oostende\, 8400\, België
CATEGORIES:Wolven
END:VEVENT
BEGIN:VEVENT
DTSTART;TZID=Europe/Brussels:20240512T140000
DTEND;TZID=Europe/Brussels:20240512T173000
DTSTAMP:20260423T061024
CREATED:20240126T150414Z
LAST-MODIFIED:20240126T150414Z
UID:6086-1715522400-1715535000@www.scouts-sintjan.be
SUMMARY:Monopoly Go en Co
DESCRIPTION:fret dobbelstenen
URL:https://www.scouts-sintjan.be/event/monopoly-go-en-co/
CATEGORIES:Verkenners
END:VEVENT
BEGIN:VEVENT
DTSTART;TZID=Europe/Brussels:20240512T140000
DTEND;TZID=Europe/Brussels:20240512T173000
DTSTAMP:20260423T061024
CREATED:20240210T160223Z
LAST-MODIFIED:20240210T160223Z
UID:6168-1715522400-1715535000@www.scouts-sintjan.be
SUMMARY:Battle of the switched sexes
DESCRIPTION:Ik identificeer me als … Het winnende team?
URL:https://www.scouts-sintjan.be/event/battle-of-the-switched-sexes/
CATEGORIES:Jongverkenners
END:VEVENT
END:VCALENDAR