BEGIN:VCALENDAR
VERSION:2.0
PRODID:-//Scouts Sint-Jan Oostende - ECPv6.0.9//NONSGML v1.0//EN
CALSCALE:GREGORIAN
METHOD:PUBLISH
X-ORIGINAL-URL:https://www.scouts-sintjan.be
X-WR-CALDESC:Events for Scouts Sint-Jan Oostende
REFRESH-INTERVAL;VALUE=DURATION:PT1H
X-Robots-Tag:noindex
X-PUBLISHED-TTL:PT1H
BEGIN:VTIMEZONE
TZID:Europe/Brussels
BEGIN:DAYLIGHT
TZOFFSETFROM:+0100
TZOFFSETTO:+0200
TZNAME:CEST
DTSTART:20240331T010000
END:DAYLIGHT
BEGIN:STANDARD
TZOFFSETFROM:+0200
TZOFFSETTO:+0100
TZNAME:CET
DTSTART:20241027T010000
END:STANDARD
END:VTIMEZONE
BEGIN:VEVENT
DTSTART;VALUE=DATE:20240426
DTEND;VALUE=DATE:20240429
DTSTAMP:20260423T073150
CREATED:20231107T111209Z
LAST-MODIFIED:20231107T111209Z
UID:6028-1714089600-1714348799@www.scouts-sintjan.be
SUMMARY:Klein kamp
DESCRIPTION:
URL:https://www.scouts-sintjan.be/event/klein-kamp-11/
CATEGORIES:Welpen
END:VEVENT
BEGIN:VEVENT
DTSTART;VALUE=DATE:20240426
DTEND;VALUE=DATE:20240429
DTSTAMP:20260423T073150
CREATED:20240131T102738Z
LAST-MODIFIED:20240131T102738Z
UID:6113-1714089600-1714348799@www.scouts-sintjan.be
SUMMARY:Klein Kamp
DESCRIPTION:meer info volgt
URL:https://www.scouts-sintjan.be/event/klein-kamp-12/
CATEGORIES:Kapoenen
END:VEVENT
BEGIN:VEVENT
DTSTART;TZID=Europe/Brussels:20240426T180000
DTEND;TZID=Europe/Brussels:20240428T120000
DTSTAMP:20260423T073150
CREATED:20240210T155900Z
LAST-MODIFIED:20240210T155900Z
UID:6164-1714154400-1714305600@www.scouts-sintjan.be
SUMMARY:Klein Kamp
DESCRIPTION:
URL:https://www.scouts-sintjan.be/event/klein-kamp-13/
CATEGORIES:Jongverkenners
END:VEVENT
BEGIN:VEVENT
DTSTART;TZID=Europe/Brussels:20240427T140000
DTEND;TZID=Europe/Brussels:20240427T173000
DTSTAMP:20260423T073150
CREATED:20241203T163444Z
LAST-MODIFIED:20241203T163444Z
UID:6509-1714226400-1714239000@www.scouts-sintjan.be
SUMMARY:Tafelvuur dek je!
DESCRIPTION:Tenttouwen strek je!!
URL:https://www.scouts-sintjan.be/event/tafelvuur-dek-je/
LOCATION:Scouts Sint-Jan\, Lindenlaan 30 B\, Oostende\, 8400\, België
CATEGORIES:Wolven
END:VEVENT
END:VCALENDAR