BEGIN:VCALENDAR
VERSION:2.0
PRODID:-//Scouts Sint-Jan Oostende - ECPv6.0.9//NONSGML v1.0//EN
CALSCALE:GREGORIAN
METHOD:PUBLISH
X-WR-CALNAME:Scouts Sint-Jan Oostende
X-ORIGINAL-URL:https://www.scouts-sintjan.be
X-WR-CALDESC:Events for Scouts Sint-Jan Oostende
REFRESH-INTERVAL;VALUE=DURATION:PT1H
X-Robots-Tag:noindex
X-PUBLISHED-TTL:PT1H
BEGIN:VTIMEZONE
TZID:Europe/Brussels
BEGIN:DAYLIGHT
TZOFFSETFROM:+0100
TZOFFSETTO:+0200
TZNAME:CEST
DTSTART:20240331T010000
END:DAYLIGHT
BEGIN:STANDARD
TZOFFSETFROM:+0200
TZOFFSETTO:+0100
TZNAME:CET
DTSTART:20241027T010000
END:STANDARD
END:VTIMEZONE
BEGIN:VEVENT
DTSTART;TZID=Europe/Brussels:20240421T130000
DTEND;TZID=Europe/Brussels:20240421T173000
DTSTAMP:20260423T073152
CREATED:20240131T102700Z
LAST-MODIFIED:20240131T102700Z
UID:6111-1713704400-1713720600@www.scouts-sintjan.be
SUMMARY:Kapoenenparty
DESCRIPTION:waar zijn al die dancemoves??
URL:https://www.scouts-sintjan.be/event/kapoenenparty/
LOCATION:Scouts Sint-Jan\, Lindenlaan 30 B\, Oostende\, 8400\, België
CATEGORIES:Kapoenen
END:VEVENT
BEGIN:VEVENT
DTSTART;TZID=Europe/Brussels:20240421T134500
DTEND;TZID=Europe/Brussels:20240421T173000
DTSTAMP:20260423T073152
CREATED:20240206T112727Z
LAST-MODIFIED:20240206T112727Z
UID:6133-1713707100-1713720600@www.scouts-sintjan.be
SUMMARY:Ter land Ter zee en in de lucht part 2
DESCRIPTION:Trotseer de heuvels met je zelfgemaakte droomfiets
URL:https://www.scouts-sintjan.be/event/ter-land-ter-zee-en-in-de-lucht-part-2/
LOCATION:Scouts Sint-Jan\, Lindenlaan 30 B\, Oostende\, 8400\, België
CATEGORIES:Wolven
END:VEVENT
BEGIN:VEVENT
DTSTART;TZID=Europe/Brussels:20240421T140000
DTEND;TZID=Europe/Brussels:20240421T170000
DTSTAMP:20260423T073152
CREATED:20231107T111132Z
LAST-MODIFIED:20231107T111132Z
UID:6025-1713708000-1713718800@www.scouts-sintjan.be
SUMMARY:Tik tak tik tak tik tak...
DESCRIPTION:De bossen zijn onveilig door de tikkende bom!\nDe activiteit gaat door in ‘t bosje van Oostende\, we spreken om 14u af aan het Bosjoenk
URL:https://www.scouts-sintjan.be/event/tik-tak-tik-tak-tik-tak/
LOCATION:Maria Hendrikapark / ‘t bosje\, Maria Hendrikapark\, Oostende\, West-Vlaanderen\, 8400\, België
CATEGORIES:Welpen
END:VEVENT
BEGIN:VEVENT
DTSTART;TZID=Europe/Brussels:20240421T140000
DTEND;TZID=Europe/Brussels:20240421T173000
DTSTAMP:20260423T073152
CREATED:20240126T150239Z
LAST-MODIFIED:20240126T150239Z
UID:6082-1713708000-1713720600@www.scouts-sintjan.be
SUMMARY:among us
DESCRIPTION:fret wie
URL:https://www.scouts-sintjan.be/event/among-us/
CATEGORIES:Verkenners
END:VEVENT
BEGIN:VEVENT
DTSTART;TZID=Europe/Brussels:20240421T140000
DTEND;TZID=Europe/Brussels:20240421T173000
DTSTAMP:20260423T073152
CREATED:20240210T155721Z
LAST-MODIFIED:20240210T155721Z
UID:6162-1713708000-1713720600@www.scouts-sintjan.be
SUMMARY:Heavy games
DESCRIPTION:HEAVYYYYY GAMESSSS!!!!
URL:https://www.scouts-sintjan.be/event/heavy-games-4/
CATEGORIES:Jongverkenners
END:VEVENT
END:VCALENDAR