BEGIN:VCALENDAR
VERSION:2.0
PRODID:-//Scouts Sint-Jan Oostende - ECPv6.0.9//NONSGML v1.0//EN
CALSCALE:GREGORIAN
METHOD:PUBLISH
X-ORIGINAL-URL:https://www.scouts-sintjan.be
X-WR-CALDESC:Events for Scouts Sint-Jan Oostende
REFRESH-INTERVAL;VALUE=DURATION:PT1H
X-Robots-Tag:noindex
X-PUBLISHED-TTL:PT1H
BEGIN:VTIMEZONE
TZID:Europe/Brussels
BEGIN:DAYLIGHT
TZOFFSETFROM:+0100
TZOFFSETTO:+0200
TZNAME:CEST
DTSTART:20240331T010000
END:DAYLIGHT
BEGIN:STANDARD
TZOFFSETFROM:+0200
TZOFFSETTO:+0100
TZNAME:CET
DTSTART:20241027T010000
END:STANDARD
END:VTIMEZONE
BEGIN:VEVENT
DTSTART;TZID=Europe/Brussels:20240412T173000
DTEND;TZID=Europe/Brussels:20240414T110000
DTSTAMP:20260423T073150
CREATED:20240210T155335Z
LAST-MODIFIED:20240210T155335Z
UID:6160-1712943000-1713092400@www.scouts-sintjan.be
SUMMARY:jongverkenner weekend
DESCRIPTION:Meer info volgt nog!
URL:https://www.scouts-sintjan.be/event/jongverkenner-weekend/
CATEGORIES:Jongverkenners
END:VEVENT
BEGIN:VEVENT
DTSTART;TZID=Europe/Brussels:20240414T120000
DTEND;TZID=Europe/Brussels:20240414T170000
DTSTAMP:20260423T073150
CREATED:20240126T150215Z
LAST-MODIFIED:20240129T165501Z
UID:6080-1713096000-1713114000@www.scouts-sintjan.be
SUMMARY:viaje en balsa
DESCRIPTION:51.221406\, 2.922957 we zien jullie daar om 12u! \nVergeet zeker geen verse kleren en een handdoek mee te brengen xp
URL:https://www.scouts-sintjan.be/event/viaje-en-balsa/
CATEGORIES:Verkenners
END:VEVENT
BEGIN:VEVENT
DTSTART;TZID=Europe/Brussels:20240414T130000
DTEND;TZID=Europe/Brussels:20240414T173000
DTSTAMP:20260423T073150
CREATED:20240131T102612Z
LAST-MODIFIED:20240412T131647Z
UID:6109-1713099600-1713115800@www.scouts-sintjan.be
SUMMARY:verassingspel
DESCRIPTION:
URL:https://www.scouts-sintjan.be/event/pannenkoekenspel-3/
LOCATION:Scouts Sint-Jan\, Lindenlaan 30 B\, Oostende\, 8400\, België
CATEGORIES:Kapoenen
END:VEVENT
BEGIN:VEVENT
DTSTART;TZID=Europe/Brussels:20240414T134500
DTEND;TZID=Europe/Brussels:20240414T173000
DTSTAMP:20260423T073150
CREATED:20240206T112622Z
LAST-MODIFIED:20240206T112622Z
UID:6131-1713102300-1713115800@www.scouts-sintjan.be
SUMMARY:Ter land Ter zee en in de lucht part 1
DESCRIPTION:maak je eigen droomfiets
URL:https://www.scouts-sintjan.be/event/ter-land-ter-zee-en-in-de-lucht-part-1/
LOCATION:Scouts Sint-Jan\, Lindenlaan 30 B\, Oostende\, 8400\, België
CATEGORIES:Wolven
END:VEVENT
END:VCALENDAR