BEGIN:VCALENDAR
VERSION:2.0
PRODID:-//Scouts Sint-Jan Oostende - ECPv6.0.9//NONSGML v1.0//EN
CALSCALE:GREGORIAN
METHOD:PUBLISH
X-ORIGINAL-URL:https://www.scouts-sintjan.be
X-WR-CALDESC:Events for Scouts Sint-Jan Oostende
REFRESH-INTERVAL;VALUE=DURATION:PT1H
X-Robots-Tag:noindex
X-PUBLISHED-TTL:PT1H
BEGIN:VTIMEZONE
TZID:Europe/Brussels
BEGIN:DAYLIGHT
TZOFFSETFROM:+0100
TZOFFSETTO:+0200
TZNAME:CEST
DTSTART:20240331T010000
END:DAYLIGHT
BEGIN:STANDARD
TZOFFSETFROM:+0200
TZOFFSETTO:+0100
TZNAME:CET
DTSTART:20241027T010000
END:STANDARD
END:VTIMEZONE
BEGIN:VEVENT
DTSTART;TZID=Europe/Brussels:20240315T193000
DTEND;TZID=Europe/Brussels:20240316T103000
DTSTAMP:20260423T084726
CREATED:20240210T154142Z
LAST-MODIFIED:20240210T154142Z
UID:6156-1710531000-1710585000@www.scouts-sintjan.be
SUMMARY:Overnachting
DESCRIPTION:Durven\, rennen\, observeren\, plannen\, pauzeren\, intelligentie\, navigeren\, gevaar
URL:https://www.scouts-sintjan.be/event/overnachting-7/
CATEGORIES:Jongverkenners
END:VEVENT
END:VCALENDAR