BEGIN:VCALENDAR
VERSION:2.0
PRODID:-//Scouts Sint-Jan Oostende - ECPv6.0.9//NONSGML v1.0//EN
CALSCALE:GREGORIAN
METHOD:PUBLISH
X-WR-CALNAME:Scouts Sint-Jan Oostende
X-ORIGINAL-URL:https://www.scouts-sintjan.be
X-WR-CALDESC:Events for Scouts Sint-Jan Oostende
REFRESH-INTERVAL;VALUE=DURATION:PT1H
X-Robots-Tag:noindex
X-PUBLISHED-TTL:PT1H
BEGIN:VTIMEZONE
TZID:Europe/Brussels
BEGIN:DAYLIGHT
TZOFFSETFROM:+0100
TZOFFSETTO:+0200
TZNAME:CEST
DTSTART:20240331T010000
END:DAYLIGHT
BEGIN:STANDARD
TZOFFSETFROM:+0200
TZOFFSETTO:+0100
TZNAME:CET
DTSTART:20241027T010000
END:STANDARD
END:VTIMEZONE
BEGIN:VEVENT
DTSTART;TZID=Europe/Brussels:20240309T200000
DTEND;TZID=Europe/Brussels:20240310T040000
DTSTAMP:20260423T084714
CREATED:20240126T145919Z
LAST-MODIFIED:20240126T145919Z
UID:6072-1710014400-1710043200@www.scouts-sintjan.be
SUMMARY:streekbierenavond
DESCRIPTION:De verkenners organiseren op 9 maart hun jaarlijkse streekbierenavond! Kom zeker eens langs voor een echte streekbier en steun ons buitenlandskamp!!
URL:https://www.scouts-sintjan.be/event/streekbierenavond-2/
CATEGORIES:Algemeen
END:VEVENT
END:VCALENDAR