BEGIN:VCALENDAR
VERSION:2.0
PRODID:-//Scouts Sint-Jan Oostende - ECPv6.0.9//NONSGML v1.0//EN
CALSCALE:GREGORIAN
METHOD:PUBLISH
X-WR-CALNAME:Scouts Sint-Jan Oostende
X-ORIGINAL-URL:https://www.scouts-sintjan.be
X-WR-CALDESC:Events for Scouts Sint-Jan Oostende
REFRESH-INTERVAL;VALUE=DURATION:PT1H
X-Robots-Tag:noindex
X-PUBLISHED-TTL:PT1H
BEGIN:VTIMEZONE
TZID:Europe/Brussels
BEGIN:DAYLIGHT
TZOFFSETFROM:+0100
TZOFFSETTO:+0200
TZNAME:CEST
DTSTART:20240331T010000
END:DAYLIGHT
BEGIN:STANDARD
TZOFFSETFROM:+0200
TZOFFSETTO:+0100
TZNAME:CET
DTSTART:20241027T010000
END:STANDARD
END:VTIMEZONE
BEGIN:VEVENT
DTSTART;TZID=Europe/Brussels:20240303T130000
DTEND;TZID=Europe/Brussels:20240303T173000
DTSTAMP:20260423T084715
CREATED:20240131T102215Z
LAST-MODIFIED:20240131T102215Z
UID:6101-1709470800-1709487000@www.scouts-sintjan.be
SUMMARY:Schattenjagen
DESCRIPTION:veel goud en bling-bling
URL:https://www.scouts-sintjan.be/event/schattenjagen/
LOCATION:Scouts Sint-Jan\, Lindenlaan 30 B\, Oostende\, 8400\, België
CATEGORIES:Kapoenen
END:VEVENT
BEGIN:VEVENT
DTSTART;TZID=Europe/Brussels:20240303T134500
DTEND;TZID=Europe/Brussels:20240303T173000
DTSTAMP:20260423T084715
CREATED:20231107T105552Z
LAST-MODIFIED:20231107T105552Z
UID:6009-1709473500-1709487000@www.scouts-sintjan.be
SUMMARY:Leps ne trops
DESCRIPTION:Spert en spol
URL:https://www.scouts-sintjan.be/event/leps-ne-trops/
LOCATION:Scouts Sint-Jan\, Lindenlaan 30 B\, Oostende\, 8400\, België
CATEGORIES:Welpen
END:VEVENT
BEGIN:VEVENT
DTSTART;TZID=Europe/Brussels:20240303T134500
DTEND;TZID=Europe/Brussels:20240303T173000
DTSTAMP:20260423T084715
CREATED:20240206T111858Z
LAST-MODIFIED:20240206T111858Z
UID:6123-1709473500-1709487000@www.scouts-sintjan.be
SUMMARY:EcoQuest Oriëntatie en Opschoningsloop
DESCRIPTION:Kompas + Kaart + de Planeet mooi maken = awesome!
URL:https://www.scouts-sintjan.be/event/ecoquest-orientatie-en-opschoningsloop/
LOCATION:Scouts Sint-Jan\, Lindenlaan 30 B\, Oostende\, 8400\, België
CATEGORIES:Wolven
END:VEVENT
BEGIN:VEVENT
DTSTART;TZID=Europe/Brussels:20240303T140000
DTEND;TZID=Europe/Brussels:20240303T173000
DTSTAMP:20260423T084715
CREATED:20240126T145741Z
LAST-MODIFIED:20240126T145741Z
UID:6070-1709474400-1709487000@www.scouts-sintjan.be
SUMMARY:hells kitchen
DESCRIPTION:fret kak
URL:https://www.scouts-sintjan.be/event/hells-kitchen/
CATEGORIES:Verkenners
END:VEVENT
BEGIN:VEVENT
DTSTART;TZID=Europe/Brussels:20240303T140000
DTEND;TZID=Europe/Brussels:20240303T173000
DTSTAMP:20260423T084715
CREATED:20240210T153732Z
LAST-MODIFIED:20240210T153732Z
UID:6152-1709474400-1709487000@www.scouts-sintjan.be
SUMMARY:Bosspel
DESCRIPTION:In het bos of in de scouts\, Zenton zijn haar lijkt op een oerwoud.
URL:https://www.scouts-sintjan.be/event/bosspel/
CATEGORIES:Jongverkenners
END:VEVENT
END:VCALENDAR