BEGIN:VCALENDAR
VERSION:2.0
PRODID:-//Scouts Sint-Jan Oostende - ECPv6.0.9//NONSGML v1.0//EN
CALSCALE:GREGORIAN
METHOD:PUBLISH
X-ORIGINAL-URL:https://www.scouts-sintjan.be
X-WR-CALDESC:Events for Scouts Sint-Jan Oostende
REFRESH-INTERVAL;VALUE=DURATION:PT1H
X-Robots-Tag:noindex
X-PUBLISHED-TTL:PT1H
BEGIN:VTIMEZONE
TZID:Europe/Brussels
BEGIN:DAYLIGHT
TZOFFSETFROM:+0100
TZOFFSETTO:+0200
TZNAME:CEST
DTSTART:20240331T010000
END:DAYLIGHT
BEGIN:STANDARD
TZOFFSETFROM:+0200
TZOFFSETTO:+0100
TZNAME:CET
DTSTART:20241027T010000
END:STANDARD
END:VTIMEZONE
BEGIN:VEVENT
DTSTART;TZID=Europe/Brussels:20240211T134500
DTEND;TZID=Europe/Brussels:20240211T173000
DTSTAMP:20260423T095444
CREATED:20231106T093127Z
LAST-MODIFIED:20240210T174237Z
UID:5992-1707659100-1707672600@www.scouts-sintjan.be
SUMMARY:Komen eten
DESCRIPTION:Wie is de beste chef van de Wolven?
URL:https://www.scouts-sintjan.be/event/komen-eten-3/
LOCATION:Scouts Sint-Jan\, Lindenlaan 30 B\, Oostende\, 8400\, België
CATEGORIES:Wolven
END:VEVENT
BEGIN:VEVENT
DTSTART;TZID=Europe/Brussels:20240211T134500
DTEND;TZID=Europe/Brussels:20240211T173000
DTSTAMP:20260423T095444
CREATED:20231107T105143Z
LAST-MODIFIED:20231107T105143Z
UID:6003-1707659100-1707672600@www.scouts-sintjan.be
SUMMARY:Kus van de juf en een bank vooruit!
DESCRIPTION:Dikke kus aan onze tortelduifjes xxx jullie leiding
URL:https://www.scouts-sintjan.be/event/kus-van-de-juf-en-een-bank-vooruit/
LOCATION:Scouts Sint-Jan\, Lindenlaan 30 B\, Oostende\, 8400\, België
CATEGORIES:Welpen
END:VEVENT
BEGIN:VEVENT
DTSTART;TZID=Europe/Brussels:20240211T134500
DTEND;TZID=Europe/Brussels:20240211T173000
DTSTAMP:20260423T095444
CREATED:20240119T111048Z
LAST-MODIFIED:20240119T111048Z
UID:6052-1707659100-1707672600@www.scouts-sintjan.be
SUMMARY:movies @Sint-Jan
DESCRIPTION:Een snack in de hand en de voetjes onder het deken!
URL:https://www.scouts-sintjan.be/event/movies-sint-jan/
LOCATION:Scouts Sint-Jan\, Lindenlaan 30 B\, Oostende\, 8400\, België
CATEGORIES:Kapoenen
END:VEVENT
BEGIN:VEVENT
DTSTART;TZID=Europe/Brussels:20240211T140000
DTEND;TZID=Europe/Brussels:20240211T173000
DTSTAMP:20260423T095444
CREATED:20240126T145510Z
LAST-MODIFIED:20240126T145510Z
UID:6064-1707660000-1707672600@www.scouts-sintjan.be
SUMMARY:verrassingsspel
DESCRIPTION:fret toarte
URL:https://www.scouts-sintjan.be/event/verrassingsspel-2/
LOCATION:Scouts Sint-Jan\, Lindenlaan 30 B\, Oostende\, 8400\, België
CATEGORIES:Verkenners
END:VEVENT
BEGIN:VEVENT
DTSTART;TZID=Europe/Brussels:20240211T140000
DTEND;TZID=Europe/Brussels:20240211T173000
DTSTAMP:20260423T095444
CREATED:20240210T152657Z
LAST-MODIFIED:20240210T152905Z
UID:6146-1707660000-1707672600@www.scouts-sintjan.be
SUMMARY:Dokters zonder grenzen
DESCRIPTION:AAAH AAAH AAAH AAAH staying alive\, staying alive.
URL:https://www.scouts-sintjan.be/event/dokters-zonder-grenzen/
CATEGORIES:Jongverkenners
END:VEVENT
END:VCALENDAR