BEGIN:VCALENDAR
VERSION:2.0
PRODID:-//Scouts Sint-Jan Oostende - ECPv6.0.9//NONSGML v1.0//EN
CALSCALE:GREGORIAN
METHOD:PUBLISH
X-ORIGINAL-URL:https://www.scouts-sintjan.be
X-WR-CALDESC:Events for Scouts Sint-Jan Oostende
REFRESH-INTERVAL;VALUE=DURATION:PT1H
X-Robots-Tag:noindex
X-PUBLISHED-TTL:PT1H
BEGIN:VTIMEZONE
TZID:Europe/Brussels
BEGIN:DAYLIGHT
TZOFFSETFROM:+0100
TZOFFSETTO:+0200
TZNAME:CEST
DTSTART:20240331T010000
END:DAYLIGHT
BEGIN:STANDARD
TZOFFSETFROM:+0200
TZOFFSETTO:+0100
TZNAME:CET
DTSTART:20241027T010000
END:STANDARD
END:VTIMEZONE
BEGIN:VEVENT
DTSTART;TZID=Europe/Brussels:20240202T170000
DTEND;TZID=Europe/Brussels:20240202T180000
DTSTAMP:20260423T095435
CREATED:20240129T085124Z
LAST-MODIFIED:20240129T085124Z
UID:6090-1706893200-1706896800@www.scouts-sintjan.be
SUMMARY:hangtime
DESCRIPTION:en ik spring\, spring\, spriiiing…
URL:https://www.scouts-sintjan.be/event/hangtime-8/
LOCATION:Hangtime\, Fortstraat 128b\, Oostende\, 8400\, België
CATEGORIES:Kapoenen
END:VEVENT
BEGIN:VEVENT
DTSTART;TZID=Europe/Brussels:20240202T180000
DTEND;TZID=Europe/Brussels:20240202T190000
DTSTAMP:20260423T095435
CREATED:20231107T104732Z
LAST-MODIFIED:20240126T111215Z
UID:6001-1706896800-1706900400@www.scouts-sintjan.be
SUMMARY:Hangtime
DESCRIPTION:Lekker samen springen in Hangtime
URL:https://www.scouts-sintjan.be/event/hangtime-6/
LOCATION:Hangtime\, Fortstraat 128b\, Oostende\, 8400\, België
CATEGORIES:Welpen
END:VEVENT
BEGIN:VEVENT
DTSTART;TZID=Europe/Brussels:20240202T210000
DTEND;TZID=Europe/Brussels:20240202T220000
DTSTAMP:20260423T095435
CREATED:20240126T145434Z
LAST-MODIFIED:20240126T145434Z
UID:6062-1706907600-1706911200@www.scouts-sintjan.be
SUMMARY:hangtime
DESCRIPTION:springeuhhhhh\, meer info volgt nog
URL:https://www.scouts-sintjan.be/event/hangtime-7/
LOCATION:Hangtime\, Fortstraat 128b\, Oostende\, 8400\, België
CATEGORIES:Verkenners
END:VEVENT
END:VCALENDAR