BEGIN:VCALENDAR
VERSION:2.0
PRODID:-//Scouts Sint-Jan Oostende - ECPv6.0.9//NONSGML v1.0//EN
CALSCALE:GREGORIAN
METHOD:PUBLISH
X-ORIGINAL-URL:https://www.scouts-sintjan.be
X-WR-CALDESC:Events for Scouts Sint-Jan Oostende
REFRESH-INTERVAL;VALUE=DURATION:PT1H
X-Robots-Tag:noindex
X-PUBLISHED-TTL:PT1H
BEGIN:VTIMEZONE
TZID:Europe/Brussels
BEGIN:DAYLIGHT
TZOFFSETFROM:+0100
TZOFFSETTO:+0200
TZNAME:CEST
DTSTART:20240331T010000
END:DAYLIGHT
BEGIN:STANDARD
TZOFFSETFROM:+0200
TZOFFSETTO:+0100
TZNAME:CET
DTSTART:20241027T010000
END:STANDARD
END:VTIMEZONE
BEGIN:VEVENT
DTSTART;TZID=Europe/Brussels:20240128T134500
DTEND;TZID=Europe/Brussels:20240128T173000
DTSTAMP:20260423T112244
CREATED:20231106T092901Z
LAST-MODIFIED:20231106T092901Z
UID:5990-1706449500-1706463000@www.scouts-sintjan.be
SUMMARY:De grote Xander verrassingsshow
DESCRIPTION:Wow het is Xander
URL:https://www.scouts-sintjan.be/event/de-grote-xander-verrassingsshow/
LOCATION:Scouts Sint-Jan\, Lindenlaan 30 B\, Oostende\, 8400\, België
CATEGORIES:Wolven
END:VEVENT
BEGIN:VEVENT
DTSTART;TZID=Europe/Brussels:20240128T134500
DTEND;TZID=Europe/Brussels:20240128T173000
DTSTAMP:20260423T112244
CREATED:20231107T104516Z
LAST-MODIFIED:20231107T104516Z
UID:5999-1706449500-1706463000@www.scouts-sintjan.be
SUMMARY:Movie middag
DESCRIPTION:Snacks – kussentjes – dekentjes – 3D brillen
URL:https://www.scouts-sintjan.be/event/movie-middag/
LOCATION:Scouts Sint-Jan\, Lindenlaan 30 B\, Oostende\, 8400\, België
CATEGORIES:Welpen
END:VEVENT
BEGIN:VEVENT
DTSTART;TZID=Europe/Brussels:20240128T134500
DTEND;TZID=Europe/Brussels:20240128T173000
DTSTAMP:20260423T112244
CREATED:20240119T110840Z
LAST-MODIFIED:20240119T110840Z
UID:6049-1706449500-1706463000@www.scouts-sintjan.be
SUMMARY:DIY à la kapoen
DESCRIPTION:wie maakt de beste creaties?
URL:https://www.scouts-sintjan.be/event/diy-a-la-kapoen/
LOCATION:Scouts Sint-Jan\, Lindenlaan 30 B\, Oostende\, 8400\, België
CATEGORIES:Kapoenen
END:VEVENT
BEGIN:VEVENT
DTSTART;TZID=Europe/Brussels:20240128T140000
DTEND;TZID=Europe/Brussels:20240128T173000
DTSTAMP:20260423T112244
CREATED:20240126T145334Z
LAST-MODIFIED:20240126T145334Z
UID:6060-1706450400-1706463000@www.scouts-sintjan.be
SUMMARY:back to basics ofnie?
DESCRIPTION:fret herinneringen\, of tijd
URL:https://www.scouts-sintjan.be/event/back-to-basics-ofnie/
LOCATION:Scouts Sint-Jan\, Lindenlaan 30 B\, Oostende\, 8400\, België
CATEGORIES:Verkenners
END:VEVENT
END:VCALENDAR