BEGIN:VCALENDAR
VERSION:2.0
PRODID:-//Scouts Sint-Jan Oostende - ECPv6.0.9//NONSGML v1.0//EN
CALSCALE:GREGORIAN
METHOD:PUBLISH
X-WR-CALNAME:Scouts Sint-Jan Oostende
X-ORIGINAL-URL:https://www.scouts-sintjan.be
X-WR-CALDESC:Events for Scouts Sint-Jan Oostende
REFRESH-INTERVAL;VALUE=DURATION:PT1H
X-Robots-Tag:noindex
X-PUBLISHED-TTL:PT1H
BEGIN:VTIMEZONE
TZID:Europe/Brussels
BEGIN:DAYLIGHT
TZOFFSETFROM:+0100
TZOFFSETTO:+0200
TZNAME:CEST
DTSTART:20230326T010000
END:DAYLIGHT
BEGIN:STANDARD
TZOFFSETFROM:+0200
TZOFFSETTO:+0100
TZNAME:CET
DTSTART:20231029T010000
END:STANDARD
END:VTIMEZONE
BEGIN:VEVENT
DTSTART;TZID=Europe/Brussels:20230312T140000
DTEND;TZID=Europe/Brussels:20230312T170000
DTSTAMP:20260424T011604
CREATED:20230131T205747Z
LAST-MODIFIED:20230131T205747Z
UID:5657-1678629600-1678640400@www.scouts-sintjan.be
SUMMARY:Zwemmen
DESCRIPTION:
URL:https://www.scouts-sintjan.be/event/zwemmen-3/
LOCATION:zwembad oostende (Brigitte Becue)
CATEGORIES:Verkenners
END:VEVENT
BEGIN:VEVENT
DTSTART;TZID=Europe/Brussels:20230312T140000
DTEND;TZID=Europe/Brussels:20230312T173000
DTSTAMP:20260424T011604
CREATED:20221226T230849Z
LAST-MODIFIED:20221226T230849Z
UID:5578-1678629600-1678642200@www.scouts-sintjan.be
SUMMARY:Sport en spel Ravelijn
DESCRIPTION:
URL:https://www.scouts-sintjan.be/event/sport-en-spel-ravelijn/
LOCATION:Scouts Sint-Jan\, Lindenlaan 30 B\, Oostende\, 8400\, België
CATEGORIES:Jongverkenners
END:VEVENT
BEGIN:VEVENT
DTSTART;TZID=Europe/Brussels:20230312T140000
DTEND;TZID=Europe/Brussels:20230312T173000
DTSTAMP:20260424T011604
CREATED:20230127T161520Z
LAST-MODIFIED:20230127T162304Z
UID:5613-1678629600-1678642200@www.scouts-sintjan.be
SUMMARY:Down the Road
DESCRIPTION:
URL:https://www.scouts-sintjan.be/event/down-the-road/
LOCATION:Scouts Sint-Jan\, Lindenlaan 30 B\, Oostende\, 8400\, België
CATEGORIES:Wolven
END:VEVENT
BEGIN:VEVENT
DTSTART;TZID=Europe/Brussels:20230312T140000
DTEND;TZID=Europe/Brussels:20230312T173000
DTSTAMP:20260424T011604
CREATED:20230203T152912Z
LAST-MODIFIED:20230203T152912Z
UID:5682-1678629600-1678642200@www.scouts-sintjan.be
SUMMARY:pizzeria à la welp
DESCRIPTION:Wat is het beste recept voor en leuke namiddag?
URL:https://www.scouts-sintjan.be/event/pizzeria-a-la-welp/
CATEGORIES:Welpen
END:VEVENT
BEGIN:VEVENT
DTSTART;TZID=Europe/Brussels:20230312T140000
DTEND;TZID=Europe/Brussels:20230312T173000
DTSTAMP:20260424T011604
CREATED:20230206T191900Z
LAST-MODIFIED:20230312T103754Z
UID:5708-1678629600-1678642200@www.scouts-sintjan.be
SUMMARY:Zwemmen
DESCRIPTION:Meer info in de mail
URL:https://www.scouts-sintjan.be/event/het-grote-smurfenspel/
CATEGORIES:Kapoenen
END:VEVENT
END:VCALENDAR