BEGIN:VCALENDAR
VERSION:2.0
PRODID:-//Scouts Sint-Jan Oostende - ECPv6.0.9//NONSGML v1.0//EN
CALSCALE:GREGORIAN
METHOD:PUBLISH
X-ORIGINAL-URL:https://www.scouts-sintjan.be
X-WR-CALDESC:Events for Scouts Sint-Jan Oostende
REFRESH-INTERVAL;VALUE=DURATION:PT1H
X-Robots-Tag:noindex
X-PUBLISHED-TTL:PT1H
BEGIN:VTIMEZONE
TZID:Europe/Brussels
BEGIN:DAYLIGHT
TZOFFSETFROM:+0100
TZOFFSETTO:+0200
TZNAME:CEST
DTSTART:20230326T010000
END:DAYLIGHT
BEGIN:STANDARD
TZOFFSETFROM:+0200
TZOFFSETTO:+0100
TZNAME:CET
DTSTART:20231029T010000
END:STANDARD
END:VTIMEZONE
BEGIN:VEVENT
DTSTART;TZID=Europe/Brussels:20230219T134500
DTEND;TZID=Europe/Brussels:20230219T173000
DTSTAMP:20260424T023912
CREATED:20230131T205502Z
LAST-MODIFIED:20230131T210121Z
UID:5653-1676814300-1676827800@www.scouts-sintjan.be
SUMMARY:Vuile bosspelen
DESCRIPTION:“Ze gaan gewoon heel vuil worden” – Jarne
URL:https://www.scouts-sintjan.be/event/vuile-bosspelen/
CATEGORIES:Verkenners
END:VEVENT
BEGIN:VEVENT
DTSTART;TZID=Europe/Brussels:20230219T140000
DTEND;TZID=Europe/Brussels:20230219T173000
DTSTAMP:20260424T023912
CREATED:20221226T230709Z
LAST-MODIFIED:20221226T230709Z
UID:5574-1676815200-1676827800@www.scouts-sintjan.be
SUMMARY:Stratego bosje
DESCRIPTION:
URL:https://www.scouts-sintjan.be/event/stratego-bosje/
LOCATION:Scouts Sint-Jan\, Lindenlaan 30 B\, Oostende\, 8400\, België
CATEGORIES:Jongverkenners
END:VEVENT
BEGIN:VEVENT
DTSTART;TZID=Europe/Brussels:20230219T140000
DTEND;TZID=Europe/Brussels:20230219T173000
DTSTAMP:20260424T023912
CREATED:20230127T161404Z
LAST-MODIFIED:20230127T162208Z
UID:5609-1676815200-1676827800@www.scouts-sintjan.be
SUMMARY:Treasure Hunt
DESCRIPTION:
URL:https://www.scouts-sintjan.be/event/treasure-hunt/
LOCATION:Scouts Sint-Jan\, Lindenlaan 30 B\, Oostende\, 8400\, België
CATEGORIES:Wolven
END:VEVENT
BEGIN:VEVENT
DTSTART;TZID=Europe/Brussels:20230219T140000
DTEND;TZID=Europe/Brussels:20230219T173000
DTSTAMP:20260424T023912
CREATED:20230203T152603Z
LAST-MODIFIED:20230203T152603Z
UID:5678-1676815200-1676827800@www.scouts-sintjan.be
SUMMARY:Jungle book
DESCRIPTION:Wie wordt de koningin/koning van de jungle?
URL:https://www.scouts-sintjan.be/event/jungle-book/
CATEGORIES:Welpen
END:VEVENT
BEGIN:VEVENT
DTSTART;TZID=Europe/Brussels:20230219T140000
DTEND;TZID=Europe/Brussels:20230219T173000
DTSTAMP:20260424T023912
CREATED:20230206T190812Z
LAST-MODIFIED:20230206T190812Z
UID:5699-1676815200-1676827800@www.scouts-sintjan.be
SUMMARY:kapoenen on broadway
DESCRIPTION:3 2 1 ACTION !!
URL:https://www.scouts-sintjan.be/event/kapoenen-on-broadway/
CATEGORIES:Kapoenen
END:VEVENT
END:VCALENDAR