BEGIN:VCALENDAR
VERSION:2.0
PRODID:-//Scouts Sint-Jan Oostende - ECPv6.0.9//NONSGML v1.0//EN
CALSCALE:GREGORIAN
METHOD:PUBLISH
X-ORIGINAL-URL:https://www.scouts-sintjan.be
X-WR-CALDESC:Events for Scouts Sint-Jan Oostende
REFRESH-INTERVAL;VALUE=DURATION:PT1H
X-Robots-Tag:noindex
X-PUBLISHED-TTL:PT1H
BEGIN:VTIMEZONE
TZID:Europe/Brussels
BEGIN:DAYLIGHT
TZOFFSETFROM:+0100
TZOFFSETTO:+0200
TZNAME:CEST
DTSTART:20220327T010000
END:DAYLIGHT
BEGIN:STANDARD
TZOFFSETFROM:+0200
TZOFFSETTO:+0100
TZNAME:CET
DTSTART:20221030T010000
END:STANDARD
END:VTIMEZONE
BEGIN:VEVENT
DTSTART;TZID=Europe/Brussels:20221127T134500
DTEND;TZID=Europe/Brussels:20221127T173000
DTSTAMP:20260424T063745
CREATED:20220919T192516Z
LAST-MODIFIED:20220919T192516Z
UID:5385-1669556700-1669570200@www.scouts-sintjan.be
SUMMARY:Balleke slaan
DESCRIPTION:Haal de beste Tiger Woods in je los we zien het in het neon bos (Zie Mail)
URL:https://www.scouts-sintjan.be/event/balleke-slaan/
CATEGORIES:Jongverkenners
END:VEVENT
BEGIN:VEVENT
DTSTART;TZID=Europe/Brussels:20221127T140000
DTEND;TZID=Europe/Brussels:20221127T170000
DTSTAMP:20260424T063745
CREATED:20220926T071855Z
LAST-MODIFIED:20220926T071855Z
UID:5418-1669557600-1669568400@www.scouts-sintjan.be
SUMMARY::$  €
DESCRIPTION:De volgende die aan de beurt zijn\, willen ook een leuk BK.
URL:https://www.scouts-sintjan.be/event/e/
CATEGORIES:Verkenners
END:VEVENT
BEGIN:VEVENT
DTSTART;TZID=Europe/Brussels:20221127T140000
DTEND;TZID=Europe/Brussels:20221127T170000
DTSTAMP:20260424T063745
CREATED:20221008T144302Z
LAST-MODIFIED:20221008T144802Z
UID:5501-1669557600-1669568400@www.scouts-sintjan.be
SUMMARY:knutselen
DESCRIPTION:klieder kladder\, trek je verf short aan!
URL:https://www.scouts-sintjan.be/event/quiz/
LOCATION:Scouts Sint-Jan\, Lindenlaan 30 B\, Oostende\, 8400\, België
CATEGORIES:Kapoenen
END:VEVENT
BEGIN:VEVENT
DTSTART;TZID=Europe/Brussels:20221127T140000
DTEND;TZID=Europe/Brussels:20221127T173000
DTSTAMP:20260424T063745
CREATED:20220928T180247Z
LAST-MODIFIED:20220928T180247Z
UID:5461-1669557600-1669570200@www.scouts-sintjan.be
SUMMARY:Walk on Water Milk Inc
DESCRIPTION:We spreken af aan het zwembad Birgit Becue. \nMail voor inschrijving zal nog verstuurd worden.
URL:https://www.scouts-sintjan.be/event/walk-on-water-milk-inc/
LOCATION:zwembad oostende (Brigitte Becue)
CATEGORIES:Wolven
END:VEVENT
BEGIN:VEVENT
DTSTART;TZID=Europe/Brussels:20221127T140000
DTEND;TZID=Europe/Brussels:20221127T173000
DTSTAMP:20260424T063745
CREATED:20221008T144125Z
LAST-MODIFIED:20221008T144125Z
UID:5496-1669557600-1669570200@www.scouts-sintjan.be
SUMMARY:Heavy games
DESCRIPTION:Warning! Het kan wel eens uit de hand lopen.
URL:https://www.scouts-sintjan.be/event/heavy-games-2/
LOCATION:Scouts Sint-Jan\, Lindenlaan 30 B\, Oostende\, 8400\, België
CATEGORIES:Welpen
END:VEVENT
END:VCALENDAR