BEGIN:VCALENDAR
VERSION:2.0
PRODID:-//Scouts Sint-Jan Oostende - ECPv6.0.9//NONSGML v1.0//EN
CALSCALE:GREGORIAN
METHOD:PUBLISH
X-ORIGINAL-URL:https://www.scouts-sintjan.be
X-WR-CALDESC:Events for Scouts Sint-Jan Oostende
REFRESH-INTERVAL;VALUE=DURATION:PT1H
X-Robots-Tag:noindex
X-PUBLISHED-TTL:PT1H
BEGIN:VTIMEZONE
TZID:Europe/Brussels
BEGIN:DAYLIGHT
TZOFFSETFROM:+0100
TZOFFSETTO:+0200
TZNAME:CEST
DTSTART:20220327T010000
END:DAYLIGHT
BEGIN:STANDARD
TZOFFSETFROM:+0200
TZOFFSETTO:+0100
TZNAME:CET
DTSTART:20221030T010000
END:STANDARD
END:VTIMEZONE
BEGIN:VEVENT
DTSTART;TZID=Europe/Brussels:20221120T140000
DTEND;TZID=Europe/Brussels:20221120T173000
DTSTAMP:20260424T064303
CREATED:20220919T193104Z
LAST-MODIFIED:20220919T193104Z
UID:5398-1668952800-1668965400@www.scouts-sintjan.be
SUMMARY:Pijnbal
DESCRIPTION:Team blauw tegen team rood win je of ga je met de billen bloot
URL:https://www.scouts-sintjan.be/event/pijnbal/
LOCATION:Scouts Sint-Jan\, Lindenlaan 30 B\, Oostende\, 8400\, België
CATEGORIES:Jongverkenners
END:VEVENT
BEGIN:VEVENT
DTSTART;TZID=Europe/Brussels:20221120T140000
DTEND;TZID=Europe/Brussels:20221120T173000
DTSTAMP:20260424T064303
CREATED:20220926T071030Z
LAST-MODIFIED:20220926T071030Z
UID:5416-1668952800-1668965400@www.scouts-sintjan.be
SUMMARY:Touw en bouw
DESCRIPTION:haal de Bob de Bouwertjes in jullie al maar naar boven
URL:https://www.scouts-sintjan.be/event/touw-en-bouw/
CATEGORIES:Verkenners
END:VEVENT
BEGIN:VEVENT
DTSTART;TZID=Europe/Brussels:20221120T140000
DTEND;TZID=Europe/Brussels:20221120T173000
DTSTAMP:20260424T064303
CREATED:20220928T180120Z
LAST-MODIFIED:20220928T180120Z
UID:5458-1668952800-1668965400@www.scouts-sintjan.be
SUMMARY:Container Cup
DESCRIPTION:Mail zal nog verstuurd worden.
URL:https://www.scouts-sintjan.be/event/container-cup/
LOCATION:Sportcomplex
CATEGORIES:Wolven
END:VEVENT
END:VCALENDAR