BEGIN:VCALENDAR
VERSION:2.0
PRODID:-//Scouts Sint-Jan Oostende - ECPv6.0.9//NONSGML v1.0//EN
CALSCALE:GREGORIAN
METHOD:PUBLISH
X-WR-CALNAME:Scouts Sint-Jan Oostende
X-ORIGINAL-URL:https://www.scouts-sintjan.be
X-WR-CALDESC:Events for Scouts Sint-Jan Oostende
REFRESH-INTERVAL;VALUE=DURATION:PT1H
X-Robots-Tag:noindex
X-PUBLISHED-TTL:PT1H
BEGIN:VTIMEZONE
TZID:Europe/Brussels
BEGIN:DAYLIGHT
TZOFFSETFROM:+0100
TZOFFSETTO:+0200
TZNAME:CEST
DTSTART:20220327T010000
END:DAYLIGHT
BEGIN:STANDARD
TZOFFSETFROM:+0200
TZOFFSETTO:+0100
TZNAME:CET
DTSTART:20221030T010000
END:STANDARD
END:VTIMEZONE
BEGIN:VEVENT
DTSTART;TZID=Europe/Brussels:20221113T134500
DTEND;TZID=Europe/Brussels:20221113T173000
DTSTAMP:20260424T064303
CREATED:20220919T192312Z
LAST-MODIFIED:20220919T192312Z
UID:5383-1668347100-1668360600@www.scouts-sintjan.be
SUMMARY:Sjor je blauw
DESCRIPTION:Jij houd misschien niet van sjorren maar sjorren houd van jou
URL:https://www.scouts-sintjan.be/event/sjor-je-blauw/
LOCATION:Scouts Sint-Jan\, Lindenlaan 30 B\, Oostende\, 8400\, België
CATEGORIES:Jongverkenners
END:VEVENT
BEGIN:VEVENT
DTSTART;TZID=Europe/Brussels:20221113T134500
DTEND;TZID=Europe/Brussels:20221113T173000
DTSTAMP:20260424T064303
CREATED:20221105T190316Z
LAST-MODIFIED:20221105T190316Z
UID:5541-1668347100-1668360600@www.scouts-sintjan.be
SUMMARY:Quiz
DESCRIPTION:Wie is de slimste kapoen?
URL:https://www.scouts-sintjan.be/event/quiz-2/
LOCATION:Scouts Sint-Jan\, Lindenlaan 30 B\, Oostende\, 8400\, België
CATEGORIES:Kapoenen
END:VEVENT
BEGIN:VEVENT
DTSTART;TZID=Europe/Brussels:20221113T140000
DTEND;TZID=Europe/Brussels:20221113T173000
DTSTAMP:20260424T064303
CREATED:20220928T175941Z
LAST-MODIFIED:20220928T175941Z
UID:5455-1668348000-1668360600@www.scouts-sintjan.be
SUMMARY:Goof(l)y
DESCRIPTION:Mail zal nog verstuurd worden met informatie. \n 
URL:https://www.scouts-sintjan.be/event/goofly/
LOCATION:Gooly
CATEGORIES:Wolven
END:VEVENT
BEGIN:VEVENT
DTSTART;TZID=Europe/Brussels:20221113T140000
DTEND;TZID=Europe/Brussels:20221113T173000
DTSTAMP:20260424T064303
CREATED:20221008T142947Z
LAST-MODIFIED:20221008T142947Z
UID:5482-1668348000-1668360600@www.scouts-sintjan.be
SUMMARY:Gezelschapspelletjes
DESCRIPTION:We spelen Gans de dag op ons bord.
URL:https://www.scouts-sintjan.be/event/gezelschapspelletjes/
LOCATION:Scouts Sint-Jan\, Lindenlaan 30 B\, Oostende\, 8400\, België
CATEGORIES:Welpen
END:VEVENT
END:VCALENDAR