BEGIN:VCALENDAR
VERSION:2.0
PRODID:-//Scouts Sint-Jan Oostende - ECPv6.0.9//NONSGML v1.0//EN
CALSCALE:GREGORIAN
METHOD:PUBLISH
X-WR-CALNAME:Scouts Sint-Jan Oostende
X-ORIGINAL-URL:https://www.scouts-sintjan.be
X-WR-CALDESC:Events for Scouts Sint-Jan Oostende
REFRESH-INTERVAL;VALUE=DURATION:PT1H
X-Robots-Tag:noindex
X-PUBLISHED-TTL:PT1H
BEGIN:VTIMEZONE
TZID:Europe/Brussels
BEGIN:DAYLIGHT
TZOFFSETFROM:+0100
TZOFFSETTO:+0200
TZNAME:CEST
DTSTART:20220327T010000
END:DAYLIGHT
BEGIN:STANDARD
TZOFFSETFROM:+0200
TZOFFSETTO:+0100
TZNAME:CET
DTSTART:20221030T010000
END:STANDARD
END:VTIMEZONE
BEGIN:VEVENT
DTSTART;TZID=Europe/Brussels:20221028T190000
DTEND;TZID=Europe/Brussels:20221028T230000
DTSTAMP:20260424T075428
CREATED:20220926T070638Z
LAST-MODIFIED:20221024T165648Z
UID:5410-1666983600-1666998000@www.scouts-sintjan.be
SUMMARY:Fireball
DESCRIPTION:Brandjes blussen behoort nu ook al tot jullie takenpakket
URL:https://www.scouts-sintjan.be/event/fireball/
CATEGORIES:Verkenners
END:VEVENT
BEGIN:VEVENT
DTSTART;TZID=Europe/Brussels:20221028T190000
DTEND;TZID=Europe/Brussels:20221029T103000
DTSTAMP:20260424T075428
CREATED:20221008T144154Z
LAST-MODIFIED:20221008T144154Z
UID:5497-1666983600-1667039400@www.scouts-sintjan.be
SUMMARY:Overnachting
DESCRIPTION:informatie volgt via e-mail en brief! 🙂
URL:https://www.scouts-sintjan.be/event/overnachting-3/
LOCATION:Scouts Sint-Jan\, Lindenlaan 30 B\, Oostende\, 8400\, België
CATEGORIES:Kapoenen
END:VEVENT
END:VCALENDAR