BEGIN:VCALENDAR
VERSION:2.0
PRODID:-//Scouts Sint-Jan Oostende - ECPv6.0.9//NONSGML v1.0//EN
CALSCALE:GREGORIAN
METHOD:PUBLISH
X-WR-CALNAME:Scouts Sint-Jan Oostende
X-ORIGINAL-URL:https://www.scouts-sintjan.be
X-WR-CALDESC:Events for Scouts Sint-Jan Oostende
REFRESH-INTERVAL;VALUE=DURATION:PT1H
X-Robots-Tag:noindex
X-PUBLISHED-TTL:PT1H
BEGIN:VTIMEZONE
TZID:Europe/Brussels
BEGIN:DAYLIGHT
TZOFFSETFROM:+0100
TZOFFSETTO:+0200
TZNAME:CEST
DTSTART:20220327T010000
END:DAYLIGHT
BEGIN:STANDARD
TZOFFSETFROM:+0200
TZOFFSETTO:+0100
TZNAME:CET
DTSTART:20221030T010000
END:STANDARD
END:VTIMEZONE
BEGIN:VEVENT
DTSTART;TZID=Europe/Brussels:20221022T190000
DTEND;TZID=Europe/Brussels:20221023T100000
DTSTAMP:20260424T075427
CREATED:20220928T175617Z
LAST-MODIFIED:20220928T175617Z
UID:5451-1666465200-1666519200@www.scouts-sintjan.be
SUMMARY:Nachtraven
DESCRIPTION:Overnachting in de scoutslokalen. \nEr zal nog een mail verstuurd worden met de inschrijving. \nWolven moeten al gegeten hebben!
URL:https://www.scouts-sintjan.be/event/nachtraven/
LOCATION:Scouts Sint-Jan\, Lindenlaan 30 B\, Oostende\, 8400\, België
CATEGORIES:Wolven
END:VEVENT
BEGIN:VEVENT
DTSTART;TZID=Europe/Brussels:20221023T134500
DTEND;TZID=Europe/Brussels:20221023T173000
DTSTAMP:20260424T075427
CREATED:20220911T173009Z
LAST-MODIFIED:20220919T192146Z
UID:5377-1666532700-1666546200@www.scouts-sintjan.be
SUMMARY:Backberry
DESCRIPTION:Zie je sneller te voet of met de velo
URL:https://www.scouts-sintjan.be/event/backberry/
LOCATION:Scouts Sint-Jan\, Lindenlaan 30 B\, Oostende\, 8400\, België
CATEGORIES:Jongverkenners
END:VEVENT
BEGIN:VEVENT
DTSTART;TZID=Europe/Brussels:20221023T140000
DTEND;TZID=Europe/Brussels:20221023T173000
DTSTAMP:20260424T075427
CREATED:20220926T070443Z
LAST-MODIFIED:20220926T070443Z
UID:5408-1666533600-1666546200@www.scouts-sintjan.be
SUMMARY:Carousel
DESCRIPTION: ‘t is oktober he
URL:https://www.scouts-sintjan.be/event/carousel/
CATEGORIES:Verkenners
END:VEVENT
BEGIN:VEVENT
DTSTART;TZID=Europe/Brussels:20221023T140000
DTEND;TZID=Europe/Brussels:20221023T173000
DTSTAMP:20260424T075427
CREATED:20221008T142646Z
LAST-MODIFIED:20221008T142646Z
UID:5478-1666533600-1666546200@www.scouts-sintjan.be
SUMMARY:De Slimste Welp Ter Wereld
DESCRIPTION:T’is gebeurd … is de slimste welp ter wereld!
URL:https://www.scouts-sintjan.be/event/de-slimste-welp-ter-wereld/
LOCATION:Scouts Sint-Jan\, Lindenlaan 30 B\, Oostende\, 8400\, België
CATEGORIES:Welpen
END:VEVENT
BEGIN:VEVENT
DTSTART;TZID=Europe/Brussels:20221023T140000
DTEND;TZID=Europe/Brussels:20221023T173000
DTSTAMP:20260424T075427
CREATED:20221008T144008Z
LAST-MODIFIED:20221008T144008Z
UID:5493-1666533600-1666546200@www.scouts-sintjan.be
SUMMARY:eierspel
DESCRIPTION:kEI leuke acitivitEIt
URL:https://www.scouts-sintjan.be/event/eierspel/
LOCATION:Scouts Sint-Jan\, Lindenlaan 30 B\, Oostende\, 8400\, België
CATEGORIES:Kapoenen
END:VEVENT
END:VCALENDAR